Workbook
Name \0: '[1]PNT-QUOT-#3'!#REF!
Name \d: '[2]??-BLDG'!#REF!
Name \e: '[2]??-BLDG'!#REF!
Name \f: '[2]??-BLDG'!#REF!
Name \g: '[2]??-BLDG'!#REF!
Name \h: '[2]??-BLDG'!#REF!
Name \i: '[2]??-BLDG'!#REF!
Name \j: '[2]??-BLDG'!#REF!
Name \k: '[2]??-BLDG'!#REF!
Name \l: '[2]??-BLDG'!#REF!
Name \m: '[2]??-BLDG'!#REF!
Name \n: '[2]??-BLDG'!#REF!
Name \o: '[2]??-BLDG'!#REF!
Name \z: '[1]COAT&WRAP-QIOT-#3'!#REF!
Name _??: BlankMacro1
Name _??: BlankMacro1
Name _??: BlankMacro1
Name _??: BlankMacro1
Name _??: BlankMacro1
Name _??: BlankMacro1
Name _??: BlankMacro1
Name _??: BlankMacro1
Name _??????1: BlankMacro1
Name _??????1: BlankMacro1
Name _??????1: BlankMacro1
Name _??????1: BlankMacro1
Name _??????1: BlankMacro1
Name _??????1: BlankMacro1
Name _??????1: BlankMacro1
Name _??????1: BlankMacro1
Name _??????2: BlankMacro1
Name _??????2: BlankMacro1
Name _??????2: BlankMacro1
Name _??????2: BlankMacro1
Name _??????2: BlankMacro1
Name _??????2: BlankMacro1
Name _??????2: BlankMacro1
Name _??????2: BlankMacro1
Name _??????3: BlankMacro1
Name _??????3: BlankMacro1
Name _??????3: BlankMacro1
Name _??????3: BlankMacro1
Name _??????3: BlankMacro1
Name _??????3: BlankMacro1
Name _??????3: BlankMacro1
Name _??????3: BlankMacro1
Name _??????4: BlankMacro1
Name _??????4: BlankMacro1
Name _??????4: BlankMacro1
Name _??????4: BlankMacro1
Name _??????4: BlankMacro1
Name _??????4: BlankMacro1
Name _??????4: BlankMacro1
Name _??????4: BlankMacro1
Name _??????5: BlankMacro1
Name _??????5: BlankMacro1
Name _??????5: BlankMacro1
Name _??????5: BlankMacro1
Name _??????5: BlankMacro1
Name _??????5: BlankMacro1

Sheet TSTĐ
F1: CG 068978
F2: CT 34294
F3: Sở Tài Nguyên và Môi Trường tỉnh Đồng Nai
F4: 16/3/2017
F5: Công ty Cổ phần Đầu tư An Thịnh Đồng Nai
F6: Giấy chứng nhận quyền sử dụng đất quyền sở hữu nhà ở và tài sản khác gắn liền với đất
A7: PHIẾU ĐIỀU TRA, KHẢO SÁT TÀI SẢN THẨM ĐỊNH
A8: ="Thời điểm khảo sát: Ngày "&[150]TTCB!E1&" tháng "&[150]TTCB!F1&" năm 20"&[150]TTCB!G1 -> Thời điểm khảo sát: Ngày tháng năm 20
A11: I. TÀI SẢN; ĐẶC ĐIỂM CỦA TÀI SẢN THẨM ĐỊNH GIÁ
A12: Tên tài sản | B12: ="Giá trị công trình xây dựng và lợi thế quyền thuê đất trả tiền hàng năm (Đến ngày 08/08/2058) tại thửa đất số: "&C15&", tờ bản đồ số: "&E15&" có địa chỉ: "&F16&" theo "&F6&" số: "&F1&", số vào sổ cấp GCN: "&F2&" do "&F3&" cấp ngày "&F4&" cho "&F5 -> Giá trị công trình xây dựng và lợi thế quyền thuê đất trả tiền hàng năm (Đến ngày 08/08/2058) tại thửa đất số: 260, tờ bản đồ số: 15 có địa chỉ: xã Giang Điền, huyện Trảng Bom, tỉnh Đồng Nai theo Giấy chứng nhận quyền sử dụng đất quyền sở hữu nhà ở và tài sản khác gắn liền với đất số: CG 068978, số vào sổ cấp GCN: CT 34294 do Sở Tài Nguyên và Môi Trường tỉnh Đồng Nai cấp ngày 16/3/2017 cho Công ty Cổ phần Đầu tư An Thịnh Đồng Nai | F12: =B12 -> Giá trị công trình xây dựng và lợi thế quyền thuê đất trả tiền hàng năm (Đến ngày 08/08/2058) tại thửa đất số: 260, tờ bản đồ số: 15 có địa chỉ: xã Giang Điền, huyện Trảng Bom, tỉnh Đồng Nai theo Giấy chứng nhận quyền sử dụng đất quyền sở hữu nhà ở và tài sản khác gắn liền với đất số: CG 068978, số vào sổ cấp GCN: CT 34294 do Sở Tài Nguyên và Môi Trường tỉnh Đồng Nai cấp ngày 16/3/2017 cho Công ty Cổ phần Đầu tư An Thịnh Đồng Nai
A13: 1. | B13: Nội dung Thửa đất theo Hồ sơ pháp lý
A14: 1.1 | B14: Thửa đất: | G14: GG
A15: - | B15: Thửa đất số: | C15: 260 | D15: Tờ bản đồ số: | E15: 15
A16: - | B16: Địa chỉ: | C16: xã Giang Điền, huyện Trảng Bom, tỉnh Đồng Nai | F16: =C16 -> xã Giang Điền, huyện Trảng Bom, tỉnh Đồng Nai
A17: - | B17: Diện tích (m²): | C17: 11354 | D17: Hình thức sử dụng | E17: Sử dụng riêng | F17: sdsdsđ
A18: - | B18: Mục đích sử dụng: | C18: Đất khu công nghiệp | D18: Thời hạn sử dụng: | E18: Đến ngày 08/08/2058
A19: - | B19: Nguồn gốc sử dụng đất: | C19: Thuê đất trả tiền hàng năm của doanh nghiệp đầu tư hạ tầng khu công nghiệp (Tổng Công ty Cổ phần phát triển khu công nghiệp)
A20: - | B20: Thông tin quy hoạch: | C20: Tại thời điểm thẩm định giá, tổ thẩm định không thu thập được các thông tin quy hoạch liên quan đến thửa đất thẩm định giá.
A21: 1.2. | B21: Nhà ở
A22: - | B22: Loại nhà ở: | D22: Hình thức sở hữu:
A23: - | B23: Diện tích xây dựng (m²): | D23: Diện tích sử dụng (m²): | F23: =C30 -> Đường số 4, Khu công nghiệp Giang Điền, xã Giang Điền, huyện Trảng Bom, tỉnh Đồng Nai | I23: 192.5
A24: - | B24: Số tầng: | D24: Kết cấu: | F24: =C31 -> 0
A25: 1.3. | B25: Ghi chú: | F25: =1.6*3.35 -> 5.36
A26: - | B26: Một phần thửa đất thuộc quy hoạch đường giao thông chưa có Quyết định thông báo thu hồi đất bản đồ tỷ lệ 1/500 theo Quyết định số 85/QĐ-UBND thành phố Hà Nội ngày 01/6/2006.
A27: 1.3. | B27: Thông tin quy hoạch: | F27: =E23/C23 -> #DIV/0!
A28: 2. | B28: Về đất: | F28: =C30 -> Đường số 4, Khu công nghiệp Giang Điền, xã Giang Điền, huyện Trảng Bom, tỉnh Đồng Nai
A29: 2.1 | B29: Vị trí; Giao thông; | F29: =E33 -> 16m cả vỉa hè
A30: - | B30: Địa chỉ thực tế: | C30: Đường số 4, Khu công nghiệp Giang Điền, xã Giang Điền, huyện Trảng Bom, tỉnh Đồng Nai | F30: =E34 -> 0
A31: - | B31: Vị trí tài sản theo Bảng giá đất UBND tỉnh/TP: | F31: =E36 -> 0
A32: - | B32: Đường tiếp giáp chính: | C32: Đường số 4 (đường nhựa) | D32: Số mặt tiền: | E32: 2 mặt tiền
A33: - | B33: Mặt cắt đường/ngõ nhỏ nhất từ đường chính dẫn đến tài sản thẩm định giá: | C33: 16m cả vỉa hè | D33: Mặt cắt đường/ngõ trước mặt tài sản thẩm định giá: | E33: 16m cả vỉa hè
A34: - | B34: Khoảng cách đến trục đường chính: | F34: =C34 -> 0
A35: - | B35: Giao thông: | C35: =PPSS!F117 -> Đường nội khu
A36: - | B36: Các hướng tiếp giáp: | C36: - Hướng Đông: Tài sản tiếp giáp đường đôi rộng khoảng 16
A37: - | B37: Vị trí trên bản đồ vệ tinh: | F37: https://www.google.com/maps?q=21.017253875732422,105.795166015625&z=14&t=m&mapclient=embed
A38: -
A39: 2.2. | B39: Diện tích; Kích thước; Hình dáng
A40: - | B40: Diện tích sử dụng riêng thực tế (m²): | C40: =C17 -> 11354 | D40: Diện tích sử dụng chung thực tế (m²): | E40: -/-
A41: - | B41: Diện tích sử dụng đất ở phù hợp quy hoạch(m²): | C41: =C40 -> 11354 | D41: Diện tích sử dụng đất ở thuộc quy hoạch giao thông (m²): | E41: 0
A42: - | B42: KT mặt tiền (m): | C42: 67.17 | D42: Chiều sâu (m): | E42: 149.98 | F42: =1.6+8.9 -> 10.5
...

Sheet PPSS
E1: CÔNG TY CỔ PHẦN THẨM ĐỊNH VÀ ĐẦU TƯ TÀI CHÍNH HOA SEN
E2: Trụ sở: BT5-23 Khu đô thị mới Văn Phú, Phường Phú La, Quận Hà Đông, Hà Nội
E3: Điện thoại: 085 329 3333/ 024 2264 4333
E4: Email: ilotus.contact@gmail.com Website: ilotus.com.vn
C7: PHỤ LỤC 01: THÔNG TIN TÀI SẢN THẨM ĐỊNH GIÁ VÀ TÀI SẢN SO SÁNH
C9: STT | D9: Các thông tin về tài sản | F9: Tài sản thẩm định giá | G9: TSSS1 | H9: TSSS2 | I9: TSSS3
F10: KCN An Xá, | G10: KCN An Xá, | H10: Khu công nghiệp Hố Nai 3, xã Hố Nai 3, huyện Trảng Bom, tỉnh Đồng Nai | I10: Khu công nghiệp Hố Nai 3, xã Hố Nai 3, huyện Trảng Bom, tỉnh Đồng Nai
C11: I | D11: THÔNG TIN VỀ TÀI SẢN
C12: 1 | D12: Thông tin so sánh | E12: Nguồn thông tin | G12: Khảo sát thị trường | H12: Khảo sát thị trường | I12: Khảo sát thị trường | J12: =2080/2600 -> 0.8
E13: Địa chỉ liên hệ | G13: SĐT: 0933805440 | H13: SĐT: 0933805440 | I13: SĐT: 0963728456
E14: Link tham khảo | G14: https://sosanhnha.com/chinh-chu-can-ban-gap-4309m2-nha-xuong-nha-dieu-hanh-5-tang-ngay-trung-tam-thanh-pho-nam-dinh-claYEL531 | H14: Liên hệ trực tiếp | I14: https://batdongsan.com.vn/ban-kho-nha-xuong-xa-ho-nai-3/ban-5000m2-kcn-trang-bom-dong-gia-1-3-trieu-pr40694526 | K14: =292.2/94.6 -> 3.0887949
C15: 2 | D15: Vị trí bất động sản | E15: Vị trí theo quy định UBND | F15: Khu công nghiệp: Giang Điền | G15: Khu công nghiệp: Hố Nai | H15: Khu công nghiệp: Hố Nai | I15: Khu công nghiệp: Hố Nai | J15: Ghi theo đúng như trong bảng giá đất | K15: =94.6*3 -> 283.8
E16: Đơn giá đất theo quy định UBND | F16: 2000000 | G16: 2000000 | H16: 2000000 | I16: 2000000
E17: Giao thông | F17: Đường nội khu | G17: Đường nội khu | J17: Thêm mô tả yếu tố giao thông: độ rộng đường, khoảng cách ra đường lớn, ... | K17: =292-K15 -> 8.2
E18: Khoảng cách từ TSTĐ đến các cơ quan hành chính, các điểm sinh hoạt, thương mại công cộng. Lợi thế kinh doanh | F18: Tài sản nằm giáp đường DH25, Thôn Quang Hưng, xã Hòa Quang Nam, huyện Phú Hòa, tỉnh Phú Yên. | G18: Tài sản nằm giáp đường DH22, Thôn Hạnh Lâm, xã Hòa Quang Bắc, huyện Phú Hòa, tỉnh Phú Yên | H18: Tài sản nằm giáp đường DH22, Thôn Hạnh Lâm, xã Hòa Quang Bắc, huyện Phú Hòa, tỉnh Phú Yên | I18: Tài sản nằm giáp đường thôn, Thôn Nho Lâm, xã Hòa Quang Nam, huyện Phú Hòa, tỉnh Phú Yên | J18: Thêm yếu tố lợi thế kinh doanh của khu vực
C19: 3 | D19: Đặc điểm kỹ thuật thửa đất | E19: Diện tích chứng nhận | F19: 10855 | G19: 4307 | H19: 18800 | I19: 5000
E20: Diện tích sử dụng riêng | F20: =+F19 -> 10855 | G20: =+G19 -> 4307 | H20: =H19 -> 18800 | I20: =+I19 -> 5000
E21: Diện tích đất SKC | F21: =F20 -> 10855 | G21: 4307 | H21: =H20 -> 18800 | I21: 5000 | K21: =H37/H19 -> 4875000
E22: Diện tích đất CLN | F22: =F19-F21 -> 0 | G22: =G19-G21 -> 0 | H22: =H19-H21 -> 0 | I22: =I19-I21 -> 0
E23: Tỷ lệ đất ở/ tổng diện tích | F23: =F21/F20 -> 1 | G23: =G21/G20 -> 1 | H23: =H21/H20 -> 1 | I23: =I21/I20 -> 1
E24: Độ rộng mặt tiền | F24: 67 | G24: 130 | H24: 150 | I24: 50
E25: Kích thước chiều sâu | F25: =F19/F24 -> 162.01493 | G25: =G20/G24 -> 33.130769 | H25: =H19/H24 -> 125.33333 | I25: =I19/I24 -> 100 | J25: =F25/F24 -> 2.4181332
E26: Hình dáng thửa đất | F26: Vuông vức | G26: Vuông vức | H26: Vuông vức | I26: Vuông vức
E27: Số mặt thoáng | F27: 2 mặt tiền | G27: 1 mặt tiền | H27: 1 mặt tiền | I27: 1 mặt tiền
C28: 4 | D28: Các yếu tố ảnh hưởng khác | E28: Cơ sở hạ tầng kỹ thuật | F28: Hạ tầng khu công nghiệp: Được đầu tư, đồng bộ, đầy đủ,… | G28: Hạ tầng khu công nghiệp: Được đầu tư, đồng bộ, đầy đủ,… | H28: Hạ tầng khu công nghiệp: Được đầu tư, đồng bộ, đầy đủ,… | I28: Hạ tầng khu công nghiệp: Được đầu tư, đồng bộ, đầy đủ,… | L28: =16500*I19 -> 82500000
E29: Cảnh quan môi trường, an ninh trật tự | F29: Bình thường | G29: Bình thường | H29: Bình thường | I29: Bình thường | K29: =F25/F24 -> 2.4181332
C30: 5 | D30: Các yếu tố liên quan đến giao dịch | E30: Tình trạng giao dịch | G30: Đang chào bán trên thị trường | H30: Đang chào bán trên thị trường | I30: Đang chào bán trên thị trường | J30: Chuyển mô tả yếu tố giao dịch xuống cùng 1 trang với giá bán
E31: Tính chất giao dịch | F31: Giao dịch bình thường | G31: Giao dịch bình thường | H31: Giao dịch bình thường | I31: Giao dịch bình thường
E32: Điều kiện thanh toán | F32: Đất thuê trả tiền hàng năm | G32: Đất thuê trả tiền hàng năm | H32: Đất thuê trả tiền hàng năm | I32: Đất thuê trả tiền hàng năm
E33: Tình trạng pháp lý | F33: Có GCN QSDĐ | G33: Có GCN QSDĐ | H33: Có GCN QSDĐ | I33: Có GCN QSDĐ
E34: Mục đích sử dụng đất | F34: Đất khu công nghiệp | G34: =F34 -> Đất khu công nghiệp | H34: =G34 -> Đất khu công nghiệp | I34: =H34 -> Đất khu công nghiệp
E35: Nguồn gốc sử dụng đất | F35: Đất trả tiền hàng năm | G35: Đất trả tiền hàng năm | H35: Đất trả tiền hàng năm | I35: Đất trả tiền hàng năm
E36: Thời hạn sử dụng đất | F36: Tháng 8/2058 | G36: Năm 2065 | H36: Năm 2065 | I36: Năm 2065
C37: 6 | D37: Giá rao bán của tài sản | G37: 38000000000 | H37: 91650000000 | I37: 32500000000
C38: 7 | D38: Giá giao dịch thành công/ước tính giao dịch thành công | G38: =G37*0.8 -> 30400000000 | H38: =H37*0.7 -> 6.4155e+10 | I38: =I37*0.7 -> 22750000000 | K38: =G38/G37 -> 0.8 | L38: =H38/H37 -> 0.7 | M38: =I38/I37 -> 0.7
C39: 8 | D39: Công trình xây dựng trên đất | E39: Cấu trúc, kết cấu nhà | G39: Nhà điều hành | H39: Đất trống | I39: Nhà xưởng + nhà văn phòng + Nhà ở nhân viên + Nhà xe + Nhà bảo vệ
E40: Nhà xưởng | G40: =400*5*6898000*0.948/1.1*0.7 -> 8.3227505e+09 | I40: =1200*4918000*1.025/1.1*0.75 -> 4.1244136e+09
E41: Nhà văn phòng | G41: =2068*0.948*2825000/1.1*0.7 -> 3524379600 | I41: =100*9392000*1.062/1.1*0.75 -> 6.8006618e+08
E42: Nhà ở nhân viên | I42: =500*2613000*1.025/1.1*0.75 -> 9.1306534e+08
E43: Nhà xe | I43: =100*2613000*1.025/1.1*0.75 -> 1.8261307e+08
...

Sheet KQ
A3: TT | B3: Tài sản | C3: Đơn vị tính | D3: Diện tích (m²) | E3: Đơn giá thẩm định (đồng/m²) | F3: Hệ số vùng | G3: Thuế | H3: Tỷ lệ CLCL (%) | I3: Giá trị thẩm định (đồng) | J3: Tỷ trọng phương pháp (%)
B4: Giá trị công trình xây dựng và lợi thế quyền thuê đất trả tiền hàng năm (Đến ngày 08/08/2058) tại thửa đất số: 260, tờ bản đồ số: 15, có địa chỉ: Xã Giang Điền, huyện Trảng Bom, tỉnh Đồng Nai theo Giấy chứng nhận quyền sử dụng đất quyền sở hữu nhà ở và tài sản khác gắn liền với đất số: CG 068978, số vào sổ cấp GCN: CT 34294 do Sở Tài Nguyên và Môi Trường cấp ngày 16/3/2017 cho Công ty Cổ phần Đầu tư An Thịnh Đồng Nai.
A5: 1. | B5: Phương pháp so sánh | I5: =I6+I7 -> 4.9129122e+10 | J5: 1 | K5: =J5*I5 -> 4.9129122e+10
A6: 1 | B6: Lợi thế quyền thuê đất cụm công nghiệp trả tiền hàng năm | C6: m² | D6: 11354 | E6: =PPSS!G165 -> 2500000 | I6: =E6*D6 -> 28385000000
A7: 2 | B7: Giá trị công trình xây dựng trên đất (chi tiết như phụ lục đính kèm) | I7: =SUM(I8:I12) -> 2.0744122e+10
A8: - | B8: Nhà xưởng | C8: m² | D8: 6600 | E8: 5019000 | F8: 1.025 | G8: 1.1 | H8: 0.64 | I8: =D8*E8*H8*F8/G8 -> 19754784000
A9: - | B9: Nhà văn phòng | C9: m² | D9: 150 | E9: 9392000 | F9: 1.062 | G9: =G8 -> 1.1 | H9: 0.64 | I9: =D9*E9*H9*F9/G9 -> 8.7048471e+08
A10: - | B10: Nhà bảo vệ | C10: m² | D10: 10 | E10: 2613000 | F10: 1.025 | G10: =G9 -> 1.1 | H10: 0.64 | I10: =D10*E10*H10*F10/G10 -> 15582982
A11: - | B11: Nhà để xe | C11: m² | D11: 612 | E11: =259000 -> 259000 | F11: 1 | G11: 1 | H11: 0.64 | I11: =D11*E11*H11*F11/G11 -> 101445120
A12: - | B12: Bể nước ngầm (nằm dưới nhà xe) | C12: m3 | D12: 6 | E12: =553000 -> 553000 | F12: 1 | G12: 1 | H12: 0.55 | I12: =D12*E12*H12*F12/G12 -> 1824900
A13: 2. | B13: Phương pháp thu nhập | I13: 0 | J13: 0 | K13: =J13*I13 -> 0
B14: TỔNG CỘNG | I14: =SUM(I6:I7) -> 4.9129122e+10 | K14: =K5+K13 -> 4.9129122e+10
B15: LÀM TRÒN | I15: =ROUND(I14,-6) -> 49129000000 | K15: =ROUND(K14,-6) -> 49129000000
B16: (Bằng chữ: Bốn mươi sáu tỷ, tám trăm năm mươi tám triệu đồng chẵn./.)
H17: =10029000/10000 -> 1002.9
A20: TT | B20: Phương pháp | C20: Tỷ trọng | D20: Giá trị | E20: Giá trị thẩm định (đồng) | G20: =(2024-2017)*2 -> 14
A21: 1 | B21: Phương pháp thu nhập | C21: 0.5 | D21: =#REF! -> #REF! | E21: =C21*D21 -> #REF!
A22: 2 | B22: Phương pháp so sánh | C22: 0.5 | D22: =I7+I6 -> 4.9129122e+10 | E22: =D22*C22 -> 2.4564561e+10
B23: TỔNG CỘNG | E23: =E21+E22 -> #REF!
B24: LÀM TRÒN | E24: =ROUND(E23,-6) -> #REF!
A26: TT | B26: Tài sản | E26: Phương pháp | H26: Giá trị ước tính (đồng) | I26: Tỷ trọng (%) | J26: Giá trị thẩm định (đồng)
A27: - | B27: =B4 -> Giá trị công trình xây dựng và lợi thế quyền thuê đất trả tiền hàng năm (Đến ngày 08/08/2058) tại thửa đất số: 260, tờ bản đồ số: 15, có địa chỉ: Xã Giang Điền, huyện Trảng Bom, tỉnh Đồng Nai theo Giấy chứng nhận quyền sử dụng đất quyền sở hữu nhà ở và tài sản khác gắn liền với đất số: CG 068978, số vào sổ cấp GCN: CT 34294 do Sở Tài Nguyên và Môi Trường cấp ngày 16/3/2017 cho Công ty Cổ phần Đầu tư An Thịnh Đồng Nai. | E27: =B21 -> Phương pháp thu nhập | H27: =D21 -> #REF! | I27: =C21 -> 0.5 | J27: =E21 -> #REF!
E28: =B22 -> Phương pháp so sánh | H28: =D22 -> 4.9129122e+10 | I28: =C22 -> 0.5 | J28: =E22 -> 2.4564561e+10
B29: TỔNG CỘNG | I29: =SUM(I27:I28) -> 1 | J29: =SUM(J27:J28) -> #REF!
B30: LÀM TRÒN | J30: =ROUND(J29,-6) -> #REF!
A31: (Bằng chữ: Mười hai tỷ, bảy trăm tám mươi lăm triệu đồng chẵn./.)
A33: TT | B33: Tài sản | C33: Đơn vị tính | D33: Số lượng | E33: Đơn giá xây mới (đồng/m²) | H33: Tỷ lệ CLCL (%) | I33: Thành tiền (đồng)
A34: - | B34: =B8 -> Nhà xưởng | C34: m² | D34: =D8 -> 6600 | E34: =E8 -> 5019000 | H34: 0.65 | I34: =D34*E34*H34 -> 21531510000
A35: - | B35: =B9 -> Nhà văn phòng | C35: m² | D35: =D9 -> 150 | E35: =E9 -> 9392000 | H35: 0.65 | I35: =D35*E35*H35 -> 915720000
A36: - | B36: =B10 -> Nhà bảo vệ | C36: m² | D36: =D10 -> 10 | E36: =E10 -> 2613000 | H36: 0.65 | I36: =D36*E36*H36 -> 16984500
B37: Tổng cộng: | I37: =SUM(I34:I36) -> 22464214500
B41: - Quyết định số 42/2019/QĐ-UBND ngày 27/12/2019 của UBND tỉnh Quảng Ninh về việc quy định các loại đất trên địa bàn tỉnh Quảng Ninh thực hiện từ ngày 01/01/2020 đến 31/12/2024

Sheet 1
F1: AI 086818 | G1: Thông tin cũ
F2: T00926 QSDĐ/QĐ-2355/T-2007
F3: UBND tỉnh Hưng Yên
F4: 17/01/2008
F5: Chi nhánh Công ty Cổ phần lương thực Hưng Yên tại Văn Giang (cập nhật ngày 22/5/2014)
F6: Giấy chứng nhận quyền sử dụng đất
A7: PHIẾU ĐIỀU TRA, KHẢO SÁT TÀI SẢN THẨM ĐỊNH
A8: ="Thời điểm khảo sát: Ngày "&[152]TTCB!E1&" tháng "&[152]TTCB!F1&" năm 20"&[152]TTCB!G1 -> Thời điểm khảo sát: Ngày tháng năm 20
A11: I. TÀI SẢN; ĐẶC ĐIỂM CỦA TÀI SẢN THẨM ĐỊNH GIÁ
A12: Tên tài sản | B12: ="Giá trị lợi thế quyền thuê đất và tài sản gắn liền với đất tại thửa đất số: "&C15&", tờ bản đồ số: "&E15&" có địa chỉ: "&F16&", theo "&F6&" số: "&F1&", số vào sổ cấp GCN: "&F2&" do "&F3&" cấp ngày "&F4&". Chủ sử dụng đất là "&F5 -> Giá trị lợi thế quyền thuê đất và tài sản gắn liền với đất tại thửa đất số: 67, tờ bản đồ số: 3 có địa chỉ: Thị trấn Văn Giang, huyện Văn Giang, tỉnh Hưng Yên, theo Giấy chứng nhận quyền sử dụng đất số: AI 086818, số vào sổ cấp GCN: T00926 QSDĐ/QĐ-2355/T-2007 do UBND tỉnh Hưng Yên cấp ngày 17/01/2008. Chủ sử dụng đất là Chi nhánh Công ty Cổ phần lương thực Hưng Yên tại Văn Giang (cập nhật ngày 22/5/2014) | F12: =B12 -> Giá trị lợi thế quyền thuê đất và tài sản gắn liền với đất tại thửa đất số: 67, tờ bản đồ số: 3 có địa chỉ: Thị trấn Văn Giang, huyện Văn Giang, tỉnh Hưng Yên, theo Giấy chứng nhận quyền sử dụng đất số: AI 086818, số vào sổ cấp GCN: T00926 QSDĐ/QĐ-2355/T-2007 do UBND tỉnh Hưng Yên cấp ngày 17/01/2008. Chủ sử dụng đất là Chi nhánh Công ty Cổ phần lương thực Hưng Yên tại Văn Giang (cập nhật ngày 22/5/2014)
A13: 1. | B13: Nội dung Thửa đất theo Hồ sơ pháp lý
A14: 1.1 | B14: Thửa đất:
A15: - | B15: Thửa đất số: | C15: 67 | D15: Tờ bản đồ số: | E15: 3
A16: - | B16: Địa chỉ: | C16: Thị trấn Văn Giang, huyện Văn Giang, tỉnh Hưng Yên | F16: =C16 -> Thị trấn Văn Giang, huyện Văn Giang, tỉnh Hưng Yên
A17: - | B17: Diện tích (m²): | C17: 2947.3 | D17: Mục đích sử dụng: | E17: XD cửa hàng mua bán lương thực, nông, lâm, hải sản và VTNN
A18: - | B18: Hình thức sử dụng: | C18: Sử dụng riêng: Đất ở 30,5m², đất trồng cây lâu năm 25,6m²; Sử dụng chung: Đất trồng cây lâu năm 43,5m²
A19: - | B19: Thời hạn sử dụng: | C19: 35 năm (từ ngày 15/10/1993 đến ngày 15/10/2028)
A20: - | B20: Nguồn gốc sử dụng: | C20: Nhà nước giao đất không thu tiền sử dụng đất, chuyển sang thuê đất trả tiền hàng năm
A21: - | B21: Những thay đổi sau khi cấp GCN: | C21: Ngày 12/6/2023: Người sử dụng đất đổi địa chỉ thường trú từ tổ 18, phường Chăm Mát, thị xã Hòa Bình thành tổ 7, phường Dân Chủ, thành phố Hòa Bình. Đổi địa chỉ thửa đất từ phường Chăm Mát, thị xã Hòa Bình thành TDP số 7, phường Dân Chủ, thành phố Hòa Bình, theo hồ sơ số 033648.DT.004.
A22: - | B22: Thông tin quy hoạch: | C22: Tại thời điểm thẩm định giá, tổ thẩm định không thu thập được thông tin quy hoạch liên quan đến thửa đất
A23: 1.2 | B23: Nhà ở:
A24: - | B24: Địa chỉ: | C24: =C16 -> Thị trấn Văn Giang, huyện Văn Giang, tỉnh Hưng Yên
A25: - | B25: Diện tích xây dựng (m²): | C25: 6 | D25: Diện tích sàn (m²): | E25: 286.2
A26: - | B26: Kết cấu: | C26: Tường xây gạch, khung, sàn và mái bằng bê tông
A27: - | B27: Cấp (Hạng): | C27: III | D27: Số tầng: | E27: 3.5
A28: - | B28: Năm hoàn thành xây dựng: | C28: 2010 | D28: Thời hạn sở hữu: | E28: ./.
A29: 2. | B29: Về đất:
A30: 2.1 | B30: Vị trí; Giao thông;
A31: - | B31: Địa chỉ thực tế: | C31: =C16 -> Thị trấn Văn Giang, huyện Văn Giang, tỉnh Hưng Yên | F31: =C31 -> Thị trấn Văn Giang, huyện Văn Giang, tỉnh Hưng Yên
A32: - | B32: Vị trí tài sản theo Bảng giá đất UBND TP Hà Nội: | C32: Vị trí 1: Đường tỉnh lộ 416 từ Ngã tư Tùng Thiện đến hết địa phận thị xã Sơn Tây | F32: =C32 -> Vị trí 1: Đường tỉnh lộ 416 từ Ngã tư Tùng Thiện đến hết địa phận thị xã Sơn Tây
A33: - | B33: Đường tiếp giáp chính: | C33: Đường tỉnh 179 (nhựa) | D33: Số mặt tiền: | E33: 1 mặt tiền | F33: =C31 -> Thị trấn Văn Giang, huyện Văn Giang, tỉnh Hưng Yên
A34: - | B34: Mặt cắt đường/ngõ nhỏ nhất từ đường chính dẫn đến tài sản thẩm định giá: | C34: 5m | D34: Mặt cắt đường/ngõ trước mặt tài sản thẩm định giá: | E34: 5m | F34: =E34 -> 5m
A35: - | B35: Giao thông: | C35: Tài sản tiếp giáp đường tỉnh 179
A36: - | B36: Khoảng cách đến trục chính: | C36: Tài sản cách chợ Văn Giang khoảng 80m
A37: - | B37: Các hướng tiếp giáp: | C37: - Hướng Bắc: tiếp giáp đường tỉnh 179 - Các hướng khác: tiếp giáp với các thửa đất khác
A38: - | B38: Vị trí trên bản đồ vệ tinh:
A39: - | F39: https://www.google.com/maps/place/21%C2%B005'31.5%22N+105%C2%B028'17.3%22E/@21.0920782,105.4689072,1018m/data=!3m2!1e3!4b1!4m4!3m3!8m2!3d21.0920782!4d105.4714821!5m1!1e1?entry=ttu&g_ep=EgoyMDI0MDgyMy4wIKXMDSoASAFQAw%3D%3D
A40: 2.2. | B40: Diện tích; Kích thước; Hình dáng
A41: - | B41: Diện tích sử dụng riêng thực tế (m²): | C41: =C17 -> 2947.3 | D41: Diện tích sử dụng chung thực tế (m²): | E41: -/-
A42: - | B42: KT mặt tiền (m): | C42: 38.65 | D42: Chiều sâu (m): | E42: =6.63+23.44+12.79+47.97 -> 90.83
...

Sheet 2
F1: AI 086822 | G1: Thông tin cũ
F2: T00928 QSDĐ/QĐ-2353/T-2007
F3: UBND tỉnh Hưng Yên
F4: 17/01/2008
F5: Chi nhánh Công ty Cổ phần lương thực Hưng Yên tại Yên Mỹ (cập nhật ngày 22/5/2014)
F6: Giấy chứng nhận Giá trị Giá trị lợi thế quyền thuê đất trả tiền hàng năm
A7: PHIẾU ĐIỀU TRA, KHẢO SÁT TÀI SẢN THẨM ĐỊNH
A8: ="Thời điểm khảo sát: Ngày "&[152]TTCB!E1&" tháng "&[152]TTCB!F1&" năm 20"&[152]TTCB!G1 -> Thời điểm khảo sát: Ngày tháng năm 20
A11: I. TÀI SẢN; ĐẶC ĐIỂM CỦA TÀI SẢN THẨM ĐỊNH GIÁ
A12: Tên tài sản | B12: ="Giá trị lợi thế quyền thuê đất trả tiền hàng năm và tài sản gắn liền với đất tại thửa đất số: "&C15&", tờ bản đồ số: "&E15&" có địa chỉ: "&F16&", theo "&F6&" số: "&F1&", số vào sổ cấp GCN: "&F2&" do "&F3&" cấp ngày "&F4&". Chủ sử dụng đất là "&F5 -> Giá trị lợi thế quyền thuê đất trả tiền hàng năm và tài sản gắn liền với đất tại thửa đất số: 449, tờ bản đồ số: 21 có địa chỉ: Xã Trưng Trắc, huyện Văn Lâm, tinh Hưng Yên, theo Giấy chứng nhận Giá trị Giá trị lợi thế quyền thuê đất trả tiền hàng năm số: AI 086822, số vào sổ cấp GCN: T00928 QSDĐ/QĐ-2353/T-2007 do UBND tỉnh Hưng Yên cấp ngày 17/01/2008. Chủ sử dụng đất là Chi nhánh Công ty Cổ phần lương thực Hưng Yên tại Yên Mỹ (cập nhật ngày 22/5/2014) | F12: =B12 -> Giá trị lợi thế quyền thuê đất trả tiền hàng năm và tài sản gắn liền với đất tại thửa đất số: 449, tờ bản đồ số: 21 có địa chỉ: Xã Trưng Trắc, huyện Văn Lâm, tinh Hưng Yên, theo Giấy chứng nhận Giá trị Giá trị lợi thế quyền thuê đất trả tiền hàng năm số: AI 086822, số vào sổ cấp GCN: T00928 QSDĐ/QĐ-2353/T-2007 do UBND tỉnh Hưng Yên cấp ngày 17/01/2008. Chủ sử dụng đất là Chi nhánh Công ty Cổ phần lương thực Hưng Yên tại Yên Mỹ (cập nhật ngày 22/5/2014)
A13: 1. | B13: Nội dung Thửa đất theo Hồ sơ pháp lý
A14: 1.1 | B14: Thửa đất:
A15: - | B15: Thửa đất số: | C15: 449 | D15: Tờ bản đồ số: | E15: 21
A16: - | B16: Địa chỉ: | C16: Xã Trưng Trắc, huyện Văn Lâm, tinh Hưng Yên | F16: =C16 -> Xã Trưng Trắc, huyện Văn Lâm, tinh Hưng Yên
A17: - | B17: Diện tích (m²): | C17: 363 | D17: Mục đích sử dụng: | E17: XD cửa hàng mua bán lương thực, nông, lâm, hải sản và VTNN
A18: - | B18: Hình thức sử dụng: | C18: Sử dụng riêng: Đất ở 30,5m², đất trồng cây lâu năm 25,6m²; Sử dụng chung: Đất trồng cây lâu năm 43,5m²
A19: - | B19: Thời hạn sử dụng: | C19: 35 năm (từ ngày 15/10/1993 đến ngày 15/10/2028)
A20: - | B20: Nguồn gốc sử dụng: | C20: Nhà nước giao đất không thu tiền sử dụng đất, chuyển sang thuê đất trả tiền hàng năm
A21: - | B21: Những thay đổi sau khi cấp GCN: | C21: Ngày 12/6/2023: Người sử dụng đất đổi địa chỉ thường trú từ tổ 18, phường Chăm Mát, thị xã Hòa Bình thành tổ 7, phường Dân Chủ, thành phố Hòa Bình. Đổi địa chỉ thửa đất từ phường Chăm Mát, thị xã Hòa Bình thành TDP số 7, phường Dân Chủ, thành phố Hòa Bình, theo hồ sơ số 033648.DT.004.
A22: - | B22: Thông tin quy hoạch: | C22: Tại thời điểm thẩm định giá, tổ thẩm định không thu thập được thông tin quy hoạch liên quan đến thửa đất
A23: 1.2 | B23: Nhà ở:
A24: - | B24: Địa chỉ: | C24: =C16 -> Xã Trưng Trắc, huyện Văn Lâm, tinh Hưng Yên
A25: - | B25: Diện tích xây dựng (m²): | C25: 6 | D25: Diện tích sàn (m²): | E25: 286.2
A26: - | B26: Kết cấu: | C26: Tường xây gạch, khung, sàn và mái bằng bê tông
A27: - | B27: Cấp (Hạng): | C27: III | D27: Số tầng: | E27: 3.5
A28: - | B28: Năm hoàn thành xây dựng: | C28: 2010 | D28: Thời hạn sở hữu: | E28: ./.
A29: 2. | B29: Về đất:
A30: 2.1 | B30: Vị trí; Giao thông;
A31: - | B31: Địa chỉ thực tế: | C31: =C16 -> Xã Trưng Trắc, huyện Văn Lâm, tinh Hưng Yên | F31: =C31 -> Xã Trưng Trắc, huyện Văn Lâm, tinh Hưng Yên
A32: - | B32: Vị trí tài sản theo Bảng giá đất UBND TP Hà Nội: | C32: Vị trí 1: Đường tỉnh lộ 416 từ Ngã tư Tùng Thiện đến hết địa phận thị xã Sơn Tây | F32: =C32 -> Vị trí 1: Đường tỉnh lộ 416 từ Ngã tư Tùng Thiện đến hết địa phận thị xã Sơn Tây
A33: - | B33: Đường tiếp giáp chính: | C33: Đường nhựa | D33: Số mặt tiền: | E33: 3 mặt tiền | F33: =C31 -> Xã Trưng Trắc, huyện Văn Lâm, tinh Hưng Yên
A34: - | B34: Mặt cắt đường/ngõ nhỏ nhất từ đường chính dẫn đến tài sản thẩm định giá: | C34: 5m | D34: Mặt cắt đường/ngõ trước mặt tài sản thẩm định giá: | E34: 5m | F34: =E34 -> 5m
A35: - | B35: Giao thông: | C35: Tài sản tiếp giáp đường nhựa rộng khoảng 6,77m
A36: - | B36: Khoảng cách đến trục chính: | C36: Tài sản cách đường QL5 khoảng 250m
A37: - | B37: Các hướng tiếp giáp: | C37: - Hướng Đông Bắc: tiếp giáp đường nhựa rộng khoảng 6,77m - Hướng Đông Nam: tiếp giáp đường bê tông rộng khoảng 2,8m - Hướng Tây Nam: tiếp giáp đường bê tông rộng khoảng 2,5m - Các hướng khác: tiếp giáp với các thửa đất khác
A38: - | B38: Vị trí trên bản đồ vệ tinh:
A39: - | F39: https://www.google.com/maps/place/21%C2%B005'31.5%22N+105%C2%B028'17.3%22E/@21.0920782,105.4689072,1018m/data=!3m2!1e3!4b1!4m4!3m3!8m2!3d21.0920782!4d105.4714821!5m1!1e1?entry=ttu&g_ep=EgoyMDI0MDgyMy4wIKXMDSoASAFQAw%3D%3D
A40: 2.2. | B40: Diện tích; Kích thước; Hình dáng
A41: - | B41: Diện tích sử dụng riêng thực tế (m²): | C41: =C17 -> 363 | D41: Diện tích sử dụng chung thực tế (m²): | E41: -/-
A42: - | B42: KT mặt tiền (m): | C42: 24.5 | D42: Chiều sâu (m): | E42: 15.7
...

Sheet 3
F1: AI 086824 | G1: Thông tin cũ
F2: T00934 QSDĐ/QĐ-2352/T-2007
F3: UBND tỉnh Hưng Yên
F4: 17/01/2008
F5: Công ty Cổ phần lương thực Hưng Yên (cập nhật ngày 22/5/2014)
F6: Giấy chứng nhận Giá trị lợi thế quyền thuê đất trả tiền hàng năm
A7: PHIẾU ĐIỀU TRA, KHẢO SÁT TÀI SẢN THẨM ĐỊNH
A8: ="Thời điểm khảo sát: Ngày "&[152]TTCB!E1&" tháng "&[152]TTCB!F1&" năm 20"&[152]TTCB!G1 -> Thời điểm khảo sát: Ngày tháng năm 20
A11: I. TÀI SẢN; ĐẶC ĐIỂM CỦA TÀI SẢN THẨM ĐỊNH GIÁ
A12: Tên tài sản | B12: ="Giá trị lợi thế quyền thuê đất trả tiền hàng năm và tài sản gắn liền với đất tại thửa đất số: "&C15&", tờ bản đồ số: "&E15&" có địa chỉ: "&F16&", theo "&F6&" số: "&F1&", số vào sổ cấp GCN: "&F2&" do "&F3&" cấp ngày "&F4&". Chủ sử dụng đất là "&F5 -> Giá trị lợi thế quyền thuê đất trả tiền hàng năm và tài sản gắn liền với đất tại thửa đất số: 18, tờ bản đồ số: 19 có địa chỉ: Xã Phùng Chí Kiên, huyện Mỹ Hào, tỉnh Hưng Yên (nay là phường Phùng Chí Kiên, Thị xã Mỹ Hào, tỉnh Hưng Yên), theo Giấy chứng nhận Giá trị lợi thế quyền thuê đất trả tiền hàng năm số: AI 086824, số vào sổ cấp GCN: T00934 QSDĐ/QĐ-2352/T-2007 do UBND tỉnh Hưng Yên cấp ngày 17/01/2008. Chủ sử dụng đất là Công ty Cổ phần lương thực Hưng Yên (cập nhật ngày 22/5/2014) | F12: =B12 -> Giá trị lợi thế quyền thuê đất trả tiền hàng năm và tài sản gắn liền với đất tại thửa đất số: 18, tờ bản đồ số: 19 có địa chỉ: Xã Phùng Chí Kiên, huyện Mỹ Hào, tỉnh Hưng Yên (nay là phường Phùng Chí Kiên, Thị xã Mỹ Hào, tỉnh Hưng Yên), theo Giấy chứng nhận Giá trị lợi thế quyền thuê đất trả tiền hàng năm số: AI 086824, số vào sổ cấp GCN: T00934 QSDĐ/QĐ-2352/T-2007 do UBND tỉnh Hưng Yên cấp ngày 17/01/2008. Chủ sử dụng đất là Công ty Cổ phần lương thực Hưng Yên (cập nhật ngày 22/5/2014)
A13: 1. | B13: Nội dung Thửa đất theo Hồ sơ pháp lý
A14: 1.1 | B14: Thửa đất:
A15: - | B15: Thửa đất số: | C15: 18 | D15: Tờ bản đồ số: | E15: 19
A16: - | B16: Địa chỉ: | C16: Xã Phùng Chí Kiên, huyện Mỹ Hào, tỉnh Hưng Yên (nay là phường Phùng Chí Kiên, Thị xã Mỹ Hào, tỉnh Hưng Yên) | F16: =C16 -> Xã Phùng Chí Kiên, huyện Mỹ Hào, tỉnh Hưng Yên (nay là phường Phùng Chí Kiên, Thị xã Mỹ Hào, tỉnh Hưng Yên)
A17: - | B17: Diện tích (m²): | C17: 447 | D17: Mục đích sử dụng: | E17: XD cửa hàng mua bán lương thực, nông, lâm, hải sản và VTNN
A18: - | B18: Hình thức sử dụng: | C18: Sử dụng riêng: Đất ở 30,5m², đất trồng cây lâu năm 25,6m²; Sử dụng chung: Đất trồng cây lâu năm 43,5m²
A19: - | B19: Thời hạn sử dụng: | C19: 35 năm (từ ngày 15/10/1993 đến ngày 15/10/2028)
A20: - | B20: Nguồn gốc sử dụng: | C20: Nhà nước giao đất không thu tiền sử dụng đất, chuyển sang thuê đất trả tiền hàng năm
A21: - | B21: Những thay đổi sau khi cấp GCN: | C21: Ngày 12/6/2023: Người sử dụng đất đổi địa chỉ thường trú từ tổ 18, phường Chăm Mát, thị xã Hòa Bình thành tổ 7, phường Dân Chủ, thành phố Hòa Bình. Đổi địa chỉ thửa đất từ phường Chăm Mát, thị xã Hòa Bình thành TDP số 7, phường Dân Chủ, thành phố Hòa Bình, theo hồ sơ số 033648.DT.004.
A22: - | B22: Thông tin quy hoạch: | C22: Tại thời điểm thẩm định giá, tổ thẩm định không thu thập được thông tin quy hoạch liên quan đến thửa đất
A23: 1.2 | B23: Nhà ở:
A24: - | B24: Địa chỉ: | C24: =C16 -> Xã Phùng Chí Kiên, huyện Mỹ Hào, tỉnh Hưng Yên (nay là phường Phùng Chí Kiên, Thị xã Mỹ Hào, tỉnh Hưng Yên)
A25: - | B25: Diện tích xây dựng (m²): | C25: 6 | D25: Diện tích sàn (m²): | E25: 286.2
A26: - | B26: Kết cấu: | C26: Tường xây gạch, khung, sàn và mái bằng bê tông
A27: - | B27: Cấp (Hạng): | C27: III | D27: Số tầng: | E27: 3.5
A28: - | B28: Năm hoàn thành xây dựng: | C28: 2010 | D28: Thời hạn sở hữu: | E28: ./.
A29: 2. | B29: Về đất:
A30: 2.1 | B30: Vị trí; Giao thông;
A31: - | B31: Địa chỉ thực tế: | C31: =C16 -> Xã Phùng Chí Kiên, huyện Mỹ Hào, tỉnh Hưng Yên (nay là phường Phùng Chí Kiên, Thị xã Mỹ Hào, tỉnh Hưng Yên) | F31: =C31 -> Xã Phùng Chí Kiên, huyện Mỹ Hào, tỉnh Hưng Yên (nay là phường Phùng Chí Kiên, Thị xã Mỹ Hào, tỉnh Hưng Yên)
A32: - | B32: Vị trí tài sản theo Bảng giá đất UBND TP Hà Nội: | C32: Vị trí 1: Đường tỉnh lộ 416 từ Ngã tư Tùng Thiện đến hết địa phận thị xã Sơn Tây | F32: =C32 -> Vị trí 1: Đường tỉnh lộ 416 từ Ngã tư Tùng Thiện đến hết địa phận thị xã Sơn Tây
A33: - | B33: Đường tiếp giáp chính: | C33: Đường QL5A (nhựa) | D33: Số mặt tiền: | E33: 1 mặt tiền | F33: =C31 -> Xã Phùng Chí Kiên, huyện Mỹ Hào, tỉnh Hưng Yên (nay là phường Phùng Chí Kiên, Thị xã Mỹ Hào, tỉnh Hưng Yên)
A34: - | B34: Mặt cắt đường/ngõ nhỏ nhất từ đường chính dẫn đến tài sản thẩm định giá: | C34: 5m | D34: Mặt cắt đường/ngõ trước mặt tài sản thẩm định giá: | E34: 5m | F34: =E34 -> 5m
A35: - | B35: Giao thông: | C35: Tài sản tiếp giáp đường QL5A
A36: - | B36: Khoảng cách đến trục chính: | C36: Tài sản cách KCN Phố Nối B khoảng 2,5km
A37: - | B37: Các hướng tiếp giáp: | C37: - Hướng Đông Bắc: tiếp giáp KCN Phố Nối B khoảng 2,5km - Các hướng khác: tiếp giáp với các thửa đất khác
A38: - | B38: Vị trí trên bản đồ vệ tinh:
A39: - | F39: https://www.google.com/maps/place/21%C2%B005'31.5%22N+105%C2%B028'17.3%22E/@21.0920782,105.4689072,1018m/data=!3m2!1e3!4b1!4m4!3m3!8m2!3d21.0920782!4d105.4714821!5m1!1e1?entry=ttu&g_ep=EgoyMDI0MDgyMy4wIKXMDSoASAFQAw%3D%3D
A40: 2.2. | B40: Diện tích; Kích thước; Hình dáng
A41: - | B41: Diện tích sử dụng riêng thực tế (m²): | C41: =C17 -> 447 | D41: Diện tích sử dụng chung thực tế (m²): | E41: -/-
A42: - | B42: KT mặt tiền (m): | C42: 20.5 | D42: Chiều sâu (m): | E42: 22
...

Sheet 4
F1: CH 344899 | G1: Thông tin cũ
F2: CT 00750
F3: Sở Tài nguyên và Môi trường tỉnh Hưng Yên
F4: 31/5/2018
F5: Công ty Cổ phần Lương thực Hưng Yên
F6: Giấy chứng nhận Giá trị lợi thế quyền thuê đất trả tiền hàng năm quyền sở hữu nhà ở và tài sản khác gắn liền với đất
A7: PHIẾU ĐIỀU TRA, KHẢO SÁT TÀI SẢN THẨM ĐỊNH
A8: ="Thời điểm khảo sát: Ngày "&[152]TTCB!E1&" tháng "&[152]TTCB!F1&" năm 20"&[152]TTCB!G1 -> Thời điểm khảo sát: Ngày tháng năm 20
A11: I. TÀI SẢN; ĐẶC ĐIỂM CỦA TÀI SẢN THẨM ĐỊNH GIÁ
A12: Tên tài sản | B12: ="Giá trị lợi thế quyền thuê đất trả tiền hàng năm tại thửa đất số: "&C15&", tờ bản đồ số: "&E15&" có địa chỉ: "&F16&", theo "&F6&" số: "&F1&", số vào sổ cấp GCN: "&F2&" do "&F3&" cấp ngày "&F4&". Chủ sử dụng đất là "&F5 -> Giá trị lợi thế quyền thuê đất trả tiền hàng năm tại thửa đất số: 190, tờ bản đồ số: 01 có địa chỉ: xã Tiên Tiến, huyện Phù Cừ, tỉnh Hưng Yên, theo Giấy chứng nhận Giá trị lợi thế quyền thuê đất trả tiền hàng năm quyền sở hữu nhà ở và tài sản khác gắn liền với đất số: CH 344899, số vào sổ cấp GCN: CT 00750 do Sở Tài nguyên và Môi trường tỉnh Hưng Yên cấp ngày 31/5/2018. Chủ sử dụng đất là Công ty Cổ phần Lương thực Hưng Yên | F12: =B12 -> Giá trị lợi thế quyền thuê đất trả tiền hàng năm tại thửa đất số: 190, tờ bản đồ số: 01 có địa chỉ: xã Tiên Tiến, huyện Phù Cừ, tỉnh Hưng Yên, theo Giấy chứng nhận Giá trị lợi thế quyền thuê đất trả tiền hàng năm quyền sở hữu nhà ở và tài sản khác gắn liền với đất số: CH 344899, số vào sổ cấp GCN: CT 00750 do Sở Tài nguyên và Môi trường tỉnh Hưng Yên cấp ngày 31/5/2018. Chủ sử dụng đất là Công ty Cổ phần Lương thực Hưng Yên
A13: 1. | B13: Nội dung Thửa đất theo Hồ sơ pháp lý
A14: 1.1 | B14: Thửa đất:
A15: - | B15: Thửa đất số: | C15: 190 | D15: Tờ bản đồ số: | E15: 01
A16: - | B16: Địa chỉ: | C16: xã Tiên Tiến, huyện Phù Cừ, tỉnh Hưng Yên | F16: =C16 -> xã Tiên Tiến, huyện Phù Cừ, tỉnh Hưng Yên
A17: - | B17: Diện tích (m²): | C17: 250 | D17: Mục đích sử dụng: | E17: Đất thương mại, dịch vụ
A18: - | B18: Hình thức sử dụng: | C18: Sử dụng riêng: Đất ở 30,5m², đất trồng cây lâu năm 25,6m²; Sử dụng chung: Đất trồng cây lâu năm 43,5m²
A19: - | B19: Thời hạn sử dụng: | C19: 15/10/2028 | D19: Hình thức sử dụng: | E19: Sử dụng riêng
A20: - | B20: Nguồn gốc sử dụng: | C20: Nhà nước cho thuê đất trả tiền hàng năm
A21: - | B21: Những thay đổi sau khi cấp GCN: | C21: Ngày 12/6/2023: Người sử dụng đất đổi địa chỉ thường trú từ tổ 18, phường Chăm Mát, thị xã Hòa Bình thành tổ 7, phường Dân Chủ, thành phố Hòa Bình. Đổi địa chỉ thửa đất từ phường Chăm Mát, thị xã Hòa Bình thành TDP số 7, phường Dân Chủ, thành phố Hòa Bình, theo hồ sơ số 033648.DT.004.
A22: - | B22: Thông tin quy hoạch: | C22: Tại thời điểm thẩm định giá, tổ thẩm định không thu thập được thông tin quy hoạch liên quan đến thửa đất
A23: 1.2 | B23: Nhà ở:
A24: - | B24: Địa chỉ: | C24: =C16 -> xã Tiên Tiến, huyện Phù Cừ, tỉnh Hưng Yên
A25: - | B25: Diện tích xây dựng (m²): | C25: 6 | D25: Diện tích sàn (m²): | E25: 286.2
A26: - | B26: Kết cấu: | C26: Tường xây gạch, khung, sàn và mái bằng bê tông
A27: - | B27: Cấp (Hạng): | C27: III | D27: Số tầng: | E27: 3.5
A28: - | B28: Năm hoàn thành xây dựng: | C28: 2010 | D28: Thời hạn sở hữu: | E28: ./.
A29: 2. | B29: Về đất:
A30: 2.1 | B30: Vị trí; Giao thông;
A31: - | B31: Địa chỉ thực tế: | C31: =C16 -> xã Tiên Tiến, huyện Phù Cừ, tỉnh Hưng Yên | F31: =C31 -> xã Tiên Tiến, huyện Phù Cừ, tỉnh Hưng Yên
A32: - | B32: Vị trí tài sản theo Bảng giá đất UBND TP Hà Nội: | C32: Vị trí 1: Đường tỉnh lộ 416 từ Ngã tư Tùng Thiện đến hết địa phận thị xã Sơn Tây | F32: =C32 -> Vị trí 1: Đường tỉnh lộ 416 từ Ngã tư Tùng Thiện đến hết địa phận thị xã Sơn Tây
A33: - | B33: Đường tiếp giáp chính: | C33: Đường tỉnh 386 | D33: Số mặt tiền: | E33: 1 mặt tiền | F33: =C31 -> xã Tiên Tiến, huyện Phù Cừ, tỉnh Hưng Yên
A34: - | B34: Mặt cắt đường/ngõ nhỏ nhất từ đường chính dẫn đến tài sản thẩm định giá: | C34: 5m | D34: Mặt cắt đường/ngõ trước mặt tài sản thẩm định giá: | E34: 5m | F34: =E34 -> 5m
A35: - | B35: Giao thông: | C35: Tài sản tiếp giáp đường tỉnh 386
A36: - | B36: Khoảng cách đến trục chính: | C36: Tài sản cách UBND xã Tiên Tiến khoảng 450m
A37: - | B37: Các hướng tiếp giáp: | C37: - Hướng Đông Bắc: tiếp giáp đường tỉnh 386 - Các hướng khác: tiếp giáp với các thửa đất khác
A38: - | B38: Vị trí trên bản đồ vệ tinh:
A39: - | F39: https://www.google.com/maps/place/21%C2%B005'31.5%22N+105%C2%B028'17.3%22E/@21.0920782,105.4689072,1018m/data=!3m2!1e3!4b1!4m4!3m3!8m2!3d21.0920782!4d105.4714821!5m1!1e1?entry=ttu&g_ep=EgoyMDI0MDgyMy4wIKXMDSoASAFQAw%3D%3D
A40: 2.2. | B40: Diện tích; Kích thước; Hình dáng
A41: - | B41: Diện tích sử dụng riêng thực tế (m²): | C41: =C17 -> 250 | D41: Diện tích sử dụng chung thực tế (m²): | E41: -/-
A42: - | B42: KT mặt tiền (m): | C42: 23.55 | D42: Chiều sâu (m): | E42: 11
...

Sheet 5
F1: CH 344900 | G1: Thông tin cũ
F2: CT 00751
F3: Sở Tài nguyên và Môi trường tỉnh Hưng Yên
F4: 31/5/2018
F5: Công ty Cổ phần Lương thực Hưng Yên
F6: Giấy chứng nhận Giá trị lợi thế quyền thuê đất trả tiền hàng năm quyền sở hữu nhà ở và tài sản khác gắn liền với đất
A7: PHIẾU ĐIỀU TRA, KHẢO SÁT TÀI SẢN THẨM ĐỊNH
A8: ="Thời điểm khảo sát: Ngày "&[152]TTCB!E1&" tháng "&[152]TTCB!F1&" năm 20"&[152]TTCB!G1 -> Thời điểm khảo sát: Ngày tháng năm 20
A11: I. TÀI SẢN; ĐẶC ĐIỂM CỦA TÀI SẢN THẨM ĐỊNH GIÁ
A12: Tên tài sản | B12: ="Giá trị lợi thế quyền thuê đất trả tiền hàng năm và tài sản gắn liền với đất tại thửa đất số: "&C15&", tờ bản đồ số: "&E15&" có địa chỉ: "&F16&", theo "&F6&" số: "&F1&", số vào sổ cấp GCN: "&F2&" do "&F3&" cấp ngày "&F4&". Chủ sử dụng đất là "&F5 -> Giá trị lợi thế quyền thuê đất trả tiền hàng năm và tài sản gắn liền với đất tại thửa đất số: 191, tờ bản đồ số: 01 có địa chỉ: xã Tiên Tiến, huyện Phù Cừ, tỉnh Hưng Yên, theo Giấy chứng nhận Giá trị lợi thế quyền thuê đất trả tiền hàng năm quyền sở hữu nhà ở và tài sản khác gắn liền với đất số: CH 344900, số vào sổ cấp GCN: CT 00751 do Sở Tài nguyên và Môi trường tỉnh Hưng Yên cấp ngày 31/5/2018. Chủ sử dụng đất là Công ty Cổ phần Lương thực Hưng Yên | F12: =B12 -> Giá trị lợi thế quyền thuê đất trả tiền hàng năm và tài sản gắn liền với đất tại thửa đất số: 191, tờ bản đồ số: 01 có địa chỉ: xã Tiên Tiến, huyện Phù Cừ, tỉnh Hưng Yên, theo Giấy chứng nhận Giá trị lợi thế quyền thuê đất trả tiền hàng năm quyền sở hữu nhà ở và tài sản khác gắn liền với đất số: CH 344900, số vào sổ cấp GCN: CT 00751 do Sở Tài nguyên và Môi trường tỉnh Hưng Yên cấp ngày 31/5/2018. Chủ sử dụng đất là Công ty Cổ phần Lương thực Hưng Yên
A13: 1. | B13: Nội dung Thửa đất theo Hồ sơ pháp lý
A14: 1.1 | B14: Thửa đất:
A15: - | B15: Thửa đất số: | C15: 191 | D15: Tờ bản đồ số: | E15: 01
A16: - | B16: Địa chỉ: | C16: xã Tiên Tiến, huyện Phù Cừ, tỉnh Hưng Yên | F16: =C16 -> xã Tiên Tiến, huyện Phù Cừ, tỉnh Hưng Yên
A17: - | B17: Diện tích (m²): | C17: 5325 | D17: Mục đích sử dụng: | E17: Đất thương mại, dịch vụ
A18: - | B18: Hình thức sử dụng: | C18: Sử dụng riêng: Đất ở 30,5m², đất trồng cây lâu năm 25,6m²; Sử dụng chung: Đất trồng cây lâu năm 43,5m²
A19: - | B19: Thời hạn sử dụng: | C19: 15/10/2028 | D19: Hình thức sử dụng: | E19: Sử dụng riêng
A20: - | B20: Nguồn gốc sử dụng: | C20: Nhà nước cho thuê đất trả tiền hàng năm
A21: - | B21: Những thay đổi sau khi cấp GCN: | C21: Ngày 12/6/2023: Người sử dụng đất đổi địa chỉ thường trú từ tổ 18, phường Chăm Mát, thị xã Hòa Bình thành tổ 7, phường Dân Chủ, thành phố Hòa Bình. Đổi địa chỉ thửa đất từ phường Chăm Mát, thị xã Hòa Bình thành TDP số 7, phường Dân Chủ, thành phố Hòa Bình, theo hồ sơ số 033648.DT.004.
A22: - | B22: Thông tin quy hoạch: | C22: Tại thời điểm thẩm định giá, tổ thẩm định không thu thập được thông tin quy hoạch liên quan đến thửa đất
A23: 1.2 | B23: Nhà ở:
A24: - | B24: Địa chỉ: | C24: =C16 -> xã Tiên Tiến, huyện Phù Cừ, tỉnh Hưng Yên
A25: - | B25: Diện tích xây dựng (m²): | C25: 6 | D25: Diện tích sàn (m²): | E25: 286.2
A26: - | B26: Kết cấu: | C26: Tường xây gạch, khung, sàn và mái bằng bê tông
A27: - | B27: Cấp (Hạng): | C27: III | D27: Số tầng: | E27: 3.5
A28: - | B28: Năm hoàn thành xây dựng: | C28: 2010 | D28: Thời hạn sở hữu: | E28: ./.
A29: 2. | B29: Về đất:
A30: 2.1 | B30: Vị trí; Giao thông;
A31: - | B31: Địa chỉ thực tế: | C31: =C16 -> xã Tiên Tiến, huyện Phù Cừ, tỉnh Hưng Yên | F31: =C31 -> xã Tiên Tiến, huyện Phù Cừ, tỉnh Hưng Yên
A32: - | B32: Vị trí tài sản theo Bảng giá đất UBND TP Hà Nội: | C32: Vị trí 1: Đường tỉnh lộ 416 từ Ngã tư Tùng Thiện đến hết địa phận thị xã Sơn Tây | F32: =C32 -> Vị trí 1: Đường tỉnh lộ 416 từ Ngã tư Tùng Thiện đến hết địa phận thị xã Sơn Tây
A33: - | B33: Đường tiếp giáp chính: | C33: Đường tỉnh 386 | D33: Số mặt tiền: | E33: 1 mặt tiền | F33: =C31 -> xã Tiên Tiến, huyện Phù Cừ, tỉnh Hưng Yên
A34: - | B34: Mặt cắt đường/ngõ nhỏ nhất từ đường chính dẫn đến tài sản thẩm định giá: | C34: 5m | D34: Mặt cắt đường/ngõ trước mặt tài sản thẩm định giá: | E34: 5m | F34: =E34 -> 5m
A35: - | B35: Giao thông: | C35: Tài sản tiếp giáp đường tỉnh 386
A36: - | B36: Khoảng cách đến trục chính: | C36: Tài sản cách UBND xã Tiên Tiến khoảng 450m
A37: - | B37: Các hướng tiếp giáp: | C37: - Hướng Đông Bắc: tiếp giáp đường tỉnh 386 - Các hướng khác: tiếp giáp với các thửa đất khác
A38: - | B38: Vị trí trên bản đồ vệ tinh:
A39: - | F39: https://www.google.com/maps/place/21%C2%B005'31.5%22N+105%C2%B028'17.3%22E/@21.0920782,105.4689072,1018m/data=!3m2!1e3!4b1!4m4!3m3!8m2!3d21.0920782!4d105.4714821!5m1!1e1?entry=ttu&g_ep=EgoyMDI0MDgyMy4wIKXMDSoASAFQAw%3D%3D
A40: 2.2. | B40: Diện tích; Kích thước; Hình dáng
A41: - | B41: Diện tích sử dụng riêng thực tế (m²): | C41: =C17 -> 5325 | D41: Diện tích sử dụng chung thực tế (m²): | E41: -/-
A42: - | B42: KT mặt tiền (m): | C42: 55.18 | D42: Chiều sâu (m): | E42: 90.46
...

Sheet 6
F1: AI 086820 | G1: Thông tin cũ
F2: T00925 QSDĐ/QĐ-2354/T-2007
F3: UBND tỉnh Hưng Yên
F4: 17/01/2008
F5: Chi nhánh Công ty Cổ phần lương thực Hưng Yên tại Ân Thi (cập nhật ngày 22/5/2014)
F6: Giấy chứng nhận Giá trị lợi thế quyền thuê đất trả tiền hàng năm
A7: PHIẾU ĐIỀU TRA, KHẢO SÁT TÀI SẢN THẨM ĐỊNH
A8: ="Thời điểm khảo sát: Ngày "&[152]TTCB!E1&" tháng "&[152]TTCB!F1&" năm 20"&[152]TTCB!G1 -> Thời điểm khảo sát: Ngày tháng năm 20
A11: I. TÀI SẢN; ĐẶC ĐIỂM CỦA TÀI SẢN THẨM ĐỊNH GIÁ
A12: Tên tài sản | B12: ="Giá trị lợi thế quyền thuê đất trả tiền hàng năm tại thửa đất số: "&C15&", tờ bản đồ số: "&E15&" có địa chỉ: "&F16&", theo "&F6&" số: "&F1&", số vào sổ cấp GCN: "&F2&" do "&F3&" cấp ngày "&F4&". Chủ sử dụng đất là "&F5 -> Giá trị lợi thế quyền thuê đất trả tiền hàng năm tại thửa đất số: 447, tờ bản đồ số: 12 có địa chỉ: Thị trấn Vương, huyện Tiên Lữ, tỉnh Hưng Yên, theo Giấy chứng nhận Giá trị lợi thế quyền thuê đất trả tiền hàng năm số: AI 086820, số vào sổ cấp GCN: T00925 QSDĐ/QĐ-2354/T-2007 do UBND tỉnh Hưng Yên cấp ngày 17/01/2008. Chủ sử dụng đất là Chi nhánh Công ty Cổ phần lương thực Hưng Yên tại Ân Thi (cập nhật ngày 22/5/2014) | F12: =B12 -> Giá trị lợi thế quyền thuê đất trả tiền hàng năm tại thửa đất số: 447, tờ bản đồ số: 12 có địa chỉ: Thị trấn Vương, huyện Tiên Lữ, tỉnh Hưng Yên, theo Giấy chứng nhận Giá trị lợi thế quyền thuê đất trả tiền hàng năm số: AI 086820, số vào sổ cấp GCN: T00925 QSDĐ/QĐ-2354/T-2007 do UBND tỉnh Hưng Yên cấp ngày 17/01/2008. Chủ sử dụng đất là Chi nhánh Công ty Cổ phần lương thực Hưng Yên tại Ân Thi (cập nhật ngày 22/5/2014)
A13: 1. | B13: Nội dung Thửa đất theo Hồ sơ pháp lý
A14: 1.1 | B14: Thửa đất:
A15: - | B15: Thửa đất số: | C15: 447 | D15: Tờ bản đồ số: | E15: 12
A16: - | B16: Địa chỉ: | C16: Thị trấn Vương, huyện Tiên Lữ, tỉnh Hưng Yên | F16: =C16 -> Thị trấn Vương, huyện Tiên Lữ, tỉnh Hưng Yên
A17: - | B17: Diện tích (m²): | C17: 1279 | D17: Mục đích sử dụng: | E17: XD cửa hàng mua bán lương thực, nông, lâm, hải sản và VTNN
A18: - | B18: Hình thức sử dụng: | C18: Sử dụng riêng: Đất ở 30,5m², đất trồng cây lâu năm 25,6m²; Sử dụng chung: Đất trồng cây lâu năm 43,5m²
A19: - | B19: Thời hạn sử dụng: | C19: 35 năm (từ ngày 15/10/1993 đến ngày 15/10/2028)
A20: - | B20: Nguồn gốc sử dụng: | C20: Nhà nước giao đất không thu tiền sử dụng đất, chuyển sang thuê đất trả tiền hàng năm
A21: - | B21: Những thay đổi sau khi cấp GCN: | C21: Ngày 12/6/2023: Người sử dụng đất đổi địa chỉ thường trú từ tổ 18, phường Chăm Mát, thị xã Hòa Bình thành tổ 7, phường Dân Chủ, thành phố Hòa Bình. Đổi địa chỉ thửa đất từ phường Chăm Mát, thị xã Hòa Bình thành TDP số 7, phường Dân Chủ, thành phố Hòa Bình, theo hồ sơ số 033648.DT.004.
A22: - | B22: Thông tin quy hoạch: | C22: Tại thời điểm thẩm định giá, tổ thẩm định không thu thập được thông tin quy hoạch liên quan đến thửa đất
A23: 1.2 | B23: Nhà ở:
A24: - | B24: Địa chỉ: | C24: =C16 -> Thị trấn Vương, huyện Tiên Lữ, tỉnh Hưng Yên
A25: - | B25: Diện tích xây dựng (m²): | C25: 6 | D25: Diện tích sàn (m²): | E25: 286.2
A26: - | B26: Kết cấu: | C26: Tường xây gạch, khung, sàn và mái bằng bê tông
A27: - | B27: Cấp (Hạng): | C27: III | D27: Số tầng: | E27: 3.5
A28: - | B28: Năm hoàn thành xây dựng: | C28: 2010 | D28: Thời hạn sở hữu: | E28: ./.
A29: 2. | B29: Về đất:
A30: 2.1 | B30: Vị trí; Giao thông;
A31: - | B31: Địa chỉ thực tế: | C31: =C16 -> Thị trấn Vương, huyện Tiên Lữ, tỉnh Hưng Yên | F31: =C31 -> Thị trấn Vương, huyện Tiên Lữ, tỉnh Hưng Yên
A32: - | B32: Vị trí tài sản theo Bảng giá đất UBND TP Hà Nội: | C32: Vị trí 1: Đường tỉnh lộ 416 từ Ngã tư Tùng Thiện đến hết địa phận thị xã Sơn Tây | F32: =C32 -> Vị trí 1: Đường tỉnh lộ 416 từ Ngã tư Tùng Thiện đến hết địa phận thị xã Sơn Tây
A33: - | B33: Đường tiếp giáp chính: | C33: Đường QL39B | D33: Số mặt tiền: | E33: 1 mặt tiền | F33: =C31 -> Thị trấn Vương, huyện Tiên Lữ, tỉnh Hưng Yên
A34: - | B34: Mặt cắt đường/ngõ nhỏ nhất từ đường chính dẫn đến tài sản thẩm định giá: | C34: 5m | D34: Mặt cắt đường/ngõ trước mặt tài sản thẩm định giá: | E34: 5m | F34: =E34 -> 5m
A35: - | B35: Giao thông: | C35: Tài sản tiếp giáp đường QL39B
A36: - | B36: Khoảng cách đến trục chính: | C36: Tài sản cách UBND Thị trấn Vương khoảng 800m
A37: - | B37: Các hướng tiếp giáp: | C37: - Hướng Tây Bắc: tiếp giáp đường QL39B - Các hướng khác: tiếp giáp với các thửa đất khác
A38: - | B38: Vị trí trên bản đồ vệ tinh:
A39: - | F39: https://www.google.com/maps/place/21%C2%B005'31.5%22N+105%C2%B028'17.3%22E/@21.0920782,105.4689072,1018m/data=!3m2!1e3!4b1!4m4!3m3!8m2!3d21.0920782!4d105.4714821!5m1!1e1?entry=ttu&g_ep=EgoyMDI0MDgyMy4wIKXMDSoASAFQAw%3D%3D
A40: 2.2. | B40: Diện tích; Kích thước; Hình dáng
A41: - | B41: Diện tích sử dụng riêng thực tế (m²): | C41: =C17 -> 1279 | D41: Diện tích sử dụng chung thực tế (m²): | E41: -/-
A42: - | B42: KT mặt tiền (m): | C42: 27.19 | D42: Chiều sâu (m): | E42: =6.63+23.44+12.79+47.97 -> 90.83
...

Sheet 7
F1: AI 086828 | G1: Thông tin cũ
F2: T00931 QSDĐ/QĐ-2352/T-2007
F3: UBND tỉnh Hưng Yên
F4: 17/01/2008
F5: Công ty Cổ phần Lương thực Hưng Yên (cập nhật ngày 22/5/2014)
F6: Giấy chứng nhận Giá trị lợi thế quyền thuê đất trả tiền hàng năm
A7: PHIẾU ĐIỀU TRA, KHẢO SÁT TÀI SẢN THẨM ĐỊNH
A8: ="Thời điểm khảo sát: Ngày "&[152]TTCB!E1&" tháng "&[152]TTCB!F1&" năm 20"&[152]TTCB!G1 -> Thời điểm khảo sát: Ngày tháng năm 20
A11: I. TÀI SẢN; ĐẶC ĐIỂM CỦA TÀI SẢN THẨM ĐỊNH GIÁ
A12: Tên tài sản | B12: ="Giá trị lợi thế quyền thuê đất trả tiền hàng năm tại thửa đất số: "&C15&", tờ bản đồ số: "&E15&" có địa chỉ: "&F16&", theo "&F6&" số: "&F1&", số vào sổ cấp GCN: "&F2&" do "&F3&" cấp ngày "&F4&". Chủ sử dụng đất là "&F5 -> Giá trị lợi thế quyền thuê đất trả tiền hàng năm tại thửa đất số: 30, tờ bản đồ số: 9 có địa chỉ: Phường Minh Khai, thị xã Hưng Yên, tỉnh Hưng Yên (nay là thành phố Hưng Yên, tỉnh Hưng Yên), theo Giấy chứng nhận Giá trị lợi thế quyền thuê đất trả tiền hàng năm số: AI 086828, số vào sổ cấp GCN: T00931 QSDĐ/QĐ-2352/T-2007 do UBND tỉnh Hưng Yên cấp ngày 17/01/2008. Chủ sử dụng đất là Công ty Cổ phần Lương thực Hưng Yên (cập nhật ngày 22/5/2014) | F12: =B12 -> Giá trị lợi thế quyền thuê đất trả tiền hàng năm tại thửa đất số: 30, tờ bản đồ số: 9 có địa chỉ: Phường Minh Khai, thị xã Hưng Yên, tỉnh Hưng Yên (nay là thành phố Hưng Yên, tỉnh Hưng Yên), theo Giấy chứng nhận Giá trị lợi thế quyền thuê đất trả tiền hàng năm số: AI 086828, số vào sổ cấp GCN: T00931 QSDĐ/QĐ-2352/T-2007 do UBND tỉnh Hưng Yên cấp ngày 17/01/2008. Chủ sử dụng đất là Công ty Cổ phần Lương thực Hưng Yên (cập nhật ngày 22/5/2014)
A13: 1. | B13: Nội dung Thửa đất theo Hồ sơ pháp lý
A14: 1.1 | B14: Thửa đất:
A15: - | B15: Thửa đất số: | C15: 30 | D15: Tờ bản đồ số: | E15: 9
A16: - | B16: Địa chỉ: | C16: Phường Minh Khai, thị xã Hưng Yên, tỉnh Hưng Yên (nay là thành phố Hưng Yên, tỉnh Hưng Yên) | F16: =C16 -> Phường Minh Khai, thị xã Hưng Yên, tỉnh Hưng Yên (nay là thành phố Hưng Yên, tỉnh Hưng Yên)
A17: - | B17: Diện tích (m²): | C17: 1190 | D17: Mục đích sử dụng: | E17: XD cửa hàng mua bán lương thực, nông, lâm, hải sản và VTNN
A18: - | B18: Hình thức sử dụng: | C18: Sử dụng riêng: Đất ở 30,5m², đất trồng cây lâu năm 25,6m²; Sử dụng chung: Đất trồng cây lâu năm 43,5m²
A19: - | B19: Thời hạn sử dụng: | C19: 35 năm (từ ngày 15/10/1993 đến ngày 15/10/2028)
A20: - | B20: Nguồn gốc sử dụng: | C20: Nhà nước giao đất không thu tiền sử dụng đất, chuyển sang thuê đất trả tiền hàng năm
A21: - | B21: Những thay đổi sau khi cấp GCN: | C21: Ngày 12/6/2023: Người sử dụng đất đổi địa chỉ thường trú từ tổ 18, phường Chăm Mát, thị xã Hòa Bình thành tổ 7, phường Dân Chủ, thành phố Hòa Bình. Đổi địa chỉ thửa đất từ phường Chăm Mát, thị xã Hòa Bình thành TDP số 7, phường Dân Chủ, thành phố Hòa Bình, theo hồ sơ số 033648.DT.004.
A22: - | B22: Thông tin quy hoạch: | C22: Tại thời điểm thẩm định giá, tổ thẩm định không thu thập được thông tin quy hoạch liên quan đến thửa đất
A23: 1.2 | B23: Nhà ở:
A24: - | B24: Địa chỉ: | C24: =C16 -> Phường Minh Khai, thị xã Hưng Yên, tỉnh Hưng Yên (nay là thành phố Hưng Yên, tỉnh Hưng Yên)
A25: - | B25: Diện tích xây dựng (m²): | C25: 6 | D25: Diện tích sàn (m²): | E25: 286.2
A26: - | B26: Kết cấu: | C26: Tường xây gạch, khung, sàn và mái bằng bê tông
A27: - | B27: Cấp (Hạng): | C27: III | D27: Số tầng: | E27: 3.5
A28: - | B28: Năm hoàn thành xây dựng: | C28: 2010 | D28: Thời hạn sở hữu: | E28: ./.
A29: 2. | B29: Về đất:
A30: 2.1 | B30: Vị trí; Giao thông;
A31: - | B31: Địa chỉ thực tế: | C31: =C16 -> Phường Minh Khai, thị xã Hưng Yên, tỉnh Hưng Yên (nay là thành phố Hưng Yên, tỉnh Hưng Yên) | F31: =C31 -> Phường Minh Khai, thị xã Hưng Yên, tỉnh Hưng Yên (nay là thành phố Hưng Yên, tỉnh Hưng Yên)
A32: - | B32: Vị trí tài sản theo Bảng giá đất UBND TP Hà Nội: | C32: Vị trí 1: Đường tỉnh lộ 416 từ Ngã tư Tùng Thiện đến hết địa phận thị xã Sơn Tây | F32: =C32 -> Vị trí 1: Đường tỉnh lộ 416 từ Ngã tư Tùng Thiện đến hết địa phận thị xã Sơn Tây
A33: - | B33: Đường tiếp giáp chính: | C33: Đường Bạch Đằng | D33: Số mặt tiền: | E33: 2 mặt tiền | F33: =C31 -> Phường Minh Khai, thị xã Hưng Yên, tỉnh Hưng Yên (nay là thành phố Hưng Yên, tỉnh Hưng Yên)
A34: - | B34: Mặt cắt đường/ngõ nhỏ nhất từ đường chính dẫn đến tài sản thẩm định giá: | C34: 5m | D34: Mặt cắt đường/ngõ trước mặt tài sản thẩm định giá: | E34: 5m | F34: =E34 -> 5m
A35: - | B35: Giao thông: | C35: Tài sản tiếp giáp đường Bạch Đằng
A36: - | B36: Khoảng cách đến trục chính: | C36: Tài sản cách DT38B khoảng 2km
A37: - | B37: Các hướng tiếp giáp: | C37: - Hướng Nam: tiếp giáp đường Bạch Đằng - Hướng Đông: tiếp giáp phố Tân Nhân - Các hướng khác: tiếp giáp với các thửa đất khác
A38: - | B38: Vị trí trên bản đồ vệ tinh:
A39: - | F39: https://www.google.com/maps/place/21%C2%B005'31.5%22N+105%C2%B028'17.3%22E/@21.0920782,105.4689072,1018m/data=!3m2!1e3!4b1!4m4!3m3!8m2!3d21.0920782!4d105.4714821!5m1!1e1?entry=ttu&g_ep=EgoyMDI0MDgyMy4wIKXMDSoASAFQAw%3D%3D
A40: 2.2. | B40: Diện tích; Kích thước; Hình dáng
A41: - | B41: Diện tích sử dụng riêng thực tế (m²): | C41: =C17 -> 1190 | D41: Diện tích sử dụng chung thực tế (m²): | E41: -/-
A42: - | B42: KT mặt tiền (m): | C42: 23.6 | D42: Chiều sâu (m): | E42: 43.6
...

Sheet 8
F1: AI 086827 | G1: Thông tin cũ
F2: T00930 QSDĐ/QĐ-2352/T-2007
F3: UBND tỉnh Hưng Yên
F4: 17/01/2008
F5: Công ty Cổ phần Lương thực Hưng Yên (cập nhật ngày 22/5/2014)
F6: Giấy chứng nhận Giá trị lợi thế quyền thuê đất trả tiền hàng năm
A7: PHIẾU ĐIỀU TRA, KHẢO SÁT TÀI SẢN THẨM ĐỊNH
A8: ="Thời điểm khảo sát: Ngày "&[152]TTCB!E1&" tháng "&[152]TTCB!F1&" năm 20"&[152]TTCB!G1 -> Thời điểm khảo sát: Ngày tháng năm 20
A11: I. TÀI SẢN; ĐẶC ĐIỂM CỦA TÀI SẢN THẨM ĐỊNH GIÁ
A12: Tên tài sản | B12: ="Giá trị lợi thế quyền thuê đất trả tiền hàng năm tại thửa đất số: "&C15&", tờ bản đồ số: "&E15&" có địa chỉ: "&F16&", theo "&F6&" số: "&F1&", số vào sổ cấp GCN: "&F2&" do "&F3&" cấp ngày "&F4&". Chủ sử dụng đất là "&F5 -> Giá trị lợi thế quyền thuê đất trả tiền hàng năm tại thửa đất số: 189, tờ bản đồ số: 6 có địa chỉ: Phường Minh Khai, thị xã Hưng Yên, tỉnh Hưng Yên (nay là thành phố Hưng Yên, tỉnh Hưng Yên), theo Giấy chứng nhận Giá trị lợi thế quyền thuê đất trả tiền hàng năm số: AI 086827, số vào sổ cấp GCN: T00930 QSDĐ/QĐ-2352/T-2007 do UBND tỉnh Hưng Yên cấp ngày 17/01/2008. Chủ sử dụng đất là Công ty Cổ phần Lương thực Hưng Yên (cập nhật ngày 22/5/2014) | F12: =B12 -> Giá trị lợi thế quyền thuê đất trả tiền hàng năm tại thửa đất số: 189, tờ bản đồ số: 6 có địa chỉ: Phường Minh Khai, thị xã Hưng Yên, tỉnh Hưng Yên (nay là thành phố Hưng Yên, tỉnh Hưng Yên), theo Giấy chứng nhận Giá trị lợi thế quyền thuê đất trả tiền hàng năm số: AI 086827, số vào sổ cấp GCN: T00930 QSDĐ/QĐ-2352/T-2007 do UBND tỉnh Hưng Yên cấp ngày 17/01/2008. Chủ sử dụng đất là Công ty Cổ phần Lương thực Hưng Yên (cập nhật ngày 22/5/2014)
A13: 1. | B13: Nội dung Thửa đất theo Hồ sơ pháp lý
A14: 1.1 | B14: Thửa đất:
A15: - | B15: Thửa đất số: | C15: 189 | D15: Tờ bản đồ số: | E15: 6
A16: - | B16: Địa chỉ: | C16: Phường Minh Khai, thị xã Hưng Yên, tỉnh Hưng Yên (nay là thành phố Hưng Yên, tỉnh Hưng Yên) | F16: =C16 -> Phường Minh Khai, thị xã Hưng Yên, tỉnh Hưng Yên (nay là thành phố Hưng Yên, tỉnh Hưng Yên)
A17: - | B17: Diện tích (m²): | C17: 1027 | D17: Mục đích sử dụng: | E17: XD cửa hàng mua bán lương thực, nông, lâm, hải sản và VTNN
A18: - | B18: Hình thức sử dụng: | C18: Sử dụng riêng: Đất ở 30,5m², đất trồng cây lâu năm 25,6m²; Sử dụng chung: Đất trồng cây lâu năm 43,5m²
A19: - | B19: Thời hạn sử dụng: | C19: 35 năm (từ ngày 15/10/1993 đến ngày 15/10/2028)
A20: - | B20: Nguồn gốc sử dụng: | C20: Nhà nước giao đất không thu tiền sử dụng đất, chuyển sang thuê đất trả tiền hàng năm
A21: - | B21: Những thay đổi sau khi cấp GCN: | C21: Ngày 12/6/2023: Người sử dụng đất đổi địa chỉ thường trú từ tổ 18, phường Chăm Mát, thị xã Hòa Bình thành tổ 7, phường Dân Chủ, thành phố Hòa Bình. Đổi địa chỉ thửa đất từ phường Chăm Mát, thị xã Hòa Bình thành TDP số 7, phường Dân Chủ, thành phố Hòa Bình, theo hồ sơ số 033648.DT.004.
A22: - | B22: Thông tin quy hoạch: | C22: Tại thời điểm thẩm định giá, tổ thẩm định không thu thập được thông tin quy hoạch liên quan đến thửa đất
A23: 1.2 | B23: Nhà ở:
A24: - | B24: Địa chỉ: | C24: =C16 -> Phường Minh Khai, thị xã Hưng Yên, tỉnh Hưng Yên (nay là thành phố Hưng Yên, tỉnh Hưng Yên)
A25: - | B25: Diện tích xây dựng (m²): | C25: 6 | D25: Diện tích sàn (m²): | E25: 286.2
A26: - | B26: Kết cấu: | C26: Tường xây gạch, khung, sàn và mái bằng bê tông
A27: - | B27: Cấp (Hạng): | C27: III | D27: Số tầng: | E27: 3.5
A28: - | B28: Năm hoàn thành xây dựng: | C28: 2010 | D28: Thời hạn sở hữu: | E28: ./.
A29: 2. | B29: Về đất:
A30: 2.1 | B30: Vị trí; Giao thông;
A31: - | B31: Địa chỉ thực tế: | C31: =C16 -> Phường Minh Khai, thị xã Hưng Yên, tỉnh Hưng Yên (nay là thành phố Hưng Yên, tỉnh Hưng Yên) | F31: =C31 -> Phường Minh Khai, thị xã Hưng Yên, tỉnh Hưng Yên (nay là thành phố Hưng Yên, tỉnh Hưng Yên)
A32: - | B32: Vị trí tài sản theo Bảng giá đất UBND TP Hà Nội: | C32: Vị trí 1: Đường tỉnh lộ 416 từ Ngã tư Tùng Thiện đến hết địa phận thị xã Sơn Tây | F32: =C32 -> Vị trí 1: Đường tỉnh lộ 416 từ Ngã tư Tùng Thiện đến hết địa phận thị xã Sơn Tây
A33: - | B33: Đường tiếp giáp chính: | C33: Phố Tân Nhân | D33: Số mặt tiền: | E33: 1 mặt tiền | F33: =C31 -> Phường Minh Khai, thị xã Hưng Yên, tỉnh Hưng Yên (nay là thành phố Hưng Yên, tỉnh Hưng Yên)
A34: - | B34: Mặt cắt đường/ngõ nhỏ nhất từ đường chính dẫn đến tài sản thẩm định giá: | C34: 5m | D34: Mặt cắt đường/ngõ trước mặt tài sản thẩm định giá: | E34: 5m | F34: =E34 -> 5m
A35: - | B35: Giao thông: | C35: Tài sản tiếp giáp phố Tân Nhân
A36: - | B36: Khoảng cách đến trục chính: | C36: Tài sản cách DT38B khoảng 1,9km
A37: - | B37: Các hướng tiếp giáp: | C37: - Hướng Đông: tiếp giáp phố Tân Nhân - Các hướng khác: tiếp giáp với các thửa đất khác
A38: - | B38: Vị trí trên bản đồ vệ tinh:
A39: - | F39: https://www.google.com/maps/place/21%C2%B005'31.5%22N+105%C2%B028'17.3%22E/@21.0920782,105.4689072,1018m/data=!3m2!1e3!4b1!4m4!3m3!8m2!3d21.0920782!4d105.4714821!5m1!1e1?entry=ttu&g_ep=EgoyMDI0MDgyMy4wIKXMDSoASAFQAw%3D%3D
A40: 2.2. | B40: Diện tích; Kích thước; Hình dáng
A41: - | B41: Diện tích sử dụng riêng thực tế (m²): | C41: =C17 -> 1027 | D41: Diện tích sử dụng chung thực tế (m²): | E41: -/-
A42: - | B42: KT mặt tiền (m): | C42: 24.3 | D42: Chiều sâu (m): | E42: 46.5
...

Sheet 9
F1: AI 086819 | G1: Thông tin cũ
F2: T00924 QSDĐ/QĐ-2354/T-2007
F3: UBND tỉnh Hưng Yên
F4: 17/01/2008
F5: Chi nhánh Công ty Cổ phần lương thực Hưng Yên tại Ân Thi (cập nhật ngày 22/5/2014)
F6: Giấy chứng nhận Giá trị lợi thế quyền thuê đất trả tiền hàng năm
A7: PHIẾU ĐIỀU TRA, KHẢO SÁT TÀI SẢN THẨM ĐỊNH
A8: ="Thời điểm khảo sát: Ngày "&[152]TTCB!E1&" tháng "&[152]TTCB!F1&" năm 20"&[152]TTCB!G1 -> Thời điểm khảo sát: Ngày tháng năm 20
A11: I. TÀI SẢN; ĐẶC ĐIỂM CỦA TÀI SẢN THẨM ĐỊNH GIÁ
A12: Tên tài sản | B12: ="Giá trị lợi thế quyền thuê đất trả tiền hàng năm và tài sản gắn liền với đất tại thửa đất số: "&C15&", tờ bản đồ số: "&E15&" có địa chỉ: "&F16&", theo "&F6&" số: "&F1&", số vào sổ cấp GCN: "&F2&" do "&F3&" cấp ngày "&F4&". Chủ sử dụng đất là "&F5 -> Giá trị lợi thế quyền thuê đất trả tiền hàng năm và tài sản gắn liền với đất tại thửa đất số: 30, tờ bản đồ số: 30 có địa chỉ: Thị trấn Ân Thi, huyện Ân Thi, tỉnh Hưng Yên, theo Giấy chứng nhận Giá trị lợi thế quyền thuê đất trả tiền hàng năm số: AI 086819, số vào sổ cấp GCN: T00924 QSDĐ/QĐ-2354/T-2007 do UBND tỉnh Hưng Yên cấp ngày 17/01/2008. Chủ sử dụng đất là Chi nhánh Công ty Cổ phần lương thực Hưng Yên tại Ân Thi (cập nhật ngày 22/5/2014) | F12: =B12 -> Giá trị lợi thế quyền thuê đất trả tiền hàng năm và tài sản gắn liền với đất tại thửa đất số: 30, tờ bản đồ số: 30 có địa chỉ: Thị trấn Ân Thi, huyện Ân Thi, tỉnh Hưng Yên, theo Giấy chứng nhận Giá trị lợi thế quyền thuê đất trả tiền hàng năm số: AI 086819, số vào sổ cấp GCN: T00924 QSDĐ/QĐ-2354/T-2007 do UBND tỉnh Hưng Yên cấp ngày 17/01/2008. Chủ sử dụng đất là Chi nhánh Công ty Cổ phần lương thực Hưng Yên tại Ân Thi (cập nhật ngày 22/5/2014)
A13: 1. | B13: Nội dung Thửa đất theo Hồ sơ pháp lý
A14: 1.1 | B14: Thửa đất:
A15: - | B15: Thửa đất số: | C15: 30 | D15: Tờ bản đồ số: | E15: 30
A16: - | B16: Địa chỉ: | C16: Thị trấn Ân Thi, huyện Ân Thi, tỉnh Hưng Yên | F16: =C16 -> Thị trấn Ân Thi, huyện Ân Thi, tỉnh Hưng Yên
A17: - | B17: Diện tích (m²): | C17: 891 | D17: Mục đích sử dụng: | E17: XD cửa hàng mua bán lương thực, nông, lâm, hải sản và VTNN
A18: - | B18: Hình thức sử dụng: | C18: Sử dụng riêng: Đất ở 30,5m², đất trồng cây lâu năm 25,6m²; Sử dụng chung: Đất trồng cây lâu năm 43,5m²
A19: - | B19: Thời hạn sử dụng: | C19: 35 năm (từ ngày 15/10/1993 đến ngày 15/10/2028)
A20: - | B20: Nguồn gốc sử dụng: | C20: Nhà nước giao đất không thu tiền sử dụng đất, chuyển sang thuê đất trả tiền hàng năm
A21: - | B21: Những thay đổi sau khi cấp GCN: | C21: Ngày 12/6/2023: Người sử dụng đất đổi địa chỉ thường trú từ tổ 18, phường Chăm Mát, thị xã Hòa Bình thành tổ 7, phường Dân Chủ, thành phố Hòa Bình. Đổi địa chỉ thửa đất từ phường Chăm Mát, thị xã Hòa Bình thành TDP số 7, phường Dân Chủ, thành phố Hòa Bình, theo hồ sơ số 033648.DT.004.
A22: - | B22: Thông tin quy hoạch: | C22: Tại thời điểm thẩm định giá, tổ thẩm định không thu thập được thông tin quy hoạch liên quan đến thửa đất
A23: 1.2 | B23: Nhà ở:
A24: - | B24: Địa chỉ: | C24: =C16 -> Thị trấn Ân Thi, huyện Ân Thi, tỉnh Hưng Yên
A25: - | B25: Diện tích xây dựng (m²): | C25: 6 | D25: Diện tích sàn (m²): | E25: 286.2
