Workbook
Name \0: '[1]PNT-QUOT-#3'!#REF!
Name \d: '[2]??-BLDG'!#REF!
Name \e: '[2]??-BLDG'!#REF!
Name \f: '[2]??-BLDG'!#REF!
Name \g: '[2]??-BLDG'!#REF!
Name \h: '[2]??-BLDG'!#REF!
Name \i: '[2]??-BLDG'!#REF!
Name \j: '[2]??-BLDG'!#REF!
Name \k: '[2]??-BLDG'!#REF!
Name \l: '[2]??-BLDG'!#REF!
Name \m: '[2]??-BLDG'!#REF!
Name \n: '[2]??-BLDG'!#REF!
Name \o: '[2]??-BLDG'!#REF!
Name \z: '[1]COAT&WRAP-QIOT-#3'!#REF!
Name _??: BlankMacro1
Name _??: BlankMacro1
Name _??: BlankMacro1
Name _??: BlankMacro1
Name _??: BlankMacro1
Name _??: BlankMacro1
Name _??: BlankMacro1
Name _??: BlankMacro1
Name _??????1: BlankMacro1
Name _??????1: BlankMacro1
Name _??????1: BlankMacro1
Name _??????1: BlankMacro1
Name _??????1: BlankMacro1
Name _??????1: BlankMacro1
Name _??????1: BlankMacro1
Name _??????1: BlankMacro1
Name _??????2: BlankMacro1
Name _??????2: BlankMacro1
Name _??????2: BlankMacro1
Name _??????2: BlankMacro1
Name _??????2: BlankMacro1
Name _??????2: BlankMacro1
Name _??????2: BlankMacro1
Name _??????2: BlankMacro1
Name _??????3: BlankMacro1
Name _??????3: BlankMacro1
Name _??????3: BlankMacro1
Name _??????3: BlankMacro1
Name _??????3: BlankMacro1
Name _??????3: BlankMacro1
Name _??????3: BlankMacro1
Name _??????3: BlankMacro1
Name _??????4: BlankMacro1
Name _??????4: BlankMacro1
Name _??????4: BlankMacro1
Name _??????4: BlankMacro1
Name _??????4: BlankMacro1
Name _??????4: BlankMacro1
Name _??????4: BlankMacro1
Name _??????4: BlankMacro1
Name _??????5: BlankMacro1
Name _??????5: BlankMacro1
Name _??????5: BlankMacro1
Name _??????5: BlankMacro1
Name _??????5: BlankMacro1
Name _??????5: BlankMacro1

Sheet TSTĐ
F1: CG 068978
F2: CT 34294
F3: Sở Tài Nguyên và Môi Trường tỉnh Đồng Nai
F4: 16/3/2017
F5: Công ty Cổ phần Đầu tư An Thịnh Đồng Nai
F6: Giấy chứng nhận quyền sử dụng đất quyền sở hữu nhà ở và tài sản khác gắn liền với đất
A7: PHIẾU ĐIỀU TRA, KHẢO SÁT TÀI SẢN THẨM ĐỊNH
A8: ="Thời điểm khảo sát: Ngày "&[150]TTCB!E1&" tháng "&[150]TTCB!F1&" năm 20"&[150]TTCB!G1 -> Thời điểm khảo sát: Ngày tháng năm 20
A11: I. TÀI SẢN; ĐẶC ĐIỂM CỦA TÀI SẢN THẨM ĐỊNH GIÁ
A12: Tên tài sản | B12: ="Giá trị công trình xây dựng và lợi thế quyền thuê đất trả tiền hàng năm (Đến ngày 08/08/2058) tại thửa đất số: "&C15&", tờ bản đồ số: "&E15&" có địa chỉ: "&F16&" theo "&F6&" số: "&F1&", số vào sổ cấp GCN: "&F2&" do "&F3&" cấp ngày "&F4&" cho "&F5 -> Giá trị công trình xây dựng và lợi thế quyền thuê đất trả tiền hàng năm (Đến ngày 08/08/2058) tại thửa đất số: 260, tờ bản đồ số: 15 có địa chỉ: xã Giang Điền, huyện Trảng Bom, tỉnh Đồng Nai theo Giấy chứng nhận quyền sử dụng đất quyền sở hữu nhà ở và tài sản khác gắn liền với đất số: CG 068978, số vào sổ cấp GCN: CT 34294 do Sở Tài Nguyên và Môi Trường tỉnh Đồng Nai cấp ngày 16/3/2017 cho Công ty Cổ phần Đầu tư An Thịnh Đồng Nai | F12: =B12 -> Giá trị công trình xây dựng và lợi thế quyền thuê đất trả tiền hàng năm (Đến ngày 08/08/2058) tại thửa đất số: 260, tờ bản đồ số: 15 có địa chỉ: xã Giang Điền, huyện Trảng Bom, tỉnh Đồng Nai theo Giấy chứng nhận quyền sử dụng đất quyền sở hữu nhà ở và tài sản khác gắn liền với đất số: CG 068978, số vào sổ cấp GCN: CT 34294 do Sở Tài Nguyên và Môi Trường tỉnh Đồng Nai cấp ngày 16/3/2017 cho Công ty Cổ phần Đầu tư An Thịnh Đồng Nai
A13: 1. | B13: Nội dung Thửa đất theo Hồ sơ pháp lý
A14: 1.1 | B14: Thửa đất: | G14: GG
A15: - | B15: Thửa đất số: | C15: 260 | D15: Tờ bản đồ số: | E15: 15
A16: - | B16: Địa chỉ: | C16: xã Giang Điền, huyện Trảng Bom, tỉnh Đồng Nai | F16: =C16 -> xã Giang Điền, huyện Trảng Bom, tỉnh Đồng Nai
A17: - | B17: Diện tích (m²): | C17: 11354 | D17: Hình thức sử dụng | E17: Sử dụng riêng | F17: sdsdsđ
A18: - | B18: Mục đích sử dụng: | C18: Đất khu công nghiệp | D18: Thời hạn sử dụng: | E18: Đến ngày 08/08/2058
A19: - | B19: Nguồn gốc sử dụng đất: | C19: Thuê đất trả tiền hàng năm của doanh nghiệp đầu tư hạ tầng khu công nghiệp (Tổng Công ty Cổ phần phát triển khu công nghiệp)
A20: - | B20: Thông tin quy hoạch: | C20: Tại thời điểm thẩm định giá, tổ thẩm định không thu thập được các thông tin quy hoạch liên quan đến thửa đất thẩm định giá.
A21: 1.2. | B21: Nhà ở
A22: - | B22: Loại nhà ở: | D22: Hình thức sở hữu:
A23: - | B23: Diện tích xây dựng (m²): | D23: Diện tích sử dụng (m²): | F23: =C30 -> Đường số 4, Khu công nghiệp Giang Điền, xã Giang Điền, huyện Trảng Bom, tỉnh Đồng Nai | I23: 192.5
A24: - | B24: Số tầng: | D24: Kết cấu: | F24: =C31 -> 0
A25: 1.3. | B25: Ghi chú: | F25: =1.6*3.35 -> 5.36
A26: - | B26: Một phần thửa đất thuộc quy hoạch đường giao thông chưa có Quyết định thông báo thu hồi đất bản đồ tỷ lệ 1/500 theo Quyết định số 85/QĐ-UBND thành phố Hà Nội ngày 01/6/2006.
A27: 1.3. | B27: Thông tin quy hoạch: | F27: =E23/C23 -> #DIV/0!
A28: 2. | B28: Về đất: | F28: =C30 -> Đường số 4, Khu công nghiệp Giang Điền, xã Giang Điền, huyện Trảng Bom, tỉnh Đồng Nai
A29: 2.1 | B29: Vị trí; Giao thông; | F29: =E33 -> 16m cả vỉa hè
A30: - | B30: Địa chỉ thực tế: | C30: Đường số 4, Khu công nghiệp Giang Điền, xã Giang Điền, huyện Trảng Bom, tỉnh Đồng Nai | F30: =E34 -> 0
A31: - | B31: Vị trí tài sản theo Bảng giá đất UBND tỉnh/TP: | F31: =E36 -> 0
A32: - | B32: Đường tiếp giáp chính: | C32: Đường số 4 (đường nhựa) | D32: Số mặt tiền: | E32: 2 mặt tiền
A33: - | B33: Mặt cắt đường/ngõ nhỏ nhất từ đường chính dẫn đến tài sản thẩm định giá: | C33: 16m cả vỉa hè | D33: Mặt cắt đường/ngõ trước mặt tài sản thẩm định giá: | E33: 16m cả vỉa hè
A34: - | B34: Khoảng cách đến trục đường chính: | F34: =C34 -> 0
A35: - | B35: Giao thông: | C35: =PPSS!F117 -> Đường nội khu
A36: - | B36: Các hướng tiếp giáp: | C36: - Hướng Đông: Tài sản tiếp giáp đường đôi rộng khoảng 16
A37: - | B37: Vị trí trên bản đồ vệ tinh: | F37: https://www.google.com/maps?q=21.017253875732422,105.795166015625&z=14&t=m&mapclient=embed
A38: -
A39: 2.2. | B39: Diện tích; Kích thước; Hình dáng
A40: - | B40: Diện tích sử dụng riêng thực tế (m²): | C40: =C17 -> 11354 | D40: Diện tích sử dụng chung thực tế (m²): | E40: -/-
A41: - | B41: Diện tích sử dụng đất ở phù hợp quy hoạch(m²): | C41: =C40 -> 11354 | D41: Diện tích sử dụng đất ở thuộc quy hoạch giao thông (m²): | E41: 0
A42: - | B42: KT mặt tiền (m): | C42: 67.17 | D42: Chiều sâu (m): | E42: 149.98 | F42: =1.6+8.9 -> 10.5
A43: - | B43: KT mặt hậu (m): | C43: 76 | D43: Hình dáng | E43: Vuông vức, vát góc
A44: - | B44: Hướng mặt tiền chính: | C44: Đông
A45: 2.3. | B45: Điều kiện kinh doanh; Hạ tầng nội bộ; Hạ tầng xung quanh
A46: - | B46: Hạ tầng nội bộ: | C46: Cấp điện, cấp nước sạch, mạng internet,…hoàn thiện
A47: - | B47: Hạ tầng xung quanh: | C47: Môi trường trong lành, an ninh đảm bảo, dân trí tốt
A48: - | B48: Mật độ dân cư: | C48: Đông đúc | D48: Đời sống dân cư: | E48: Ổn định | F48: =50/12 -> 4.1666667
A49: - | B49: Lợi thế kinh doanh: | C49: Phù hợp cho thuê xưởng | D49: Khả năng chuyển nhượng: | E49: Tốt
A50: - | B50: Yếu tố bất lợi:
A51: - | B51: Yếu tố khác (nếu có):
A52: 3. | B52: Tài sản gắn liền với đất: | F52: =31.5*4 -> 126
A53: 3.1. | B53: Nhà xưởng
A54: - | B54: + Diện tích xây dựng: 6600m²; + Diện tích sàn xây dựng: 6600m²; + Kết cấu: Cột kèo thép, tường gạch, mái tôn, khẩu độ 60m. Ngoại quan công trình khá, xây dựng khoảng đầu năm 2016. + Tại thời điểm khảo sát tài sản đang hoạt động bình thường + Công trình trên đất đã được chứng nhận quyền sở hữu trên GCN số CG 068978. | F54: =85*2.5 -> 212.5
A55: 3.2. | B55: Nhà văn phòng
A56: - | B56: + Kết cấu: BTCT, mái thái; Ngoại quan khá, xây dựng khoảng đầu năm 2016 + Diện tích xây dựng: 150,0m²; + Tại thời điểm khảo sát tài sản đang hoạt động bình thường + Công trình trên đất đã được chứng nhận quyền sở hữu trên GCN số CG 068978.
A57: 3.3. | B57: Nhà bảo vệ
A58: - | B58: + Kết cấu: BTCT, mái bằng; Ngoại quan khá, xây dựng khoảng đầu năm 2016 + Diện tích xây dựng: 10,0m²; + Tại thời điểm khảo sát tài sản đang hoạt động bình thường + Công trình trên đất đã được chứng nhận quyền sở hữu trên GCN số CG 068978.
A59: 3.4 | B59: Nhà xe
A60: - | B60: + Kết cấu: Lán che lợp tôn, cột thép, nền lát xi măng. Ngoại quan khá, xây dựng khoảng đầu năm 2016 + Diện tích xây dựng: 612,0m²; + Tại thời điểm khảo sát tài sản đang hoạt động bình thường + Công trình trên đất đã được chứng nhận quyền sở hữu trên GCN số CG 068978.
A61: 3.5 | B61: Bể nước ngầm (nằm dưới nhà xe)
A62: - | B62: + Kết cấu: làm bằng BTCT, nắp BTCTC; Ngoại quan khá, xây dựng khoảng đầu năm 2016 + Diện tích xây dựng: 153,76m²; Dung tích khoảng 6m³ + Tại thời điểm khảo sát tài sản đang hoạt động bình thường + Công trình trên đất đã được chứng nhận quyền sở hữu trên GCN số CG 068978.
E83: =2560-1800 -> 760
D85: 30 | E85: =D85*68 -> 2040
E86: =E85+E83 -> 2800

Sheet PPSS
E1: CÔNG TY CỔ PHẦN THẨM ĐỊNH VÀ ĐẦU TƯ TÀI CHÍNH HOA SEN
E2: Trụ sở: BT5-23 Khu đô thị mới Văn Phú, Phường Phú La, Quận Hà Đông, Hà Nội
E3: Điện thoại: 085 329 3333/ 024 2264 4333
E4: Email: ilotus.contact@gmail.com Website: ilotus.com.vn
C7: PHỤ LỤC 01: THÔNG TIN TÀI SẢN THẨM ĐỊNH GIÁ VÀ TÀI SẢN SO SÁNH
C9: STT | D9: Các thông tin về tài sản | F9: Tài sản thẩm định giá | G9: TSSS1 | H9: TSSS2 | I9: TSSS3
F10: KCN An Xá, | G10: KCN An Xá, | H10: Khu công nghiệp Hố Nai 3, xã Hố Nai 3, huyện Trảng Bom, tỉnh Đồng Nai | I10: Khu công nghiệp Hố Nai 3, xã Hố Nai 3, huyện Trảng Bom, tỉnh Đồng Nai
C11: I | D11: THÔNG TIN VỀ TÀI SẢN
C12: 1 | D12: Thông tin so sánh | E12: Nguồn thông tin | G12: Khảo sát thị trường | H12: Khảo sát thị trường | I12: Khảo sát thị trường | J12: =2080/2600 -> 0.8
E13: Địa chỉ liên hệ | G13: SĐT: 0933805440 | H13: SĐT: 0933805440 | I13: SĐT: 0963728456
E14: Link tham khảo | G14: https://sosanhnha.com/chinh-chu-can-ban-gap-4309m2-nha-xuong-nha-dieu-hanh-5-tang-ngay-trung-tam-thanh-pho-nam-dinh-claYEL531 | H14: Liên hệ trực tiếp | I14: https://batdongsan.com.vn/ban-kho-nha-xuong-xa-ho-nai-3/ban-5000m2-kcn-trang-bom-dong-gia-1-3-trieu-pr40694526 | K14: =292.2/94.6 -> 3.0887949
C15: 2 | D15: Vị trí bất động sản | E15: Vị trí theo quy định UBND | F15: Khu công nghiệp: Giang Điền | G15: Khu công nghiệp: Hố Nai | H15: Khu công nghiệp: Hố Nai | I15: Khu công nghiệp: Hố Nai | J15: Ghi theo đúng như trong bảng giá đất | K15: =94.6*3 -> 283.8
E16: Đơn giá đất theo quy định UBND | F16: 2000000 | G16: 2000000 | H16: 2000000 | I16: 2000000
E17: Giao thông | F17: Đường nội khu | G17: Đường nội khu | J17: Thêm mô tả yếu tố giao thông: độ rộng đường, khoảng cách ra đường lớn, ... | K17: =292-K15 -> 8.2
E18: Khoảng cách từ TSTĐ đến các cơ quan hành chính, các điểm sinh hoạt, thương mại công cộng. Lợi thế kinh doanh | F18: Tài sản nằm giáp đường DH25, Thôn Quang Hưng, xã Hòa Quang Nam, huyện Phú Hòa, tỉnh Phú Yên. | G18: Tài sản nằm giáp đường DH22, Thôn Hạnh Lâm, xã Hòa Quang Bắc, huyện Phú Hòa, tỉnh Phú Yên | H18: Tài sản nằm giáp đường DH22, Thôn Hạnh Lâm, xã Hòa Quang Bắc, huyện Phú Hòa, tỉnh Phú Yên | I18: Tài sản nằm giáp đường thôn, Thôn Nho Lâm, xã Hòa Quang Nam, huyện Phú Hòa, tỉnh Phú Yên | J18: Thêm yếu tố lợi thế kinh doanh của khu vực
C19: 3 | D19: Đặc điểm kỹ thuật thửa đất | E19: Diện tích chứng nhận | F19: 10855 | G19: 4307 | H19: 18800 | I19: 5000
E20: Diện tích sử dụng riêng | F20: =+F19 -> 10855 | G20: =+G19 -> 4307 | H20: =H19 -> 18800 | I20: =+I19 -> 5000
E21: Diện tích đất SKC | F21: =F20 -> 10855 | G21: 4307 | H21: =H20 -> 18800 | I21: 5000 | K21: =H37/H19 -> 4875000
E22: Diện tích đất CLN | F22: =F19-F21 -> 0 | G22: =G19-G21 -> 0 | H22: =H19-H21 -> 0 | I22: =I19-I21 -> 0
E23: Tỷ lệ đất ở/ tổng diện tích | F23: =F21/F20 -> 1 | G23: =G21/G20 -> 1 | H23: =H21/H20 -> 1 | I23: =I21/I20 -> 1
E24: Độ rộng mặt tiền | F24: 67 | G24: 130 | H24: 150 | I24: 50
E25: Kích thước chiều sâu | F25: =F19/F24 -> 162.01493 | G25: =G20/G24 -> 33.130769 | H25: =H19/H24 -> 125.33333 | I25: =I19/I24 -> 100 | J25: =F25/F24 -> 2.4181332
E26: Hình dáng thửa đất | F26: Vuông vức | G26: Vuông vức | H26: Vuông vức | I26: Vuông vức
E27: Số mặt thoáng | F27: 2 mặt tiền | G27: 1 mặt tiền | H27: 1 mặt tiền | I27: 1 mặt tiền
C28: 4 | D28: Các yếu tố ảnh hưởng khác | E28: Cơ sở hạ tầng kỹ thuật | F28: Hạ tầng khu công nghiệp: Được đầu tư, đồng bộ, đầy đủ,… | G28: Hạ tầng khu công nghiệp: Được đầu tư, đồng bộ, đầy đủ,… | H28: Hạ tầng khu công nghiệp: Được đầu tư, đồng bộ, đầy đủ,… | I28: Hạ tầng khu công nghiệp: Được đầu tư, đồng bộ, đầy đủ,… | L28: =16500*I19 -> 82500000
E29: Cảnh quan môi trường, an ninh trật tự | F29: Bình thường | G29: Bình thường | H29: Bình thường | I29: Bình thường | K29: =F25/F24 -> 2.4181332
C30: 5 | D30: Các yếu tố liên quan đến giao dịch | E30: Tình trạng giao dịch | G30: Đang chào bán trên thị trường | H30: Đang chào bán trên thị trường | I30: Đang chào bán trên thị trường | J30: Chuyển mô tả yếu tố giao dịch xuống cùng 1 trang với giá bán
E31: Tính chất giao dịch | F31: Giao dịch bình thường | G31: Giao dịch bình thường | H31: Giao dịch bình thường | I31: Giao dịch bình thường
E32: Điều kiện thanh toán | F32: Đất thuê trả tiền hàng năm | G32: Đất thuê trả tiền hàng năm | H32: Đất thuê trả tiền hàng năm | I32: Đất thuê trả tiền hàng năm
E33: Tình trạng pháp lý | F33: Có GCN QSDĐ | G33: Có GCN QSDĐ | H33: Có GCN QSDĐ | I33: Có GCN QSDĐ
E34: Mục đích sử dụng đất | F34: Đất khu công nghiệp | G34: =F34 -> Đất khu công nghiệp | H34: =G34 -> Đất khu công nghiệp | I34: =H34 -> Đất khu công nghiệp
E35: Nguồn gốc sử dụng đất | F35: Đất trả tiền hàng năm | G35: Đất trả tiền hàng năm | H35: Đất trả tiền hàng năm | I35: Đất trả tiền hàng năm
E36: Thời hạn sử dụng đất | F36: Tháng 8/2058 | G36: Năm 2065 | H36: Năm 2065 | I36: Năm 2065
C37: 6 | D37: Giá rao bán của tài sản | G37: 38000000000 | H37: 91650000000 | I37: 32500000000
C38: 7 | D38: Giá giao dịch thành công/ước tính giao dịch thành công | G38: =G37*0.8 -> 30400000000 | H38: =H37*0.7 -> 6.4155e+10 | I38: =I37*0.7 -> 22750000000 | K38: =G38/G37 -> 0.8 | L38: =H38/H37 -> 0.7 | M38: =I38/I37 -> 0.7
C39: 8 | D39: Công trình xây dựng trên đất | E39: Cấu trúc, kết cấu nhà | G39: Nhà điều hành | H39: Đất trống | I39: Nhà xưởng + nhà văn phòng + Nhà ở nhân viên + Nhà xe + Nhà bảo vệ
E40: Nhà xưởng | G40: =400*5*6898000*0.948/1.1*0.7 -> 8.3227505e+09 | I40: =1200*4918000*1.025/1.1*0.75 -> 4.1244136e+09
E41: Nhà văn phòng | G41: =2068*0.948*2825000/1.1*0.7 -> 3524379600 | I41: =100*9392000*1.062/1.1*0.75 -> 6.8006618e+08
E42: Nhà ở nhân viên | I42: =500*2613000*1.025/1.1*0.75 -> 9.1306534e+08
E43: Nhà xe | I43: =100*2613000*1.025/1.1*0.75 -> 1.8261307e+08
E44: Giá trị CTXD | G44: =SUM(G40:G43) -> 1.184713e+10 | H44: =SUM(H40:H43) -> 0 | I44: =SUM(I40:I43) -> 5.9001582e+09
C45: 9 | D45: Giá trị Quyền sử dụng đất | E45: Giá trị thửa đất (đồng) | G45: =G38-G44 -> 1.855287e+10 | H45: =H38-H44 -> 6.4155e+10 | I45: =I38-I44 -> 1.6849842e+10
C46: 10 | D46: Biến động giá (nếu có) | E46: Thời điểm giao dịch trên thị trường | F46: Tháng 02/2025 | G46: =F46 -> Tháng 02/2025 | H46: =G46 -> Tháng 02/2025 | I46: =H46 -> Tháng 02/2025 | J46: Thêm điều chỉnh biến động giá
E47: Tỷ lệ điều chỉnh biến động giá | G47: 0 | H47: 0 | I47: 0
E48: Giá trị Quyền sử dụng đất sau điều chỉnh | G48: =G45*(1+G47) -> 1.855287e+10 | H48: =H45*(1+H47) -> 6.4155e+10 | I48: =I45*(1+I47) -> 1.6849842e+10 | K48: =H48/H19 -> 3412500
E49: Đơn giá đất CLN theo UBND TP Hà Nội | K49: =K48*0.7 -> 2388750
E50: Giá trị đất trồng CLN (đồng) | F50: =F49*F22 -> 0 | G50: =G49*G22 -> 0 | H50: =H49*H22 -> 0 | I50: =I49*I22 -> 0 | K50: =K49*F19 -> 2.5929881e+10
E51: Giá trị đất ONT (đồng) | G51: =G48-G50 -> 1.855287e+10 | H51: =H48-H50 -> 6.4155e+10 | I51: =I48-I50 -> 1.6849842e+10
E52: Đơn giá Quyền sử dụng đất sau điều chỉnh (đồng/m²) | G52: =G51/G21 -> 4307608.5 | H52: =H51/H21 -> 3412500 | I52: =I51/I21 -> 3369968.4
C53: II | D53: NHẬN XÉT
C54: 1 | D54: =D87 -> Các yếu tố liên quan đến giao dịch | K54: =G37/338 -> 1.1242604e+08
C55: 1.1 | D55: =D88 -> Tính chất giao dịch | G55: =IF(G89=0%,"Tương đồng",IF(G89>0%,"Lợi thế hơn","Kém lợi thế hơn")) -> Tương đồng | H55: =IF(H89=0%,"Tương đồng",IF(H89>0%,"Lợi thế hơn","Kém lợi thế hơn")) -> Tương đồng | I55: =IF(I89=0%,"Tương đồng",IF(I89>0%,"Lợi thế hơn","Kém lợi thế hơn")) -> Tương đồng
C56: 1.2 | D56: =D92 -> Điều kiện thanh toán | G56: =IF(G93=0%,"Tương đồng",IF(G93>0%,"Lợi thế hơn","Kém lợi thế hơn")) -> Tương đồng | H56: =IF(H93=0%,"Tương đồng",IF(H93>0%,"Lợi thế hơn","Kém lợi thế hơn")) -> Tương đồng | I56: =IF(I93=0%,"Tương đồng",IF(I93>0%,"Lợi thế hơn","Kém lợi thế hơn")) -> Tương đồng
C57: 1.3 | D57: =D96 -> Tình trạng pháp lý | G57: =IF(G97=0%,"Tương đồng",IF(G97>0%,"Lợi thế hơn","Kém lợi thế hơn")) -> Tương đồng | H57: =IF(H97=0%,"Tương đồng",IF(H97>0%,"Lợi thế hơn","Kém lợi thế hơn")) -> Tương đồng | I57: =IF(I97=0%,"Tương đồng",IF(I97>0%,"Lợi thế hơn","Kém lợi thế hơn")) -> Tương đồng
C58: 1.4 | D58: =D100 -> Mục đích sử dụng đất | G58: =IF(G101=0%,"Tương đồng",IF(G101>0%,"Lợi thế hơn","Kém lợi thế hơn")) -> Tương đồng | H58: =IF(H101=0%,"Tương đồng",IF(H101>0%,"Lợi thế hơn","Kém lợi thế hơn")) -> Tương đồng | I58: =IF(I101=0%,"Tương đồng",IF(I101>0%,"Lợi thế hơn","Kém lợi thế hơn")) -> Tương đồng
C59: 1.5 | D59: =D104 -> Thời hạn sử dụng đất | G59: =IF(G105=0%,"Tương đồng",IF(G105<0%,"Lợi thế hơn","Kém lợi thế hơn")) -> Lợi thế hơn | H59: =IF(H105=0%,"Tương đồng",IF(H105<0%,"Lợi thế hơn","Kém lợi thế hơn")) -> Lợi thế hơn | I59: =IF(I105=0%,"Tương đồng",IF(I105<0%,"Lợi thế hơn","Kém lợi thế hơn")) -> Lợi thế hơn
C60: 2 | D60: =D108 -> Các yếu tố về đặc điểm của thửa đất | K60: https://www.facebook.com/groups/1551679508262753/permalink/5283587708405229/?sale_post_id=5283587708405229
C61: 2.1 | D61: =D113 -> Giao thông | G61: =IF(G114=0%,"Tương đồng",IF(G114>0%,"Lợi thế hơn","Kém lợi thế hơn")) -> Tương đồng | H61: =IF(H114=0%,"Tương đồng",IF(H114>0%,"Lợi thế hơn","Kém lợi thế hơn")) -> Tương đồng | I61: =IF(I114=0%,"Tương đồng",IF(I114>0%,"Lợi thế hơn","Kém lợi thế hơn")) -> Tương đồng | K61: 91m2-15 tỷ 2taangf cũ
C62: 2.2 | D62: =D117 -> Giao thông | G62: =IF(G118=0%,"Tương đồng",IF(G118<0%,"Lợi thế hơn","Kém lợi thế hơn")) -> Lợi thế hơn | H62: =IF(H118=0%,"Tương đồng",IF(H118<0%,"Lợi thế hơn","Kém lợi thế hơn")) -> Lợi thế hơn | I62: =IF(I118=0%,"Tương đồng",IF(I118<0%,"Lợi thế hơn","Kém lợi thế hơn")) -> Lợi thế hơn
C63: 2.3 | D63: =D121 -> Quy mô diện tích | G63: Lợi thế hơn | H63: Lợi thế hơn | I63: =IF(I122=0%,"Tương đồng",IF(I122>0%,"Lợi thế hơn","Kém lợi thế hơn")) -> Kém lợi thế hơn
C64: 2.4 | D64: =D125 -> Tỷ lệ đất ở/ tổng diện tích | G64: =IF(G126=0%,"Tương đồng",IF(G126>0%,"Lợi thế hơn","Kém lợi thế hơn")) -> Tương đồng | H64: =IF(H126=0%,"Tương đồng",IF(H126>0%,"Lợi thế hơn","Kém lợi thế hơn")) -> Tương đồng | I64: =IF(I126=0%,"Tương đồng",IF(I126>0%,"Lợi thế hơn","Kém lợi thế hơn")) -> Tương đồng
C65: 2.5 | D65: =D129 -> Độ rộng mặt tiền | G65: Kém lợi thế | H65: Kém lợi thế | I65: Kém lợi thế
C66: 2.6 | D66: =D133 -> Hình dáng thửa đất | G66: =IF(G135=0%,"Tương đồng",IF(G135>0%,"Lợi thế hơn","Kém lợi thế hơn")) -> Tương đồng | H66: Lợi thế hơn | I66: =IF(I135=0%,"Tương đồng",IF(I135>0%,"Lợi thế hơn","Kém lợi thế hơn")) -> Tương đồng
C67: 2.7 | D67: Yếu tố phong thủy, tâm linh | G67: =IF(G139=0%,"Tương đồng",IF(G139>0%,"Lợi thế hơn","Kém lợi thế hơn")) -> Tương đồng | H67: =IF(H139=0%,"Tương đồng",IF(H139>0%,"Lợi thế hơn","Kém lợi thế hơn")) -> Tương đồng | I67: =IF(I139=0%,"Tương đồng",IF(I139>0%,"Lợi thế hơn","Kém lợi thế hơn")) -> Tương đồng
C68: 2.8 | D68: =D142 -> Số mặt thoáng | G68: =IF(G143=0%,"Tương đồng",IF(G143>0%,"Lợi thế hơn","Kém lợi thế hơn")) -> Lợi thế hơn | H68: =IF(H143=0%,"Tương đồng",IF(H143>0%,"Lợi thế hơn","Kém lợi thế hơn")) -> Lợi thế hơn | I68: =IF(I143=0%,"Tương đồng",IF(I143>0%,"Lợi thế hơn","Kém lợi thế hơn")) -> Lợi thế hơn
C69: 3 | D69: =D146 -> Các yếu tố ảnh hưởng khác
C70: 3.1 | D70: =D147 -> Cơ sở hạ tầng kỹ thuật | G70: =IF(G148=0%,"Tương đồng",IF(G148>0%,"Lợi thế hơn","Kém lợi thế hơn")) -> Tương đồng | H70: =IF(H148=0%,"Tương đồng",IF(H148>0%,"Lợi thế hơn","Kém lợi thế hơn")) -> Tương đồng | I70: =IF(I148=0%,"Tương đồng",IF(I148>0%,"Lợi thế hơn","Kém lợi thế hơn")) -> Tương đồng
C71: 3.2 | D71: =D151 -> Cảnh quan môi trường, an ninh trật tự | G71: =IF(G152=0%,"Tương đồng",IF(G152>0%,"Lợi thế hơn","Kém lợi thế hơn")) -> Tương đồng | H71: =IF(H152=0%,"Tương đồng",IF(H152>0%,"Lợi thế hơn","Kém lợi thế hơn")) -> Tương đồng | I71: =IF(I152=0%,"Tương đồng",IF(I152>0%,"Lợi thế hơn","Kém lợi thế hơn")) -> Tương đồng
E73: CÔNG TY CỔ PHẦN THẨM ĐỊNH VÀ ĐẦU TƯ TÀI CHÍNH HOA SEN
E74: Trụ sở: BT5-23 Khu đô thị mới Văn Phú, Phường Phú La, Quận Hà Đông, Hà Nội
E75: Điện thoại: 085 329 3333/ 024 2264 4333
E76: Email: ilotus.contact@gmail.com Website: ilotus.com.vn
C80: PHỤ LỤC 02: BẢNG ĐIỀU CHỈNH CÁC YẾU TỐ SO SÁNH ẢNH HƯỞNG ĐẾN GIÁ TRỊ TÀI SẢN THẨM ĐỊNH
C82: STT | D82: Yếu tố so sánh | F82: Tài sản thẩm định giá | G82: Tài sản so sánh
G83: TSSS1 | H83: TSSS2 | I83: TSSS3
C84: A | D84: Giá thị trường khảo sát (Giá trước điều chỉnh) | G84: =G48 -> 1.855287e+10 | H84: =H48 -> 6.4155e+10 | I84: =I48 -> 1.6849842e+10
C85: B | D85: Giá quy đổi về đơn vị so sánh chuẩn (đồng/m²) | G85: =G52 -> 4307608.5 | H85: =H52 -> 3412500 | I85: =I52 -> 3369968.4
C86: C | D86: Điều chỉnh các yếu tố so sánh
C87: 1 | D87: Các yếu tố liên quan đến giao dịch
C88: 1.1 | D88: =E31 -> Tính chất giao dịch | F88: =F31 -> Giao dịch bình thường | G88: =G31 -> Giao dịch bình thường | H88: =H31 -> Giao dịch bình thường | I88: =I31 -> Giao dịch bình thường
D89: Tỷ lệ điều chỉnh | G89: 0 | H89: 0 | I89: 0
D90: Mức điều chỉnh (đồng/m²) | G90: =ROUND(G$85*G89,0) -> 0 | H90: =ROUND(H$85*H89,0) -> 0 | I90: =ROUND(I$85*I89,0) -> 0
D91: Giá sau điều chỉnh (đồng/m²) | G91: =G85+G90 -> 4307608.5 | H91: =H85+H90 -> 3412500 | I91: =I85+I90 -> 3369968.4
C92: 1.2 | D92: =E32 -> Điều kiện thanh toán | F92: =F32 -> Đất thuê trả tiền hàng năm | G92: =G32 -> Đất thuê trả tiền hàng năm | H92: =H32 -> Đất thuê trả tiền hàng năm | I92: =I32 -> Đất thuê trả tiền hàng năm
D93: Tỷ lệ điều chỉnh | G93: 0 | H93: 0 | I93: 0
D94: Mức điều chỉnh (đồng/m²) | G94: =ROUND(G$85*G93,0) -> 0 | H94: =ROUND(H$85*H93,0) -> 0 | I94: =ROUND(I$85*I93,0) -> 0
D95: Giá sau điều chỉnh (đồng/m²) | G95: =G91+G94 -> 4307608.5 | H95: =H91+H94 -> 3412500 | I95: =I91+I94 -> 3369968.4
C96: 1.3 | D96: =E33 -> Tình trạng pháp lý | F96: =F33 -> Có GCN QSDĐ | G96: =G33 -> Có GCN QSDĐ | H96: =H33 -> Có GCN QSDĐ | I96: =I33 -> Có GCN QSDĐ
D97: Tỷ lệ điều chỉnh | G97: 0 | H97: 0 | I97: 0
D98: Mức điều chỉnh (đồng/m²) | G98: =ROUND(G$85*G97,0) -> 0 | H98: =ROUND(H$85*H97,0) -> 0 | I98: =ROUND(I$85*I97,0) -> 0
D99: Giá sau điều chỉnh (đồng/m²) | G99: =G95+G98 -> 4307608.5 | H99: =H95+H98 -> 3412500 | I99: =I95+I98 -> 3369968.4
C100: 1.4 | D100: =E34 -> Mục đích sử dụng đất | F100: =F34 -> Đất khu công nghiệp | G100: =G34 -> Đất khu công nghiệp | H100: =H34 -> Đất khu công nghiệp | I100: =I34 -> Đất khu công nghiệp
D101: Tỷ lệ điều chỉnh | G101: 0 | H101: 0 | I101: 0
D102: Mức điều chỉnh (đồng/m²) | G102: =ROUND(G$85*G101,0) -> 0 | H102: =ROUND(H$85*H101,0) -> 0 | I102: =ROUND(I$85*I101,0) -> 0
D103: Giá sau điều chỉnh (đồng/m²) | G103: =G99+G102 -> 4307608.5 | H103: =H99+H102 -> 3412500 | I103: =I99+I102 -> 3369968.4
C104: 1.5 | D104: =E36 -> Thời hạn sử dụng đất | F104: =F36 -> Tháng 8/2058 | G104: =G36 -> Năm 2065 | H104: =H36 -> Năm 2065 | I104: =I36 -> Năm 2065
D105: Tỷ lệ điều chỉnh | G105: -0.2 | H105: -0.2 | I105: -0.2
D106: Mức điều chỉnh (đồng/m²) | G106: =ROUND(G$85*G105,0) -> -861522 | H106: =ROUND(H$85*H105,0) -> -682500 | I106: =ROUND(I$85*I105,0) -> -673994
D107: Giá sau điều chỉnh (đồng/m²) | G107: =G103+G106 -> 3446086.5 | H107: =H103+H106 -> 2730000 | I107: =I103+I106 -> 2695974.4
C108: 2 | D108: Các yếu tố về đặc điểm của thửa đất
...

Sheet KQ
A3: TT | B3: Tài sản | C3: Đơn vị tính | D3: Diện tích (m²) | E3: Đơn giá thẩm định (đồng/m²) | F3: Hệ số vùng | G3: Thuế | H3: Tỷ lệ CLCL (%) | I3: Giá trị thẩm định (đồng) | J3: Tỷ trọng phương pháp (%)
B4: Giá trị công trình xây dựng và lợi thế quyền thuê đất trả tiền hàng năm (Đến ngày 08/08/2058) tại thửa đất số: 260, tờ bản đồ số: 15, có địa chỉ: Xã Giang Điền, huyện Trảng Bom, tỉnh Đồng Nai theo Giấy chứng nhận quyền sử dụng đất quyền sở hữu nhà ở và tài sản khác gắn liền với đất số: CG 068978, số vào sổ cấp GCN: CT 34294 do Sở Tài Nguyên và Môi Trường cấp ngày 16/3/2017 cho Công ty Cổ phần Đầu tư An Thịnh Đồng Nai.
A5: 1. | B5: Phương pháp so sánh | I5: =I6+I7 -> 4.9129122e+10 | J5: 1 | K5: =J5*I5 -> 4.9129122e+10
A6: 1 | B6: Lợi thế quyền thuê đất cụm công nghiệp trả tiền hàng năm | C6: m² | D6: 11354 | E6: =PPSS!G165 -> 2500000 | I6: =E6*D6 -> 28385000000
A7: 2 | B7: Giá trị công trình xây dựng trên đất (chi tiết như phụ lục đính kèm) | I7: =SUM(I8:I12) -> 2.0744122e+10
A8: - | B8: Nhà xưởng | C8: m² | D8: 6600 | E8: 5019000 | F8: 1.025 | G8: 1.1 | H8: 0.64 | I8: =D8*E8*H8*F8/G8 -> 19754784000
A9: - | B9: Nhà văn phòng | C9: m² | D9: 150 | E9: 9392000 | F9: 1.062 | G9: =G8 -> 1.1 | H9: 0.64 | I9: =D9*E9*H9*F9/G9 -> 8.7048471e+08
A10: - | B10: Nhà bảo vệ | C10: m² | D10: 10 | E10: 2613000 | F10: 1.025 | G10: =G9 -> 1.1 | H10: 0.64 | I10: =D10*E10*H10*F10/G10 -> 15582982
A11: - | B11: Nhà để xe | C11: m² | D11: 612 | E11: =259000 -> 259000 | F11: 1 | G11: 1 | H11: 0.64 | I11: =D11*E11*H11*F11/G11 -> 101445120
A12: - | B12: Bể nước ngầm (nằm dưới nhà xe) | C12: m3 | D12: 6 | E12: =553000 -> 553000 | F12: 1 | G12: 1 | H12: 0.55 | I12: =D12*E12*H12*F12/G12 -> 1824900
A13: 2. | B13: Phương pháp thu nhập | I13: 0 | J13: 0 | K13: =J13*I13 -> 0
B14: TỔNG CỘNG | I14: =SUM(I6:I7) -> 4.9129122e+10 | K14: =K5+K13 -> 4.9129122e+10
B15: LÀM TRÒN | I15: =ROUND(I14,-6) -> 49129000000 | K15: =ROUND(K14,-6) -> 49129000000
B16: (Bằng chữ: Bốn mươi sáu tỷ, tám trăm năm mươi tám triệu đồng chẵn./.)
H17: =10029000/10000 -> 1002.9
A20: TT | B20: Phương pháp | C20: Tỷ trọng | D20: Giá trị | E20: Giá trị thẩm định (đồng) | G20: =(2024-2017)*2 -> 14
A21: 1 | B21: Phương pháp thu nhập | C21: 0.5 | D21: =#REF! -> #REF! | E21: =C21*D21 -> #REF!
A22: 2 | B22: Phương pháp so sánh | C22: 0.5 | D22: =I7+I6 -> 4.9129122e+10 | E22: =D22*C22 -> 2.4564561e+10
B23: TỔNG CỘNG | E23: =E21+E22 -> #REF!
B24: LÀM TRÒN | E24: =ROUND(E23,-6) -> #REF!
A26: TT | B26: Tài sản | E26: Phương pháp | H26: Giá trị ước tính (đồng) | I26: Tỷ trọng (%) | J26: Giá trị thẩm định (đồng)
A27: - | B27: =B4 -> Giá trị công trình xây dựng và lợi thế quyền thuê đất trả tiền hàng năm (Đến ngày 08/08/2058) tại thửa đất số: 260, tờ bản đồ số: 15, có địa chỉ: Xã Giang Điền, huyện Trảng Bom, tỉnh Đồng Nai theo Giấy chứng nhận quyền sử dụng đất quyền sở hữu nhà ở và tài sản khác gắn liền với đất số: CG 068978, số vào sổ cấp GCN: CT 34294 do Sở Tài Nguyên và Môi Trường cấp ngày 16/3/2017 cho Công ty Cổ phần Đầu tư An Thịnh Đồng Nai. | E27: =B21 -> Phương pháp thu nhập | H27: =D21 -> #REF! | I27: =C21 -> 0.5 | J27: =E21 -> #REF!
E28: =B22 -> Phương pháp so sánh | H28: =D22 -> 4.9129122e+10 | I28: =C22 -> 0.5 | J28: =E22 -> 2.4564561e+10
B29: TỔNG CỘNG | I29: =SUM(I27:I28) -> 1 | J29: =SUM(J27:J28) -> #REF!
B30: LÀM TRÒN | J30: =ROUND(J29,-6) -> #REF!
A31: (Bằng chữ: Mười hai tỷ, bảy trăm tám mươi lăm triệu đồng chẵn./.)
A33: TT | B33: Tài sản | C33: Đơn vị tính | D33: Số lượng | E33: Đơn giá xây mới (đồng/m²) | H33: Tỷ lệ CLCL (%) | I33: Thành tiền (đồng)
A34: - | B34: =B8 -> Nhà xưởng | C34: m² | D34: =D8 -> 6600 | E34: =E8 -> 5019000 | H34: 0.65 | I34: =D34*E34*H34 -> 21531510000
A35: - | B35: =B9 -> Nhà văn phòng | C35: m² | D35: =D9 -> 150 | E35: =E9 -> 9392000 | H35: 0.65 | I35: =D35*E35*H35 -> 915720000
A36: - | B36: =B10 -> Nhà bảo vệ | C36: m² | D36: =D10 -> 10 | E36: =E10 -> 2613000 | H36: 0.65 | I36: =D36*E36*H36 -> 16984500
B37: Tổng cộng: | I37: =SUM(I34:I36) -> 22464214500
B41: - Quyết định số 42/2019/QĐ-UBND ngày 27/12/2019 của UBND tỉnh Quảng Ninh về việc quy định các loại đất trên địa bàn tỉnh Quảng Ninh thực hiện từ ngày 01/01/2020 đến 31/12/2024

Sheet 1
F1: AI 086818 | G1: Thông tin cũ
F2: T00926 QSDĐ/QĐ-2355/T-2007
F3: UBND tỉnh Hưng Yên
F4: 17/01/2008
F5: Chi nhánh Công ty Cổ phần lương thực Hưng Yên tại Văn Giang (cập nhật ngày 22/5/2014)
F6: Giấy chứng nhận quyền sử dụng đất
A7: PHIẾU ĐIỀU TRA, KHẢO SÁT TÀI SẢN THẨM ĐỊNH
A8: ="Thời điểm khảo sát: Ngày "&[152]TTCB!E1&" tháng "&[152]TTCB!F1&" năm 20"&[152]TTCB!G1 -> Thời điểm khảo sát: Ngày tháng năm 20
A11: I. TÀI SẢN; ĐẶC ĐIỂM CỦA TÀI SẢN THẨM ĐỊNH GIÁ
A12: Tên tài sản | B12: ="Giá trị lợi thế quyền thuê đất và tài sản gắn liền với đất tại thửa đất số: "&C15&", tờ bản đồ số: "&E15&" có địa chỉ: "&F16&", theo "&F6&" số: "&F1&", số vào sổ cấp GCN: "&F2&" do "&F3&" cấp ngày "&F4&". Chủ sử dụng đất là "&F5 -> Giá trị lợi thế quyền thuê đất và tài sản gắn liền với đất tại thửa đất số: 67, tờ bản đồ số: 3 có địa chỉ: Thị trấn Văn Giang, huyện Văn Giang, tỉnh Hưng Yên, theo Giấy chứng nhận quyền sử dụng đất số: AI 086818, số vào sổ cấp GCN: T00926 QSDĐ/QĐ-2355/T-2007 do UBND tỉnh Hưng Yên cấp ngày 17/01/2008. Chủ sử dụng đất là Chi nhánh Công ty Cổ phần lương thực Hưng Yên tại Văn Giang (cập nhật ngày 22/5/2014) | F12: =B12 -> Giá trị lợi thế quyền thuê đất và tài sản gắn liền với đất tại thửa đất số: 67, tờ bản đồ số: 3 có địa chỉ: Thị trấn Văn Giang, huyện Văn Giang, tỉnh Hưng Yên, theo Giấy chứng nhận quyền sử dụng đất số: AI 086818, số vào sổ cấp GCN: T00926 QSDĐ/QĐ-2355/T-2007 do UBND tỉnh Hưng Yên cấp ngày 17/01/2008. Chủ sử dụng đất là Chi nhánh Công ty Cổ phần lương thực Hưng Yên tại Văn Giang (cập nhật ngày 22/5/2014)
A13: 1. | B13: Nội dung Thửa đất theo Hồ sơ pháp lý
A14: 1.1 | B14: Thửa đất:
A15: - | B15: Thửa đất số: | C15: 67 | D15: Tờ bản đồ số: | E15: 3
A16: - | B16: Địa chỉ: | C16: Thị trấn Văn Giang, huyện Văn Giang, tỉnh Hưng Yên | F16: =C16 -> Thị trấn Văn Giang, huyện Văn Giang, tỉnh Hưng Yên
A17: - | B17: Diện tích (m²): | C17: 2947.3 | D17: Mục đích sử dụng: | E17: XD cửa hàng mua bán lương thực, nông, lâm, hải sản và VTNN
A18: - | B18: Hình thức sử dụng: | C18: Sử dụng riêng: Đất ở 30,5m², đất trồng cây lâu năm 25,6m²; Sử dụng chung: Đất trồng cây lâu năm 43,5m²
A19: - | B19: Thời hạn sử dụng: | C19: 35 năm (từ ngày 15/10/1993 đến ngày 15/10/2028)
A20: - | B20: Nguồn gốc sử dụng: | C20: Nhà nước giao đất không thu tiền sử dụng đất, chuyển sang thuê đất trả tiền hàng năm
A21: - | B21: Những thay đổi sau khi cấp GCN: | C21: Ngày 12/6/2023: Người sử dụng đất đổi địa chỉ thường trú từ tổ 18, phường Chăm Mát, thị xã Hòa Bình thành tổ 7, phường Dân Chủ, thành phố Hòa Bình. Đổi địa chỉ thửa đất từ phường Chăm Mát, thị xã Hòa Bình thành TDP số 7, phường Dân Chủ, thành phố Hòa Bình, theo hồ sơ số 033648.DT.004.
A22: - | B22: Thông tin quy hoạch: | C22: Tại thời điểm thẩm định giá, tổ thẩm định không thu thập được thông tin quy hoạch liên quan đến thửa đất
A23: 1.2 | B23: Nhà ở:
A24: - | B24: Địa chỉ: | C24: =C16 -> Thị trấn Văn Giang, huyện Văn Giang, tỉnh Hưng Yên
A25: - | B25: Diện tích xây dựng (m²): | C25: 6 | D25: Diện tích sàn (m²): | E25: 286.2
A26: - | B26: Kết cấu: | C26: Tường xây gạch, khung, sàn và mái bằng bê tông
A27: - | B27: Cấp (Hạng): | C27: III | D27: Số tầng: | E27: 3.5
A28: - | B28: Năm hoàn thành xây dựng: | C28: 2010 | D28: Thời hạn sở hữu: | E28: ./.
A29: 2. | B29: Về đất:
A30: 2.1 | B30: Vị trí; Giao thông;
A31: - | B31: Địa chỉ thực tế: | C31: =C16 -> Thị trấn Văn Giang, huyện Văn Giang, tỉnh Hưng Yên | F31: =C31 -> Thị trấn Văn Giang, huyện Văn Giang, tỉnh Hưng Yên
A32: - | B32: Vị trí tài sản theo Bảng giá đất UBND TP Hà Nội: | C32: Vị trí 1: Đường tỉnh lộ 416 từ Ngã tư Tùng Thiện đến hết địa phận thị xã Sơn Tây | F32: =C32 -> Vị trí 1: Đường tỉnh lộ 416 từ Ngã tư Tùng Thiện đến hết địa phận thị xã Sơn Tây
A33: - | B33: Đường tiếp giáp chính: | C33: Đường tỉnh 179 (nhựa) | D33: Số mặt tiền: | E33: 1 mặt tiền | F33: =C31 -> Thị trấn Văn Giang, huyện Văn Giang, tỉnh Hưng Yên
A34: - | B34: Mặt cắt đường/ngõ nhỏ nhất từ đường chính dẫn đến tài sản thẩm định giá: | C34: 5m | D34: Mặt cắt đường/ngõ trước mặt tài sản thẩm định giá: | E34: 5m | F34: =E34 -> 5m
A35: - | B35: Giao thông: | C35: Tài sản tiếp giáp đường tỉnh 179
A36: - | B36: Khoảng cách đến trục chính: | C36: Tài sản cách chợ Văn Giang khoảng 80m
A37: - | B37: Các hướng tiếp giáp: | C37: - Hướng Bắc: tiếp giáp đường tỉnh 179 - Các hướng khác: tiếp giáp với các thửa đất khác
A38: - | B38: Vị trí trên bản đồ vệ tinh:
A39: - | F39: https://www.google.com/maps/place/21%C2%B005'31.5%22N+105%C2%B028'17.3%22E/@21.0920782,105.4689072,1018m/data=!3m2!1e3!4b1!4m4!3m3!8m2!3d21.0920782!4d105.4714821!5m1!1e1?entry=ttu&g_ep=EgoyMDI0MDgyMy4wIKXMDSoASAFQAw%3D%3D
A40: 2.2. | B40: Diện tích; Kích thước; Hình dáng
A41: - | B41: Diện tích sử dụng riêng thực tế (m²): | C41: =C17 -> 2947.3 | D41: Diện tích sử dụng chung thực tế (m²): | E41: -/-
A42: - | B42: KT mặt tiền (m): | C42: 38.65 | D42: Chiều sâu (m): | E42: =6.63+23.44+12.79+47.97 -> 90.83
A43: - | B43: KT mặt hậu (m): | C43: =7.75+24.4 -> 32.15 | D43: Hình dáng thửa đất: | E43: Đa giác
A44: - | B44: Hướng mặt tiền chính: | C44: Bắc
A45: 2.3. | B45: Điều kiện kinh doanh; Hạ tầng nội bộ; Hạ tầng xung quanh
A46: - | B46: Hạ tầng nội bộ: | C46: Cấp điện, cấp nước sạch, mạng internet,…hoàn thiện
A47: - | B47: Hạ tầng xung quanh: | C47: Môi trường trong lành, an ninh đảm bảo, dân trí tốt
A48: - | B48: Mật độ dân cư: | C48: Đông đúc | D48: Đời sống dân cư: | E48: Ổn định
A49: - | B49: Lợi thế kinh doanh: | C49: Có thể kinh doanh | D49: Khả năng chuyển nhượng: | E49: Tốt
A50: - | B50: Yếu tố phong thủy: | C50: ='[153]TSSS '!C39 -> Tài sản không bị lỗi phong thủy
A51: - | B51: Yếu tố tâm linh: | C51: ='[153]TSSS '!C40 -> Nhìn hướng khu dân cư
A52: 3. | B52: Tài sản gắn liền với đất:
A53: - | B53: Tại thời điểm thẩm định giá, trên đất có các công trình xây dựng là: - 01 Nhà văn phòng, kết cấu tường gạch, mái tôn, sàn lát gạch, diện tích xây dựng khoảng: 399m² - 01 Nhà kho bán hàng mặt đường, kết cấu tường gạch, mái tôn, diện tích xây dựng khoảng 122m² - Nhà kho 3, kết cấu cột kèo thép, tường gạch, quây tôn, diện tích xây dựng khoảng 360m² - Nhà kho 4, kết cấu cột kèo thép, tường gạch, quây tôn, diện tích xây dựng khoảng 660m² - Nhà kho 5, kết cấu cột kèo thép, tường gạch, quây tôn, diện tích xây dựng khoảng 645m² - Nhà kho 6, kết cấu cột kèo thép, tường gạch, quây tôn, diện tích xây dựng khoảng 30m² Các công trình xây dựng trên hiện chưa được chứng nhận trên GCN số: AI 086818
D55: =[152]KHTĐG!D37 -> Hà Nội, ngày tháng năm 20
B56: Người khảo sát | D56: Thẩm định viên
F57: =9%*65% -> 0.0585
B61: _ | D61: Doãn Thị Thùy Dung
E70: =1-(2024-2016)/35 -> 0.77142857

Sheet 2
F1: AI 086822 | G1: Thông tin cũ
F2: T00928 QSDĐ/QĐ-2353/T-2007
F3: UBND tỉnh Hưng Yên
F4: 17/01/2008
F5: Chi nhánh Công ty Cổ phần lương thực Hưng Yên tại Yên Mỹ (cập nhật ngày 22/5/2014)
F6: Giấy chứng nhận Giá trị Giá trị lợi thế quyền thuê đất trả tiền hàng năm
A7: PHIẾU ĐIỀU TRA, KHẢO SÁT TÀI SẢN THẨM ĐỊNH
A8: ="Thời điểm khảo sát: Ngày "&[152]TTCB!E1&" tháng "&[152]TTCB!F1&" năm 20"&[152]TTCB!G1 -> Thời điểm khảo sát: Ngày tháng năm 20
A11: I. TÀI SẢN; ĐẶC ĐIỂM CỦA TÀI SẢN THẨM ĐỊNH GIÁ
A12: Tên tài sản | B12: ="Giá trị lợi thế quyền thuê đất trả tiền hàng năm và tài sản gắn liền với đất tại thửa đất số: "&C15&", tờ bản đồ số: "&E15&" có địa chỉ: "&F16&", theo "&F6&" số: "&F1&", số vào sổ cấp GCN: "&F2&" do "&F3&" cấp ngày "&F4&". Chủ sử dụng đất là "&F5 -> Giá trị lợi thế quyền thuê đất trả tiền hàng năm và tài sản gắn liền với đất tại thửa đất số: 449, tờ bản đồ số: 21 có địa chỉ: Xã Trưng Trắc, huyện Văn Lâm, tinh Hưng Yên, theo Giấy chứng nhận Giá trị Giá trị lợi thế quyền thuê đất trả tiền hàng năm số: AI 086822, số vào sổ cấp GCN: T00928 QSDĐ/QĐ-2353/T-2007 do UBND tỉnh Hưng Yên cấp ngày 17/01/2008. Chủ sử dụng đất là Chi nhánh Công ty Cổ phần lương thực Hưng Yên tại Yên Mỹ (cập nhật ngày 22/5/2014) | F12: =B12 -> Giá trị lợi thế quyền thuê đất trả tiền hàng năm và tài sản gắn liền với đất tại thửa đất số: 449, tờ bản đồ số: 21 có địa chỉ: Xã Trưng Trắc, huyện Văn Lâm, tinh Hưng Yên, theo Giấy chứng nhận Giá trị Giá trị lợi thế quyền thuê đất trả tiền hàng năm số: AI 086822, số vào sổ cấp GCN: T00928 QSDĐ/QĐ-2353/T-2007 do UBND tỉnh Hưng Yên cấp ngày 17/01/2008. Chủ sử dụng đất là Chi nhánh Công ty Cổ phần lương thực Hưng Yên tại Yên Mỹ (cập nhật ngày 22/5/2014)
A13: 1. | B13: Nội dung Thửa đất theo Hồ sơ pháp lý
A14: 1.1 | B14: Thửa đất:
A15: - | B15: Thửa đất số: | C15: 449 | D15: Tờ bản đồ số: | E15: 21
A16: - | B16: Địa chỉ: | C16: Xã Trưng Trắc, huyện Văn Lâm, tinh Hưng Yên | F16: =C16 -> Xã Trưng Trắc, huyện Văn Lâm, tinh Hưng Yên
A17: - | B17: Diện tích (m²): | C17: 363 | D17: Mục đích sử dụng: | E17: XD cửa hàng mua bán lương thực, nông, lâm, hải sản và VTNN
A18: - | B18: Hình thức sử dụng: | C18: Sử dụng riêng: Đất ở 30,5m², đất trồng cây lâu năm 25,6m²; Sử dụng chung: Đất trồng cây lâu năm 43,5m²
A19: - | B19: Thời hạn sử dụng: | C19: 35 năm (từ ngày 15/10/1993 đến ngày 15/10/2028)
A20: - | B20: Nguồn gốc sử dụng: | C20: Nhà nước giao đất không thu tiền sử dụng đất, chuyển sang thuê đất trả tiền hàng năm
A21: - | B21: Những thay đổi sau khi cấp GCN: | C21: Ngày 12/6/2023: Người sử dụng đất đổi địa chỉ thường trú từ tổ 18, phường Chăm Mát, thị xã Hòa Bình thành tổ 7, phường Dân Chủ, thành phố Hòa Bình. Đổi địa chỉ thửa đất từ phường Chăm Mát, thị xã Hòa Bình thành TDP số 7, phường Dân Chủ, thành phố Hòa Bình, theo hồ sơ số 033648.DT.004.
A22: - | B22: Thông tin quy hoạch: | C22: Tại thời điểm thẩm định giá, tổ thẩm định không thu thập được thông tin quy hoạch liên quan đến thửa đất
A23: 1.2 | B23: Nhà ở:
A24: - | B24: Địa chỉ: | C24: =C16 -> Xã Trưng Trắc, huyện Văn Lâm, tinh Hưng Yên
A25: - | B25: Diện tích xây dựng (m²): | C25: 6 | D25: Diện tích sàn (m²): | E25: 286.2
A26: - | B26: Kết cấu: | C26: Tường xây gạch, khung, sàn và mái bằng bê tông
A27: - | B27: Cấp (Hạng): | C27: III | D27: Số tầng: | E27: 3.5
A28: - | B28: Năm hoàn thành xây dựng: | C28: 2010 | D28: Thời hạn sở hữu: | E28: ./.
A29: 2. | B29: Về đất:
A30: 2.1 | B30: Vị trí; Giao thông;
A31: - | B31: Địa chỉ thực tế: | C31: =C16 -> Xã Trưng Trắc, huyện Văn Lâm, tinh Hưng Yên | F31: =C31 -> Xã Trưng Trắc, huyện Văn Lâm, tinh Hưng Yên
A32: - | B32: Vị trí tài sản theo Bảng giá đất UBND TP Hà Nội: | C32: Vị trí 1: Đường tỉnh lộ 416 từ Ngã tư Tùng Thiện đến hết địa phận thị xã Sơn Tây | F32: =C32 -> Vị trí 1: Đường tỉnh lộ 416 từ Ngã tư Tùng Thiện đến hết địa phận thị xã Sơn Tây
A33: - | B33: Đường tiếp giáp chính: | C33: Đường nhựa | D33: Số mặt tiền: | E33: 3 mặt tiền | F33: =C31 -> Xã Trưng Trắc, huyện Văn Lâm, tinh Hưng Yên
A34: - | B34: Mặt cắt đường/ngõ nhỏ nhất từ đường chính dẫn đến tài sản thẩm định giá: | C34: 5m | D34: Mặt cắt đường/ngõ trước mặt tài sản thẩm định giá: | E34: 5m | F34: =E34 -> 5m
A35: - | B35: Giao thông: | C35: Tài sản tiếp giáp đường nhựa rộng khoảng 6,77m
A36: - | B36: Khoảng cách đến trục chính: | C36: Tài sản cách đường QL5 khoảng 250m
A37: - | B37: Các hướng tiếp giáp: | C37: - Hướng Đông Bắc: tiếp giáp đường nhựa rộng khoảng 6,77m - Hướng Đông Nam: tiếp giáp đường bê tông rộng khoảng 2,8m - Hướng Tây Nam: tiếp giáp đường bê tông rộng khoảng 2,5m - Các hướng khác: tiếp giáp với các thửa đất khác
A38: - | B38: Vị trí trên bản đồ vệ tinh:
A39: - | F39: https://www.google.com/maps/place/21%C2%B005'31.5%22N+105%C2%B028'17.3%22E/@21.0920782,105.4689072,1018m/data=!3m2!1e3!4b1!4m4!3m3!8m2!3d21.0920782!4d105.4714821!5m1!1e1?entry=ttu&g_ep=EgoyMDI0MDgyMy4wIKXMDSoASAFQAw%3D%3D
A40: 2.2. | B40: Diện tích; Kích thước; Hình dáng
A41: - | B41: Diện tích sử dụng riêng thực tế (m²): | C41: =C17 -> 363 | D41: Diện tích sử dụng chung thực tế (m²): | E41: -/-
A42: - | B42: KT mặt tiền (m): | C42: 24.5 | D42: Chiều sâu (m): | E42: 15.7
A43: - | B43: KT mặt hậu (m): | C43: =7.8+5.4+3.8+2+10 -> 29 | D43: Hình dáng thửa đất: | E43: Đa giác
A44: - | B44: Hướng mặt tiền chính: | C44: Đông Bắc
A45: 2.3. | B45: Điều kiện kinh doanh; Hạ tầng nội bộ; Hạ tầng xung quanh
A46: - | B46: Hạ tầng nội bộ: | C46: Cấp điện, cấp nước sạch, mạng internet,…hoàn thiện
A47: - | B47: Hạ tầng xung quanh: | C47: Môi trường trong lành, an ninh đảm bảo, dân trí tốt
A48: - | B48: Mật độ dân cư: | C48: Đông đúc | D48: Đời sống dân cư: | E48: Ổn định
A49: - | B49: Lợi thế kinh doanh: | C49: Có thể kinh doanh | D49: Khả năng chuyển nhượng: | E49: Tốt
A50: - | B50: Yếu tố phong thủy: | C50: ='[153]TSSS '!C39 -> Tài sản không bị lỗi phong thủy
A51: - | B51: Yếu tố tâm linh: | C51: ='[153]TSSS '!C40 -> Nhìn hướng khu dân cư
A52: 3. | B52: Tài sản gắn liền với đất:
A53: - | B53: Tại thời điểm thẩm định giá, trên đất có các công trình xây dựng là: - 01 Nhà cửa hàng cấp 4 số 1, kết cấu tường gạch, mái tôn, sàn lát gạch, diện tích xây dựng khoảng: 78m², ngoại quan đã cũ - 01 Nhà cửa hàng cấp 4 số 2, kết cấu tường gạch, mái tôn, diện tích xây dựng khoảng 30,5m² - 01 Nhà cửa hàng cấp 4 số 3, kết cấu tường gạch, quây tôn, diện tích xây dựng khoảng 20m² - 01 Nhà cửa hàng cấp 4 số 4, kết cấu tường gạch, quây tôn, diện tích xây dựng khoảng 13,8m² - Nhà cấp 4, kết cấu tường gạch, quây tôn, diện tích xây dựng khoảng 48,7m² Các công trình xây dựng trên hiện chưa được chứng nhận trên GCN số: AI 086822
D55: =[152]KHTĐG!D37 -> Hà Nội, ngày tháng năm 20
B56: Người khảo sát | D56: Thẩm định viên
F57: =9%*65% -> 0.0585
B61: _ | D61: Doãn Thị Thùy Dung
E70: =1-(2024-2016)/35 -> 0.77142857

Sheet 3
F1: AI 086824 | G1: Thông tin cũ
F2: T00934 QSDĐ/QĐ-2352/T-2007
F3: UBND tỉnh Hưng Yên
F4: 17/01/2008
F5: Công ty Cổ phần lương thực Hưng Yên (cập nhật ngày 22/5/2014)
F6: Giấy chứng nhận Giá trị lợi thế quyền thuê đất trả tiền hàng năm
A7: PHIẾU ĐIỀU TRA, KHẢO SÁT TÀI SẢN THẨM ĐỊNH
A8: ="Thời điểm khảo sát: Ngày "&[152]TTCB!E1&" tháng "&[152]TTCB!F1&" năm 20"&[152]TTCB!G1 -> Thời điểm khảo sát: Ngày tháng năm 20
A11: I. TÀI SẢN; ĐẶC ĐIỂM CỦA TÀI SẢN THẨM ĐỊNH GIÁ
A12: Tên tài sản | B12: ="Giá trị lợi thế quyền thuê đất trả tiền hàng năm và tài sản gắn liền với đất tại thửa đất số: "&C15&", tờ bản đồ số: "&E15&" có địa chỉ: "&F16&", theo "&F6&" số: "&F1&", số vào sổ cấp GCN: "&F2&" do "&F3&" cấp ngày "&F4&". Chủ sử dụng đất là "&F5 -> Giá trị lợi thế quyền thuê đất trả tiền hàng năm và tài sản gắn liền với đất tại thửa đất số: 18, tờ bản đồ số: 19 có địa chỉ: Xã Phùng Chí Kiên, huyện Mỹ Hào, tỉnh Hưng Yên (nay là phường Phùng Chí Kiên, Thị xã Mỹ Hào, tỉnh Hưng Yên), theo Giấy chứng nhận Giá trị lợi thế quyền thuê đất trả tiền hàng năm số: AI 086824, số vào sổ cấp GCN: T00934 QSDĐ/QĐ-2352/T-2007 do UBND tỉnh Hưng Yên cấp ngày 17/01/2008. Chủ sử dụng đất là Công ty Cổ phần lương thực Hưng Yên (cập nhật ngày 22/5/2014) | F12: =B12 -> Giá trị lợi thế quyền thuê đất trả tiền hàng năm và tài sản gắn liền với đất tại thửa đất số: 18, tờ bản đồ số: 19 có địa chỉ: Xã Phùng Chí Kiên, huyện Mỹ Hào, tỉnh Hưng Yên (nay là phường Phùng Chí Kiên, Thị xã Mỹ Hào, tỉnh Hưng Yên), theo Giấy chứng nhận Giá trị lợi thế quyền thuê đất trả tiền hàng năm số: AI 086824, số vào sổ cấp GCN: T00934 QSDĐ/QĐ-2352/T-2007 do UBND tỉnh Hưng Yên cấp ngày 17/01/2008. Chủ sử dụng đất là Công ty Cổ phần lương thực Hưng Yên (cập nhật ngày 22/5/2014)
A13: 1. | B13: Nội dung Thửa đất theo Hồ sơ pháp lý
A14: 1.1 | B14: Thửa đất:
A15: - | B15: Thửa đất số: | C15: 18 | D15: Tờ bản đồ số: | E15: 19
A16: - | B16: Địa chỉ: | C16: Xã Phùng Chí Kiên, huyện Mỹ Hào, tỉnh Hưng Yên (nay là phường Phùng Chí Kiên, Thị xã Mỹ Hào, tỉnh Hưng Yên) | F16: =C16 -> Xã Phùng Chí Kiên, huyện Mỹ Hào, tỉnh Hưng Yên (nay là phường Phùng Chí Kiên, Thị xã Mỹ Hào, tỉnh Hưng Yên)
A17: - | B17: Diện tích (m²): | C17: 447 | D17: Mục đích sử dụng: | E17: XD cửa hàng mua bán lương thực, nông, lâm, hải sản và VTNN
A18: - | B18: Hình thức sử dụng: | C18: Sử dụng riêng: Đất ở 30,5m², đất trồng cây lâu năm 25,6m²; Sử dụng chung: Đất trồng cây lâu năm 43,5m²
A19: - | B19: Thời hạn sử dụng: | C19: 35 năm (từ ngày 15/10/1993 đến ngày 15/10/2028)
A20: - | B20: Nguồn gốc sử dụng: | C20: Nhà nước giao đất không thu tiền sử dụng đất, chuyển sang thuê đất trả tiền hàng năm
A21: - | B21: Những thay đổi sau khi cấp GCN: | C21: Ngày 12/6/2023: Người sử dụng đất đổi địa chỉ thường trú từ tổ 18, phường Chăm Mát, thị xã Hòa Bình thành tổ 7, phường Dân Chủ, thành phố Hòa Bình. Đổi địa chỉ thửa đất từ phường Chăm Mát, thị xã Hòa Bình thành TDP số 7, phường Dân Chủ, thành phố Hòa Bình, theo hồ sơ số 033648.DT.004.
A22: - | B22: Thông tin quy hoạch: | C22: Tại thời điểm thẩm định giá, tổ thẩm định không thu thập được thông tin quy hoạch liên quan đến thửa đất
A23: 1.2 | B23: Nhà ở:
A24: - | B24: Địa chỉ: | C24: =C16 -> Xã Phùng Chí Kiên, huyện Mỹ Hào, tỉnh Hưng Yên (nay là phường Phùng Chí Kiên, Thị xã Mỹ Hào, tỉnh Hưng Yên)
A25: - | B25: Diện tích xây dựng (m²): | C25: 6 | D25: Diện tích sàn (m²): | E25: 286.2
A26: - | B26: Kết cấu: | C26: Tường xây gạch, khung, sàn và mái bằng bê tông
A27: - | B27: Cấp (Hạng): | C27: III | D27: Số tầng: | E27: 3.5
A28: - | B28: Năm hoàn thành xây dựng: | C28: 2010 | D28: Thời hạn sở hữu: | E28: ./.
A29: 2. | B29: Về đất:
A30: 2.1 | B30: Vị trí; Giao thông;
A31: - | B31: Địa chỉ thực tế: | C31: =C16 -> Xã Phùng Chí Kiên, huyện Mỹ Hào, tỉnh Hưng Yên (nay là phường Phùng Chí Kiên, Thị xã Mỹ Hào, tỉnh Hưng Yên) | F31: =C31 -> Xã Phùng Chí Kiên, huyện Mỹ Hào, tỉnh Hưng Yên (nay là phường Phùng Chí Kiên, Thị xã Mỹ Hào, tỉnh Hưng Yên)
A32: - | B32: Vị trí tài sản theo Bảng giá đất UBND TP Hà Nội: | C32: Vị trí 1: Đường tỉnh lộ 416 từ Ngã tư Tùng Thiện đến hết địa phận thị xã Sơn Tây | F32: =C32 -> Vị trí 1: Đường tỉnh lộ 416 từ Ngã tư Tùng Thiện đến hết địa phận thị xã Sơn Tây
A33: - | B33: Đường tiếp giáp chính: | C33: Đường QL5A (nhựa) | D33: Số mặt tiền: | E33: 1 mặt tiền | F33: =C31 -> Xã Phùng Chí Kiên, huyện Mỹ Hào, tỉnh Hưng Yên (nay là phường Phùng Chí Kiên, Thị xã Mỹ Hào, tỉnh Hưng Yên)
A34: - | B34: Mặt cắt đường/ngõ nhỏ nhất từ đường chính dẫn đến tài sản thẩm định giá: | C34: 5m | D34: Mặt cắt đường/ngõ trước mặt tài sản thẩm định giá: | E34: 5m | F34: =E34 -> 5m
A35: - | B35: Giao thông: | C35: Tài sản tiếp giáp đường QL5A
A36: - | B36: Khoảng cách đến trục chính: | C36: Tài sản cách KCN Phố Nối B khoảng 2,5km
A37: - | B37: Các hướng tiếp giáp: | C37: - Hướng Đông Bắc: tiếp giáp KCN Phố Nối B khoảng 2,5km - Các hướng khác: tiếp giáp với các thửa đất khác
A38: - | B38: Vị trí trên bản đồ vệ tinh:
A39: - | F39: https://www.google.com/maps/place/21%C2%B005'31.5%22N+105%C2%B028'17.3%22E/@21.0920782,105.4689072,1018m/data=!3m2!1e3!4b1!4m4!3m3!8m2!3d21.0920782!4d105.4714821!5m1!1e1?entry=ttu&g_ep=EgoyMDI0MDgyMy4wIKXMDSoASAFQAw%3D%3D
A40: 2.2. | B40: Diện tích; Kích thước; Hình dáng
A41: - | B41: Diện tích sử dụng riêng thực tế (m²): | C41: =C17 -> 447 | D41: Diện tích sử dụng chung thực tế (m²): | E41: -/-
A42: - | B42: KT mặt tiền (m): | C42: 20.5 | D42: Chiều sâu (m): | E42: 22
A43: - | B43: KT mặt hậu (m): | C43: 20.5 | D43: Hình dáng thửa đất: | E43: Vuông vức
A44: - | B44: Hướng mặt tiền chính: | C44: Đông Bắc
A45: 2.3. | B45: Điều kiện kinh doanh; Hạ tầng nội bộ; Hạ tầng xung quanh
A46: - | B46: Hạ tầng nội bộ: | C46: Cấp điện, cấp nước sạch, mạng internet,…hoàn thiện
A47: - | B47: Hạ tầng xung quanh: | C47: Môi trường trong lành, an ninh đảm bảo, dân trí tốt
A48: - | B48: Mật độ dân cư: | C48: Đông đúc | D48: Đời sống dân cư: | E48: Ổn định
A49: - | B49: Lợi thế kinh doanh: | C49: Có thể kinh doanh | D49: Khả năng chuyển nhượng: | E49: Tốt
A50: - | B50: Yếu tố phong thủy: | C50: ='[153]TSSS '!C39 -> Tài sản không bị lỗi phong thủy
A51: - | B51: Yếu tố tâm linh: | C51: ='[153]TSSS '!C40 -> Nhìn hướng khu dân cư
A52: 3. | B52: Tài sản gắn liền với đất:
A53: - | B53: Tại thời điểm thẩm định giá, trên đất có các công trình xây dựng là: - 01 Nhà xưởng, kết cấu cột kèo thép, tường gạch, quây tôn, diện tích xây dựng khoảng 100m², ngoại quan công trình đã cũ Các công trình xây dựng trên hiện chưa được chứng nhận trên GCN số: AI 086824
D55: =[152]KHTĐG!D37 -> Hà Nội, ngày tháng năm 20
B56: Người khảo sát | D56: Thẩm định viên
F57: =9%*65% -> 0.0585
B61: _ | D61: Doãn Thị Thùy Dung
E70: =1-(2024-2016)/35 -> 0.77142857

Sheet 4
F1: CH 344899 | G1: Thông tin cũ
F2: CT 00750
F3: Sở Tài nguyên và Môi trường tỉnh Hưng Yên
F4: 31/5/2018
F5: Công ty Cổ phần Lương thực Hưng Yên
F6: Giấy chứng nhận Giá trị lợi thế quyền thuê đất trả tiền hàng năm quyền sở hữu nhà ở và tài sản khác gắn liền với đất
A7: PHIẾU ĐIỀU TRA, KHẢO SÁT TÀI SẢN THẨM ĐỊNH
A8: ="Thời điểm khảo sát: Ngày "&[152]TTCB!E1&" tháng "&[152]TTCB!F1&" năm 20"&[152]TTCB!G1 -> Thời điểm khảo sát: Ngày tháng năm 20
A11: I. TÀI SẢN; ĐẶC ĐIỂM CỦA TÀI SẢN THẨM ĐỊNH GIÁ
A12: Tên tài sản | B12: ="Giá trị lợi thế quyền thuê đất trả tiền hàng năm tại thửa đất số: "&C15&", tờ bản đồ số: "&E15&" có địa chỉ: "&F16&", theo "&F6&" số: "&F1&", số vào sổ cấp GCN: "&F2&" do "&F3&" cấp ngày "&F4&". Chủ sử dụng đất là "&F5 -> Giá trị lợi thế quyền thuê đất trả tiền hàng năm tại thửa đất số: 190, tờ bản đồ số: 01 có địa chỉ: xã Tiên Tiến, huyện Phù Cừ, tỉnh Hưng Yên, theo Giấy chứng nhận Giá trị lợi thế quyền thuê đất trả tiền hàng năm quyền sở hữu nhà ở và tài sản khác gắn liền với đất số: CH 344899, số vào sổ cấp GCN: CT 00750 do Sở Tài nguyên và Môi trường tỉnh Hưng Yên cấp ngày 31/5/2018. Chủ sử dụng đất là Công ty Cổ phần Lương thực Hưng Yên | F12: =B12 -> Giá trị lợi thế quyền thuê đất trả tiền hàng năm tại thửa đất số: 190, tờ bản đồ số: 01 có địa chỉ: xã Tiên Tiến, huyện Phù Cừ, tỉnh Hưng Yên, theo Giấy chứng nhận Giá trị lợi thế quyền thuê đất trả tiền hàng năm quyền sở hữu nhà ở và tài sản khác gắn liền với đất số: CH 344899, số vào sổ cấp GCN: CT 00750 do Sở Tài nguyên và Môi trường tỉnh Hưng Yên cấp ngày 31/5/2018. Chủ sử dụng đất là Công ty Cổ phần Lương thực Hưng Yên
A13: 1. | B13: Nội dung Thửa đất theo Hồ sơ pháp lý
A14: 1.1 | B14: Thửa đất:
A15: - | B15: Thửa đất số: | C15: 190 | D15: Tờ bản đồ số: | E15: 01
A16: - | B16: Địa chỉ: | C16: xã Tiên Tiến, huyện Phù Cừ, tỉnh Hưng Yên | F16: =C16 -> xã Tiên Tiến, huyện Phù Cừ, tỉnh Hưng Yên
A17: - | B17: Diện tích (m²): | C17: 250 | D17: Mục đích sử dụng: | E17: Đất thương mại, dịch vụ
A18: - | B18: Hình thức sử dụng: | C18: Sử dụng riêng: Đất ở 30,5m², đất trồng cây lâu năm 25,6m²; Sử dụng chung: Đất trồng cây lâu năm 43,5m²
A19: - | B19: Thời hạn sử dụng: | C19: 15/10/2028 | D19: Hình thức sử dụng: | E19: Sử dụng riêng
A20: - | B20: Nguồn gốc sử dụng: | C20: Nhà nước cho thuê đất trả tiền hàng năm
A21: - | B21: Những thay đổi sau khi cấp GCN: | C21: Ngày 12/6/2023: Người sử dụng đất đổi địa chỉ thường trú từ tổ 18, phường Chăm Mát, thị xã Hòa Bình thành tổ 7, phường Dân Chủ, thành phố Hòa Bình. Đổi địa chỉ thửa đất từ phường Chăm Mát, thị xã Hòa Bình thành TDP số 7, phường Dân Chủ, thành phố Hòa Bình, theo hồ sơ số 033648.DT.004.
A22: - | B22: Thông tin quy hoạch: | C22: Tại thời điểm thẩm định giá, tổ thẩm định không thu thập được thông tin quy hoạch liên quan đến thửa đất
A23: 1.2 | B23: Nhà ở:
A24: - | B24: Địa chỉ: | C24: =C16 -> xã Tiên Tiến, huyện Phù Cừ, tỉnh Hưng Yên
A25: - | B25: Diện tích xây dựng (m²): | C25: 6 | D25: Diện tích sàn (m²): | E25: 286.2
A26: - | B26: Kết cấu: | C26: Tường xây gạch, khung, sàn và mái bằng bê tông
A27: - | B27: Cấp (Hạng): | C27: III | D27: Số tầng: | E27: 3.5
A28: - | B28: Năm hoàn thành xây dựng: | C28: 2010 | D28: Thời hạn sở hữu: | E28: ./.
A29: 2. | B29: Về đất:
A30: 2.1 | B30: Vị trí; Giao thông;
A31: - | B31: Địa chỉ thực tế: | C31: =C16 -> xã Tiên Tiến, huyện Phù Cừ, tỉnh Hưng Yên | F31: =C31 -> xã Tiên Tiến, huyện Phù Cừ, tỉnh Hưng Yên
A32: - | B32: Vị trí tài sản theo Bảng giá đất UBND TP Hà Nội: | C32: Vị trí 1: Đường tỉnh lộ 416 từ Ngã tư Tùng Thiện đến hết địa phận thị xã Sơn Tây | F32: =C32 -> Vị trí 1: Đường tỉnh lộ 416 từ Ngã tư Tùng Thiện đến hết địa phận thị xã Sơn Tây
A33: - | B33: Đường tiếp giáp chính: | C33: Đường tỉnh 386 | D33: Số mặt tiền: | E33: 1 mặt tiền | F33: =C31 -> xã Tiên Tiến, huyện Phù Cừ, tỉnh Hưng Yên
A34: - | B34: Mặt cắt đường/ngõ nhỏ nhất từ đường chính dẫn đến tài sản thẩm định giá: | C34: 5m | D34: Mặt cắt đường/ngõ trước mặt tài sản thẩm định giá: | E34: 5m | F34: =E34 -> 5m
A35: - | B35: Giao thông: | C35: Tài sản tiếp giáp đường tỉnh 386
A36: - | B36: Khoảng cách đến trục chính: | C36: Tài sản cách UBND xã Tiên Tiến khoảng 450m
A37: - | B37: Các hướng tiếp giáp: | C37: - Hướng Đông Bắc: tiếp giáp đường tỉnh 386 - Các hướng khác: tiếp giáp với các thửa đất khác
A38: - | B38: Vị trí trên bản đồ vệ tinh:
A39: - | F39: https://www.google.com/maps/place/21%C2%B005'31.5%22N+105%C2%B028'17.3%22E/@21.0920782,105.4689072,1018m/data=!3m2!1e3!4b1!4m4!3m3!8m2!3d21.0920782!4d105.4714821!5m1!1e1?entry=ttu&g_ep=EgoyMDI0MDgyMy4wIKXMDSoASAFQAw%3D%3D
A40: 2.2. | B40: Diện tích; Kích thước; Hình dáng
A41: - | B41: Diện tích sử dụng riêng thực tế (m²): | C41: =C17 -> 250 | D41: Diện tích sử dụng chung thực tế (m²): | E41: -/-
A42: - | B42: KT mặt tiền (m): | C42: 23.55 | D42: Chiều sâu (m): | E42: 11
A43: - | B43: KT mặt hậu (m): | C43: 23.67 | D43: Hình dáng thửa đất: | E43: Không vuông vức
A44: - | B44: Hướng mặt tiền chính: | C44: Đông Bắc
A45: 2.3. | B45: Điều kiện kinh doanh; Hạ tầng nội bộ; Hạ tầng xung quanh
A46: - | B46: Hạ tầng nội bộ: | C46: Cấp điện, cấp nước sạch, mạng internet,…hoàn thiện
A47: - | B47: Hạ tầng xung quanh: | C47: Môi trường trong lành, an ninh đảm bảo, dân trí tốt
A48: - | B48: Mật độ dân cư: | C48: Đông đúc | D48: Đời sống dân cư: | E48: Ổn định
A49: - | B49: Lợi thế kinh doanh: | C49: Có thể kinh doanh | D49: Khả năng chuyển nhượng: | E49: Tốt
A50: - | B50: Yếu tố phong thủy: | C50: ='[153]TSSS '!C39 -> Tài sản không bị lỗi phong thủy
A51: - | B51: Yếu tố tâm linh: | C51: ='[153]TSSS '!C40 -> Nhìn hướng khu dân cư
A52: 3. | B52: Tài sản gắn liền với đất: Đất trống
A53: - | B53: Tại thời điểm thẩm định giá, trên đất có các công trình xây dựng là: - 01 Nhà văn phòng, kết cấu tường gạch, mái tôn, sàn lát gạch, diện tích xây dựng khoảng: 399m² - 01 Nhà kho bán hàng mặt đường, kết cấu tường gạch, mái tôn, diện tích xây dựng khoảng 122m² - Nhà kho 3, kết cấu tường gạch, quây tôn, diện tích xây dựng khoảng 360m² - Nhà kho 4, kết cấu tường gạch, quây tôn, diện tích xây dựng khoảng 660m² - Nhà kho 5, kết cấu tường gạch, quây tôn, diện tích xây dựng khoảng 645m² - Nhà kho 6, kết cấu tường gạch, quây tôn, diện tích xây dựng khoảng 30m² Các công trình xây dựng trên hiện chưa được chứng nhận trên GCN số: AI 086818
D55: =[152]KHTĐG!D37 -> Hà Nội, ngày tháng năm 20
B56: Người khảo sát | D56: Thẩm định viên
F57: =9%*65% -> 0.0585
B61: _ | D61: Doãn Thị Thùy Dung
E70: =1-(2024-2016)/35 -> 0.77142857

Sheet 5
F1: CH 344900 | G1: Thông tin cũ
F2: CT 00751
F3: Sở Tài nguyên và Môi trường tỉnh Hưng Yên
F4: 31/5/2018
F5: Công ty Cổ phần Lương thực Hưng Yên
F6: Giấy chứng nhận Giá trị lợi thế quyền thuê đất trả tiền hàng năm quyền sở hữu nhà ở và tài sản khác gắn liền với đất
A7: PHIẾU ĐIỀU TRA, KHẢO SÁT TÀI SẢN THẨM ĐỊNH
A8: ="Thời điểm khảo sát: Ngày "&[152]TTCB!E1&" tháng "&[152]TTCB!F1&" năm 20"&[152]TTCB!G1 -> Thời điểm khảo sát: Ngày tháng năm 20
A11: I. TÀI SẢN; ĐẶC ĐIỂM CỦA TÀI SẢN THẨM ĐỊNH GIÁ
A12: Tên tài sản | B12: ="Giá trị lợi thế quyền thuê đất trả tiền hàng năm và tài sản gắn liền với đất tại thửa đất số: "&C15&", tờ bản đồ số: "&E15&" có địa chỉ: "&F16&", theo "&F6&" số: "&F1&", số vào sổ cấp GCN: "&F2&" do "&F3&" cấp ngày "&F4&". Chủ sử dụng đất là "&F5 -> Giá trị lợi thế quyền thuê đất trả tiền hàng năm và tài sản gắn liền với đất tại thửa đất số: 191, tờ bản đồ số: 01 có địa chỉ: xã Tiên Tiến, huyện Phù Cừ, tỉnh Hưng Yên, theo Giấy chứng nhận Giá trị lợi thế quyền thuê đất trả tiền hàng năm quyền sở hữu nhà ở và tài sản khác gắn liền với đất số: CH 344900, số vào sổ cấp GCN: CT 00751 do Sở Tài nguyên và Môi trường tỉnh Hưng Yên cấp ngày 31/5/2018. Chủ sử dụng đất là Công ty Cổ phần Lương thực Hưng Yên | F12: =B12 -> Giá trị lợi thế quyền thuê đất trả tiền hàng năm và tài sản gắn liền với đất tại thửa đất số: 191, tờ bản đồ số: 01 có địa chỉ: xã Tiên Tiến, huyện Phù Cừ, tỉnh Hưng Yên, theo Giấy chứng nhận Giá trị lợi thế quyền thuê đất trả tiền hàng năm quyền sở hữu nhà ở và tài sản khác gắn liền với đất số: CH 344900, số vào sổ cấp GCN: CT 00751 do Sở Tài nguyên và Môi trường tỉnh Hưng Yên cấp ngày 31/5/2018. Chủ sử dụng đất là Công ty Cổ phần Lương thực Hưng Yên
A13: 1. | B13: Nội dung Thửa đất theo Hồ sơ pháp lý
A14: 1.1 | B14: Thửa đất:
A15: - | B15: Thửa đất số: | C15: 191 | D15: Tờ bản đồ số: | E15: 01
A16: - | B16: Địa chỉ: | C16: xã Tiên Tiến, huyện Phù Cừ, tỉnh Hưng Yên | F16: =C16 -> xã Tiên Tiến, huyện Phù Cừ, tỉnh Hưng Yên
A17: - | B17: Diện tích (m²): | C17: 5325 | D17: Mục đích sử dụng: | E17: Đất thương mại, dịch vụ
A18: - | B18: Hình thức sử dụng: | C18: Sử dụng riêng: Đất ở 30,5m², đất trồng cây lâu năm 25,6m²; Sử dụng chung: Đất trồng cây lâu năm 43,5m²
A19: - | B19: Thời hạn sử dụng: | C19: 15/10/2028 | D19: Hình thức sử dụng: | E19: Sử dụng riêng
A20: - | B20: Nguồn gốc sử dụng: | C20: Nhà nước cho thuê đất trả tiền hàng năm
A21: - | B21: Những thay đổi sau khi cấp GCN: | C21: Ngày 12/6/2023: Người sử dụng đất đổi địa chỉ thường trú từ tổ 18, phường Chăm Mát, thị xã Hòa Bình thành tổ 7, phường Dân Chủ, thành phố Hòa Bình. Đổi địa chỉ thửa đất từ phường Chăm Mát, thị xã Hòa Bình thành TDP số 7, phường Dân Chủ, thành phố Hòa Bình, theo hồ sơ số 033648.DT.004.
A22: - | B22: Thông tin quy hoạch: | C22: Tại thời điểm thẩm định giá, tổ thẩm định không thu thập được thông tin quy hoạch liên quan đến thửa đất
A23: 1.2 | B23: Nhà ở:
A24: - | B24: Địa chỉ: | C24: =C16 -> xã Tiên Tiến, huyện Phù Cừ, tỉnh Hưng Yên
A25: - | B25: Diện tích xây dựng (m²): | C25: 6 | D25: Diện tích sàn (m²): | E25: 286.2
A26: - | B26: Kết cấu: | C26: Tường xây gạch, khung, sàn và mái bằng bê tông
A27: - | B27: Cấp (Hạng): | C27: III | D27: Số tầng: | E27: 3.5
A28: - | B28: Năm hoàn thành xây dựng: | C28: 2010 | D28: Thời hạn sở hữu: | E28: ./.
A29: 2. | B29: Về đất:
A30: 2.1 | B30: Vị trí; Giao thông;
A31: - | B31: Địa chỉ thực tế: | C31: =C16 -> xã Tiên Tiến, huyện Phù Cừ, tỉnh Hưng Yên | F31: =C31 -> xã Tiên Tiến, huyện Phù Cừ, tỉnh Hưng Yên
A32: - | B32: Vị trí tài sản theo Bảng giá đất UBND TP Hà Nội: | C32: Vị trí 1: Đường tỉnh lộ 416 từ Ngã tư Tùng Thiện đến hết địa phận thị xã Sơn Tây | F32: =C32 -> Vị trí 1: Đường tỉnh lộ 416 từ Ngã tư Tùng Thiện đến hết địa phận thị xã Sơn Tây
A33: - | B33: Đường tiếp giáp chính: | C33: Đường tỉnh 386 | D33: Số mặt tiền: | E33: 1 mặt tiền | F33: =C31 -> xã Tiên Tiến, huyện Phù Cừ, tỉnh Hưng Yên
A34: - | B34: Mặt cắt đường/ngõ nhỏ nhất từ đường chính dẫn đến tài sản thẩm định giá: | C34: 5m | D34: Mặt cắt đường/ngõ trước mặt tài sản thẩm định giá: | E34: 5m | F34: =E34 -> 5m
A35: - | B35: Giao thông: | C35: Tài sản tiếp giáp đường tỉnh 386
A36: - | B36: Khoảng cách đến trục chính: | C36: Tài sản cách UBND xã Tiên Tiến khoảng 450m
A37: - | B37: Các hướng tiếp giáp: | C37: - Hướng Đông Bắc: tiếp giáp đường tỉnh 386 - Các hướng khác: tiếp giáp với các thửa đất khác
A38: - | B38: Vị trí trên bản đồ vệ tinh:
A39: - | F39: https://www.google.com/maps/place/21%C2%B005'31.5%22N+105%C2%B028'17.3%22E/@21.0920782,105.4689072,1018m/data=!3m2!1e3!4b1!4m4!3m3!8m2!3d21.0920782!4d105.4714821!5m1!1e1?entry=ttu&g_ep=EgoyMDI0MDgyMy4wIKXMDSoASAFQAw%3D%3D
A40: 2.2. | B40: Diện tích; Kích thước; Hình dáng
A41: - | B41: Diện tích sử dụng riêng thực tế (m²): | C41: =C17 -> 5325 | D41: Diện tích sử dụng chung thực tế (m²): | E41: -/-
A42: - | B42: KT mặt tiền (m): | C42: 55.18 | D42: Chiều sâu (m): | E42: 90.46
A43: - | B43: KT mặt hậu (m): | C43: 71.54 | D43: Hình dáng thửa đất: | E43: Không vuông vức
A44: - | B44: Hướng mặt tiền chính: | C44: Đông Bắc
A45: 2.3. | B45: Điều kiện kinh doanh; Hạ tầng nội bộ; Hạ tầng xung quanh
A46: - | B46: Hạ tầng nội bộ: | C46: Cấp điện, cấp nước sạch, mạng internet,…hoàn thiện
A47: - | B47: Hạ tầng xung quanh: | C47: Môi trường trong lành, an ninh đảm bảo, dân trí tốt
A48: - | B48: Mật độ dân cư: | C48: Đông đúc | D48: Đời sống dân cư: | E48: Ổn định
A49: - | B49: Lợi thế kinh doanh: | C49: Có thể kinh doanh | D49: Khả năng chuyển nhượng: | E49: Tốt
A50: - | B50: Yếu tố phong thủy: | C50: ='[153]TSSS '!C39 -> Tài sản không bị lỗi phong thủy
A51: - | B51: Yếu tố tâm linh: | C51: ='[153]TSSS '!C40 -> Nhìn hướng khu dân cư
A52: 3. | B52: Tài sản gắn liền với đất:
A53: - | B53: Tại thời điểm thẩm định giá, trên đất có các công trình xây dựng là: - 01 Nhà điều hành, kết cấu tường gạch, mái bằng, sàn lát gạch, diện tích xây dựng khoảng: 84,3m² Các công trình xây dựng trên hiện đã được chứng nhận trên GCN số: CH 344900
D55: =[152]KHTĐG!D37 -> Hà Nội, ngày tháng năm 20
B56: Người khảo sát | D56: Thẩm định viên
F57: =9%*65% -> 0.0585
B61: _ | D61: Doãn Thị Thùy Dung
E70: =1-(2024-2016)/35 -> 0.77142857

Sheet 6
F1: AI 086820 | G1: Thông tin cũ
F2: T00925 QSDĐ/QĐ-2354/T-2007
F3: UBND tỉnh Hưng Yên
F4: 17/01/2008
F5: Chi nhánh Công ty Cổ phần lương thực Hưng Yên tại Ân Thi (cập nhật ngày 22/5/2014)
F6: Giấy chứng nhận Giá trị lợi thế quyền thuê đất trả tiền hàng năm
A7: PHIẾU ĐIỀU TRA, KHẢO SÁT TÀI SẢN THẨM ĐỊNH
A8: ="Thời điểm khảo sát: Ngày "&[152]TTCB!E1&" tháng "&[152]TTCB!F1&" năm 20"&[152]TTCB!G1 -> Thời điểm khảo sát: Ngày tháng năm 20
A11: I. TÀI SẢN; ĐẶC ĐIỂM CỦA TÀI SẢN THẨM ĐỊNH GIÁ
A12: Tên tài sản | B12: ="Giá trị lợi thế quyền thuê đất trả tiền hàng năm tại thửa đất số: "&C15&", tờ bản đồ số: "&E15&" có địa chỉ: "&F16&", theo "&F6&" số: "&F1&", số vào sổ cấp GCN: "&F2&" do "&F3&" cấp ngày "&F4&". Chủ sử dụng đất là "&F5 -> Giá trị lợi thế quyền thuê đất trả tiền hàng năm tại thửa đất số: 447, tờ bản đồ số: 12 có địa chỉ: Thị trấn Vương, huyện Tiên Lữ, tỉnh Hưng Yên, theo Giấy chứng nhận Giá trị lợi thế quyền thuê đất trả tiền hàng năm số: AI 086820, số vào sổ cấp GCN: T00925 QSDĐ/QĐ-2354/T-2007 do UBND tỉnh Hưng Yên cấp ngày 17/01/2008. Chủ sử dụng đất là Chi nhánh Công ty Cổ phần lương thực Hưng Yên tại Ân Thi (cập nhật ngày 22/5/2014) | F12: =B12 -> Giá trị lợi thế quyền thuê đất trả tiền hàng năm tại thửa đất số: 447, tờ bản đồ số: 12 có địa chỉ: Thị trấn Vương, huyện Tiên Lữ, tỉnh Hưng Yên, theo Giấy chứng nhận Giá trị lợi thế quyền thuê đất trả tiền hàng năm số: AI 086820, số vào sổ cấp GCN: T00925 QSDĐ/QĐ-2354/T-2007 do UBND tỉnh Hưng Yên cấp ngày 17/01/2008. Chủ sử dụng đất là Chi nhánh Công ty Cổ phần lương thực Hưng Yên tại Ân Thi (cập nhật ngày 22/5/2014)
A13: 1. | B13: Nội dung Thửa đất theo Hồ sơ pháp lý
A14: 1.1 | B14: Thửa đất:
A15: - | B15: Thửa đất số: | C15: 447 | D15: Tờ bản đồ số: | E15: 12
A16: - | B16: Địa chỉ: | C16: Thị trấn Vương, huyện Tiên Lữ, tỉnh Hưng Yên | F16: =C16 -> Thị trấn Vương, huyện Tiên Lữ, tỉnh Hưng Yên
A17: - | B17: Diện tích (m²): | C17: 1279 | D17: Mục đích sử dụng: | E17: XD cửa hàng mua bán lương thực, nông, lâm, hải sản và VTNN
A18: - | B18: Hình thức sử dụng: | C18: Sử dụng riêng: Đất ở 30,5m², đất trồng cây lâu năm 25,6m²; Sử dụng chung: Đất trồng cây lâu năm 43,5m²
A19: - | B19: Thời hạn sử dụng: | C19: 35 năm (từ ngày 15/10/1993 đến ngày 15/10/2028)
A20: - | B20: Nguồn gốc sử dụng: | C20: Nhà nước giao đất không thu tiền sử dụng đất, chuyển sang thuê đất trả tiền hàng năm
A21: - | B21: Những thay đổi sau khi cấp GCN: | C21: Ngày 12/6/2023: Người sử dụng đất đổi địa chỉ thường trú từ tổ 18, phường Chăm Mát, thị xã Hòa Bình thành tổ 7, phường Dân Chủ, thành phố Hòa Bình. Đổi địa chỉ thửa đất từ phường Chăm Mát, thị xã Hòa Bình thành TDP số 7, phường Dân Chủ, thành phố Hòa Bình, theo hồ sơ số 033648.DT.004.
A22: - | B22: Thông tin quy hoạch: | C22: Tại thời điểm thẩm định giá, tổ thẩm định không thu thập được thông tin quy hoạch liên quan đến thửa đất
A23: 1.2 | B23: Nhà ở:
A24: - | B24: Địa chỉ: | C24: =C16 -> Thị trấn Vương, huyện Tiên Lữ, tỉnh Hưng Yên
A25: - | B25: Diện tích xây dựng (m²): | C25: 6 | D25: Diện tích sàn (m²): | E25: 286.2
A26: - | B26: Kết cấu: | C26: Tường xây gạch, khung, sàn và mái bằng bê tông
A27: - | B27: Cấp (Hạng): | C27: III | D27: Số tầng: | E27: 3.5
A28: - | B28: Năm hoàn thành xây dựng: | C28: 2010 | D28: Thời hạn sở hữu: | E28: ./.
A29: 2. | B29: Về đất:
A30: 2.1 | B30: Vị trí; Giao thông;
A31: - | B31: Địa chỉ thực tế: | C31: =C16 -> Thị trấn Vương, huyện Tiên Lữ, tỉnh Hưng Yên | F31: =C31 -> Thị trấn Vương, huyện Tiên Lữ, tỉnh Hưng Yên
A32: - | B32: Vị trí tài sản theo Bảng giá đất UBND TP Hà Nội: | C32: Vị trí 1: Đường tỉnh lộ 416 từ Ngã tư Tùng Thiện đến hết địa phận thị xã Sơn Tây | F32: =C32 -> Vị trí 1: Đường tỉnh lộ 416 từ Ngã tư Tùng Thiện đến hết địa phận thị xã Sơn Tây
A33: - | B33: Đường tiếp giáp chính: | C33: Đường QL39B | D33: Số mặt tiền: | E33: 1 mặt tiền | F33: =C31 -> Thị trấn Vương, huyện Tiên Lữ, tỉnh Hưng Yên
A34: - | B34: Mặt cắt đường/ngõ nhỏ nhất từ đường chính dẫn đến tài sản thẩm định giá: | C34: 5m | D34: Mặt cắt đường/ngõ trước mặt tài sản thẩm định giá: | E34: 5m | F34: =E34 -> 5m
A35: - | B35: Giao thông: | C35: Tài sản tiếp giáp đường QL39B
A36: - | B36: Khoảng cách đến trục chính: | C36: Tài sản cách UBND Thị trấn Vương khoảng 800m
A37: - | B37: Các hướng tiếp giáp: | C37: - Hướng Tây Bắc: tiếp giáp đường QL39B - Các hướng khác: tiếp giáp với các thửa đất khác
A38: - | B38: Vị trí trên bản đồ vệ tinh:
A39: - | F39: https://www.google.com/maps/place/21%C2%B005'31.5%22N+105%C2%B028'17.3%22E/@21.0920782,105.4689072,1018m/data=!3m2!1e3!4b1!4m4!3m3!8m2!3d21.0920782!4d105.4714821!5m1!1e1?entry=ttu&g_ep=EgoyMDI0MDgyMy4wIKXMDSoASAFQAw%3D%3D
A40: 2.2. | B40: Diện tích; Kích thước; Hình dáng
A41: - | B41: Diện tích sử dụng riêng thực tế (m²): | C41: =C17 -> 1279 | D41: Diện tích sử dụng chung thực tế (m²): | E41: -/-
A42: - | B42: KT mặt tiền (m): | C42: 27.19 | D42: Chiều sâu (m): | E42: =6.63+23.44+12.79+47.97 -> 90.83
A43: - | B43: KT mặt hậu (m): | C43: =19.75+14.17+7.44 -> 41.36 | D43: Hình dáng thửa đất: | E43: =18.09+17.29 -> 35.38
A44: - | B44: Hướng mặt tiền chính: | C44: Tây Bắc
A45: 2.3. | B45: Điều kiện kinh doanh; Hạ tầng nội bộ; Hạ tầng xung quanh
A46: - | B46: Hạ tầng nội bộ: | C46: Cấp điện, cấp nước sạch, mạng internet,…hoàn thiện
A47: - | B47: Hạ tầng xung quanh: | C47: Môi trường trong lành, an ninh đảm bảo, dân trí tốt
A48: - | B48: Mật độ dân cư: | C48: Đông đúc | D48: Đời sống dân cư: | E48: Ổn định
A49: - | B49: Lợi thế kinh doanh: | C49: Có thể kinh doanh | D49: Khả năng chuyển nhượng: | E49: Tốt
A50: - | B50: Yếu tố phong thủy: | C50: ='[153]TSSS '!C39 -> Tài sản không bị lỗi phong thủy
A51: - | B51: Yếu tố tâm linh: | C51: ='[153]TSSS '!C40 -> Nhìn hướng khu dân cư
A52: 3. | B52: Tài sản gắn liền với đất:
A53: - | B53: Tại thời điểm thẩm định giá, trên đất có các công trình xây dựng là: - 5 Dãy trọ liền nhau, nhà mái vòm, tường gạch, xây dựng năm 1974, hiện trạng bỏ không, không được đưa vào sử dụng - 02 Nhà cấp 4, kết cấu tường gach, mái tôn, do bên thuê đất xây dựng và sử dụng Các công trình xây dựng trên hiện chưa được chứng nhận trên GCN số: AI 086820
D55: =[152]KHTĐG!D37 -> Hà Nội, ngày tháng năm 20
B56: Người khảo sát | D56: Thẩm định viên
F57: =9%*65% -> 0.0585
B61: _ | D61: Doãn Thị Thùy Dung
E70: =1-(2024-2016)/35 -> 0.77142857

Sheet 7
F1: AI 086828 | G1: Thông tin cũ
F2: T00931 QSDĐ/QĐ-2352/T-2007
F3: UBND tỉnh Hưng Yên
F4: 17/01/2008
F5: Công ty Cổ phần Lương thực Hưng Yên (cập nhật ngày 22/5/2014)
F6: Giấy chứng nhận Giá trị lợi thế quyền thuê đất trả tiền hàng năm
A7: PHIẾU ĐIỀU TRA, KHẢO SÁT TÀI SẢN THẨM ĐỊNH
A8: ="Thời điểm khảo sát: Ngày "&[152]TTCB!E1&" tháng "&[152]TTCB!F1&" năm 20"&[152]TTCB!G1 -> Thời điểm khảo sát: Ngày tháng năm 20
A11: I. TÀI SẢN; ĐẶC ĐIỂM CỦA TÀI SẢN THẨM ĐỊNH GIÁ
A12: Tên tài sản | B12: ="Giá trị lợi thế quyền thuê đất trả tiền hàng năm tại thửa đất số: "&C15&", tờ bản đồ số: "&E15&" có địa chỉ: "&F16&", theo "&F6&" số: "&F1&", số vào sổ cấp GCN: "&F2&" do "&F3&" cấp ngày "&F4&". Chủ sử dụng đất là "&F5 -> Giá trị lợi thế quyền thuê đất trả tiền hàng năm tại thửa đất số: 30, tờ bản đồ số: 9 có địa chỉ: Phường Minh Khai, thị xã Hưng Yên, tỉnh Hưng Yên (nay là thành phố Hưng Yên, tỉnh Hưng Yên), theo Giấy chứng nhận Giá trị lợi thế quyền thuê đất trả tiền hàng năm số: AI 086828, số vào sổ cấp GCN: T00931 QSDĐ/QĐ-2352/T-2007 do UBND tỉnh Hưng Yên cấp ngày 17/01/2008. Chủ sử dụng đất là Công ty Cổ phần Lương thực Hưng Yên (cập nhật ngày 22/5/2014) | F12: =B12 -> Giá trị lợi thế quyền thuê đất trả tiền hàng năm tại thửa đất số: 30, tờ bản đồ số: 9 có địa chỉ: Phường Minh Khai, thị xã Hưng Yên, tỉnh Hưng Yên (nay là thành phố Hưng Yên, tỉnh Hưng Yên), theo Giấy chứng nhận Giá trị lợi thế quyền thuê đất trả tiền hàng năm số: AI 086828, số vào sổ cấp GCN: T00931 QSDĐ/QĐ-2352/T-2007 do UBND tỉnh Hưng Yên cấp ngày 17/01/2008. Chủ sử dụng đất là Công ty Cổ phần Lương thực Hưng Yên (cập nhật ngày 22/5/2014)
A13: 1. | B13: Nội dung Thửa đất theo Hồ sơ pháp lý
A14: 1.1 | B14: Thửa đất:
A15: - | B15: Thửa đất số: | C15: 30 | D15: Tờ bản đồ số: | E15: 9
A16: - | B16: Địa chỉ: | C16: Phường Minh Khai, thị xã Hưng Yên, tỉnh Hưng Yên (nay là thành phố Hưng Yên, tỉnh Hưng Yên) | F16: =C16 -> Phường Minh Khai, thị xã Hưng Yên, tỉnh Hưng Yên (nay là thành phố Hưng Yên, tỉnh Hưng Yên)
A17: - | B17: Diện tích (m²): | C17: 1190 | D17: Mục đích sử dụng: | E17: XD cửa hàng mua bán lương thực, nông, lâm, hải sản và VTNN
A18: - | B18: Hình thức sử dụng: | C18: Sử dụng riêng: Đất ở 30,5m², đất trồng cây lâu năm 25,6m²; Sử dụng chung: Đất trồng cây lâu năm 43,5m²
A19: - | B19: Thời hạn sử dụng: | C19: 35 năm (từ ngày 15/10/1993 đến ngày 15/10/2028)
A20: - | B20: Nguồn gốc sử dụng: | C20: Nhà nước giao đất không thu tiền sử dụng đất, chuyển sang thuê đất trả tiền hàng năm
A21: - | B21: Những thay đổi sau khi cấp GCN: | C21: Ngày 12/6/2023: Người sử dụng đất đổi địa chỉ thường trú từ tổ 18, phường Chăm Mát, thị xã Hòa Bình thành tổ 7, phường Dân Chủ, thành phố Hòa Bình. Đổi địa chỉ thửa đất từ phường Chăm Mát, thị xã Hòa Bình thành TDP số 7, phường Dân Chủ, thành phố Hòa Bình, theo hồ sơ số 033648.DT.004.
A22: - | B22: Thông tin quy hoạch: | C22: Tại thời điểm thẩm định giá, tổ thẩm định không thu thập được thông tin quy hoạch liên quan đến thửa đất
A23: 1.2 | B23: Nhà ở:
A24: - | B24: Địa chỉ: | C24: =C16 -> Phường Minh Khai, thị xã Hưng Yên, tỉnh Hưng Yên (nay là thành phố Hưng Yên, tỉnh Hưng Yên)
A25: - | B25: Diện tích xây dựng (m²): | C25: 6 | D25: Diện tích sàn (m²): | E25: 286.2
A26: - | B26: Kết cấu: | C26: Tường xây gạch, khung, sàn và mái bằng bê tông
A27: - | B27: Cấp (Hạng): | C27: III | D27: Số tầng: | E27: 3.5
A28: - | B28: Năm hoàn thành xây dựng: | C28: 2010 | D28: Thời hạn sở hữu: | E28: ./.
A29: 2. | B29: Về đất:
A30: 2.1 | B30: Vị trí; Giao thông;
A31: - | B31: Địa chỉ thực tế: | C31: =C16 -> Phường Minh Khai, thị xã Hưng Yên, tỉnh Hưng Yên (nay là thành phố Hưng Yên, tỉnh Hưng Yên) | F31: =C31 -> Phường Minh Khai, thị xã Hưng Yên, tỉnh Hưng Yên (nay là thành phố Hưng Yên, tỉnh Hưng Yên)
A32: - | B32: Vị trí tài sản theo Bảng giá đất UBND TP Hà Nội: | C32: Vị trí 1: Đường tỉnh lộ 416 từ Ngã tư Tùng Thiện đến hết địa phận thị xã Sơn Tây | F32: =C32 -> Vị trí 1: Đường tỉnh lộ 416 từ Ngã tư Tùng Thiện đến hết địa phận thị xã Sơn Tây
A33: - | B33: Đường tiếp giáp chính: | C33: Đường Bạch Đằng | D33: Số mặt tiền: | E33: 2 mặt tiền | F33: =C31 -> Phường Minh Khai, thị xã Hưng Yên, tỉnh Hưng Yên (nay là thành phố Hưng Yên, tỉnh Hưng Yên)
A34: - | B34: Mặt cắt đường/ngõ nhỏ nhất từ đường chính dẫn đến tài sản thẩm định giá: | C34: 5m | D34: Mặt cắt đường/ngõ trước mặt tài sản thẩm định giá: | E34: 5m | F34: =E34 -> 5m
A35: - | B35: Giao thông: | C35: Tài sản tiếp giáp đường Bạch Đằng
A36: - | B36: Khoảng cách đến trục chính: | C36: Tài sản cách DT38B khoảng 2km
A37: - | B37: Các hướng tiếp giáp: | C37: - Hướng Nam: tiếp giáp đường Bạch Đằng - Hướng Đông: tiếp giáp phố Tân Nhân - Các hướng khác: tiếp giáp với các thửa đất khác
A38: - | B38: Vị trí trên bản đồ vệ tinh:
A39: - | F39: https://www.google.com/maps/place/21%C2%B005'31.5%22N+105%C2%B028'17.3%22E/@21.0920782,105.4689072,1018m/data=!3m2!1e3!4b1!4m4!3m3!8m2!3d21.0920782!4d105.4714821!5m1!1e1?entry=ttu&g_ep=EgoyMDI0MDgyMy4wIKXMDSoASAFQAw%3D%3D
A40: 2.2. | B40: Diện tích; Kích thước; Hình dáng
A41: - | B41: Diện tích sử dụng riêng thực tế (m²): | C41: =C17 -> 1190 | D41: Diện tích sử dụng chung thực tế (m²): | E41: -/-
A42: - | B42: KT mặt tiền (m): | C42: 23.6 | D42: Chiều sâu (m): | E42: 43.6
A43: - | B43: KT mặt hậu (m): | C43: 28.6 | D43: Hình dáng thửa đất: | E43: Nở hậu
A44: - | B44: Hướng mặt tiền chính: | C44: Đông
A45: 2.3. | B45: Điều kiện kinh doanh; Hạ tầng nội bộ; Hạ tầng xung quanh
A46: - | B46: Hạ tầng nội bộ: | C46: Cấp điện, cấp nước sạch, mạng internet,…hoàn thiện
A47: - | B47: Hạ tầng xung quanh: | C47: Môi trường trong lành, an ninh đảm bảo, dân trí tốt
A48: - | B48: Mật độ dân cư: | C48: Đông đúc | D48: Đời sống dân cư: | E48: Ổn định
A49: - | B49: Lợi thế kinh doanh: | C49: Có thể kinh doanh | D49: Khả năng chuyển nhượng: | E49: Tốt
A50: - | B50: Yếu tố phong thủy: | C50: ='[153]TSSS '!C39 -> Tài sản không bị lỗi phong thủy
A51: - | B51: Yếu tố tâm linh: | C51: ='[153]TSSS '!C40 -> Nhìn hướng khu dân cư
A52: 3. | B52: Tài sản gắn liền với đất:
A53: - | B53: Tại thời điểm thẩm định giá, trên đất có các công trình xây dựng là: - 01 Nhà văn phòng 2 tầng, kết cấu tường gạch, mái BTCT, sàn lát gạch, diện tích xây dựng khoảng: 288m², tổng diện tích sàn khoảng 576m² - Dãy trọ 3 phòng, Nhà cấp 4, kết cấu tường gạch, mái tôn, diện tích xây dựng khoảng 82,5m², ngoại quan đã cũ - Dãy trọ 2 phòng, Nhà cấp 4, kết cấu tường gạch, mái tôn, diện tích xây dựng khoảng 52,5m², ngoại quan đã cũ Các công trình xây dựng trên hiện chưa được chứng nhận trên GCN số: AI 086828
D55: =[152]KHTĐG!D37 -> Hà Nội, ngày tháng năm 20
B56: Người khảo sát | D56: Thẩm định viên
F57: =9%*65% -> 0.0585
B61: _ | D61: Doãn Thị Thùy Dung
E70: =1-(2024-2016)/35 -> 0.77142857

Sheet 8
F1: AI 086827 | G1: Thông tin cũ
F2: T00930 QSDĐ/QĐ-2352/T-2007
F3: UBND tỉnh Hưng Yên
F4: 17/01/2008
F5: Công ty Cổ phần Lương thực Hưng Yên (cập nhật ngày 22/5/2014)
F6: Giấy chứng nhận Giá trị lợi thế quyền thuê đất trả tiền hàng năm
A7: PHIẾU ĐIỀU TRA, KHẢO SÁT TÀI SẢN THẨM ĐỊNH
A8: ="Thời điểm khảo sát: Ngày "&[152]TTCB!E1&" tháng "&[152]TTCB!F1&" năm 20"&[152]TTCB!G1 -> Thời điểm khảo sát: Ngày tháng năm 20
A11: I. TÀI SẢN; ĐẶC ĐIỂM CỦA TÀI SẢN THẨM ĐỊNH GIÁ
A12: Tên tài sản | B12: ="Giá trị lợi thế quyền thuê đất trả tiền hàng năm tại thửa đất số: "&C15&", tờ bản đồ số: "&E15&" có địa chỉ: "&F16&", theo "&F6&" số: "&F1&", số vào sổ cấp GCN: "&F2&" do "&F3&" cấp ngày "&F4&". Chủ sử dụng đất là "&F5 -> Giá trị lợi thế quyền thuê đất trả tiền hàng năm tại thửa đất số: 189, tờ bản đồ số: 6 có địa chỉ: Phường Minh Khai, thị xã Hưng Yên, tỉnh Hưng Yên (nay là thành phố Hưng Yên, tỉnh Hưng Yên), theo Giấy chứng nhận Giá trị lợi thế quyền thuê đất trả tiền hàng năm số: AI 086827, số vào sổ cấp GCN: T00930 QSDĐ/QĐ-2352/T-2007 do UBND tỉnh Hưng Yên cấp ngày 17/01/2008. Chủ sử dụng đất là Công ty Cổ phần Lương thực Hưng Yên (cập nhật ngày 22/5/2014) | F12: =B12 -> Giá trị lợi thế quyền thuê đất trả tiền hàng năm tại thửa đất số: 189, tờ bản đồ số: 6 có địa chỉ: Phường Minh Khai, thị xã Hưng Yên, tỉnh Hưng Yên (nay là thành phố Hưng Yên, tỉnh Hưng Yên), theo Giấy chứng nhận Giá trị lợi thế quyền thuê đất trả tiền hàng năm số: AI 086827, số vào sổ cấp GCN: T00930 QSDĐ/QĐ-2352/T-2007 do UBND tỉnh Hưng Yên cấp ngày 17/01/2008. Chủ sử dụng đất là Công ty Cổ phần Lương thực Hưng Yên (cập nhật ngày 22/5/2014)
A13: 1. | B13: Nội dung Thửa đất theo Hồ sơ pháp lý
A14: 1.1 | B14: Thửa đất:
A15: - | B15: Thửa đất số: | C15: 189 | D15: Tờ bản đồ số: | E15: 6
A16: - | B16: Địa chỉ: | C16: Phường Minh Khai, thị xã Hưng Yên, tỉnh Hưng Yên (nay là thành phố Hưng Yên, tỉnh Hưng Yên) | F16: =C16 -> Phường Minh Khai, thị xã Hưng Yên, tỉnh Hưng Yên (nay là thành phố Hưng Yên, tỉnh Hưng Yên)
A17: - | B17: Diện tích (m²): | C17: 1027 | D17: Mục đích sử dụng: | E17: XD cửa hàng mua bán lương thực, nông, lâm, hải sản và VTNN
A18: - | B18: Hình thức sử dụng: | C18: Sử dụng riêng: Đất ở 30,5m², đất trồng cây lâu năm 25,6m²; Sử dụng chung: Đất trồng cây lâu năm 43,5m²
A19: - | B19: Thời hạn sử dụng: | C19: 35 năm (từ ngày 15/10/1993 đến ngày 15/10/2028)
A20: - | B20: Nguồn gốc sử dụng: | C20: Nhà nước giao đất không thu tiền sử dụng đất, chuyển sang thuê đất trả tiền hàng năm
A21: - | B21: Những thay đổi sau khi cấp GCN: | C21: Ngày 12/6/2023: Người sử dụng đất đổi địa chỉ thường trú từ tổ 18, phường Chăm Mát, thị xã Hòa Bình thành tổ 7, phường Dân Chủ, thành phố Hòa Bình. Đổi địa chỉ thửa đất từ phường Chăm Mát, thị xã Hòa Bình thành TDP số 7, phường Dân Chủ, thành phố Hòa Bình, theo hồ sơ số 033648.DT.004.
A22: - | B22: Thông tin quy hoạch: | C22: Tại thời điểm thẩm định giá, tổ thẩm định không thu thập được thông tin quy hoạch liên quan đến thửa đất
A23: 1.2 | B23: Nhà ở:
A24: - | B24: Địa chỉ: | C24: =C16 -> Phường Minh Khai, thị xã Hưng Yên, tỉnh Hưng Yên (nay là thành phố Hưng Yên, tỉnh Hưng Yên)
A25: - | B25: Diện tích xây dựng (m²): | C25: 6 | D25: Diện tích sàn (m²): | E25: 286.2
A26: - | B26: Kết cấu: | C26: Tường xây gạch, khung, sàn và mái bằng bê tông
A27: - | B27: Cấp (Hạng): | C27: III | D27: Số tầng: | E27: 3.5
A28: - | B28: Năm hoàn thành xây dựng: | C28: 2010 | D28: Thời hạn sở hữu: | E28: ./.
A29: 2. | B29: Về đất:
A30: 2.1 | B30: Vị trí; Giao thông;
A31: - | B31: Địa chỉ thực tế: | C31: =C16 -> Phường Minh Khai, thị xã Hưng Yên, tỉnh Hưng Yên (nay là thành phố Hưng Yên, tỉnh Hưng Yên) | F31: =C31 -> Phường Minh Khai, thị xã Hưng Yên, tỉnh Hưng Yên (nay là thành phố Hưng Yên, tỉnh Hưng Yên)
A32: - | B32: Vị trí tài sản theo Bảng giá đất UBND TP Hà Nội: | C32: Vị trí 1: Đường tỉnh lộ 416 từ Ngã tư Tùng Thiện đến hết địa phận thị xã Sơn Tây | F32: =C32 -> Vị trí 1: Đường tỉnh lộ 416 từ Ngã tư Tùng Thiện đến hết địa phận thị xã Sơn Tây
A33: - | B33: Đường tiếp giáp chính: | C33: Phố Tân Nhân | D33: Số mặt tiền: | E33: 1 mặt tiền | F33: =C31 -> Phường Minh Khai, thị xã Hưng Yên, tỉnh Hưng Yên (nay là thành phố Hưng Yên, tỉnh Hưng Yên)
A34: - | B34: Mặt cắt đường/ngõ nhỏ nhất từ đường chính dẫn đến tài sản thẩm định giá: | C34: 5m | D34: Mặt cắt đường/ngõ trước mặt tài sản thẩm định giá: | E34: 5m | F34: =E34 -> 5m
A35: - | B35: Giao thông: | C35: Tài sản tiếp giáp phố Tân Nhân
A36: - | B36: Khoảng cách đến trục chính: | C36: Tài sản cách DT38B khoảng 1,9km
A37: - | B37: Các hướng tiếp giáp: | C37: - Hướng Đông: tiếp giáp phố Tân Nhân - Các hướng khác: tiếp giáp với các thửa đất khác
A38: - | B38: Vị trí trên bản đồ vệ tinh:
A39: - | F39: https://www.google.com/maps/place/21%C2%B005'31.5%22N+105%C2%B028'17.3%22E/@21.0920782,105.4689072,1018m/data=!3m2!1e3!4b1!4m4!3m3!8m2!3d21.0920782!4d105.4714821!5m1!1e1?entry=ttu&g_ep=EgoyMDI0MDgyMy4wIKXMDSoASAFQAw%3D%3D
A40: 2.2. | B40: Diện tích; Kích thước; Hình dáng
A41: - | B41: Diện tích sử dụng riêng thực tế (m²): | C41: =C17 -> 1027 | D41: Diện tích sử dụng chung thực tế (m²): | E41: -/-
A42: - | B42: KT mặt tiền (m): | C42: 24.3 | D42: Chiều sâu (m): | E42: 46.5
A43: - | B43: KT mặt hậu (m): | C43: =10.3+3.7+8+1.3+3.9 -> 27.2 | D43: Hình dáng thửa đất: | E43: Đa giác
A44: - | B44: Hướng mặt tiền chính: | C44: Đông
A45: 2.3. | B45: Điều kiện kinh doanh; Hạ tầng nội bộ; Hạ tầng xung quanh
A46: - | B46: Hạ tầng nội bộ: | C46: Cấp điện, cấp nước sạch, mạng internet,…hoàn thiện
A47: - | B47: Hạ tầng xung quanh: | C47: Môi trường trong lành, an ninh đảm bảo, dân trí tốt
A48: - | B48: Mật độ dân cư: | C48: Đông đúc | D48: Đời sống dân cư: | E48: Ổn định
A49: - | B49: Lợi thế kinh doanh: | C49: Có thể kinh doanh | D49: Khả năng chuyển nhượng: | E49: Tốt
A50: - | B50: Yếu tố phong thủy: | C50: ='[153]TSSS '!C39 -> Tài sản không bị lỗi phong thủy
A51: - | B51: Yếu tố tâm linh: | C51: ='[153]TSSS '!C40 -> Nhìn hướng khu dân cư
A52: 3. | B52: Tài sản gắn liền với đất:
A53: - | B53: Tại thời điểm thẩm định giá, trên đất có các công trình xây dựng là: - 01 Nhà cấp 4, kết cấu tường gạch, đã sập xệ, được bỏ không, không còn được đưa vào sử dụng Các công trình xây dựng trên hiện chưa được chứng nhận trên GCN số: AI 086827
D55: =[152]KHTĐG!D37 -> Hà Nội, ngày tháng năm 20
B56: Người khảo sát | D56: Thẩm định viên
F57: =9%*65% -> 0.0585
B61: _ | D61: Doãn Thị Thùy Dung
E70: =1-(2024-2016)/35 -> 0.77142857

Sheet 9
F1: AI 086819 | G1: Thông tin cũ
F2: T00924 QSDĐ/QĐ-2354/T-2007
F3: UBND tỉnh Hưng Yên
F4: 17/01/2008
F5: Chi nhánh Công ty Cổ phần lương thực Hưng Yên tại Ân Thi (cập nhật ngày 22/5/2014)
F6: Giấy chứng nhận Giá trị lợi thế quyền thuê đất trả tiền hàng năm
A7: PHIẾU ĐIỀU TRA, KHẢO SÁT TÀI SẢN THẨM ĐỊNH
A8: ="Thời điểm khảo sát: Ngày "&[152]TTCB!E1&" tháng "&[152]TTCB!F1&" năm 20"&[152]TTCB!G1 -> Thời điểm khảo sát: Ngày tháng năm 20
A11: I. TÀI SẢN; ĐẶC ĐIỂM CỦA TÀI SẢN THẨM ĐỊNH GIÁ
A12: Tên tài sản | B12: ="Giá trị lợi thế quyền thuê đất trả tiền hàng năm và tài sản gắn liền với đất tại thửa đất số: "&C15&", tờ bản đồ số: "&E15&" có địa chỉ: "&F16&", theo "&F6&" số: "&F1&", số vào sổ cấp GCN: "&F2&" do "&F3&" cấp ngày "&F4&". Chủ sử dụng đất là "&F5 -> Giá trị lợi thế quyền thuê đất trả tiền hàng năm và tài sản gắn liền với đất tại thửa đất số: 30, tờ bản đồ số: 30 có địa chỉ: Thị trấn Ân Thi, huyện Ân Thi, tỉnh Hưng Yên, theo Giấy chứng nhận Giá trị lợi thế quyền thuê đất trả tiền hàng năm số: AI 086819, số vào sổ cấp GCN: T00924 QSDĐ/QĐ-2354/T-2007 do UBND tỉnh Hưng Yên cấp ngày 17/01/2008. Chủ sử dụng đất là Chi nhánh Công ty Cổ phần lương thực Hưng Yên tại Ân Thi (cập nhật ngày 22/5/2014) | F12: =B12 -> Giá trị lợi thế quyền thuê đất trả tiền hàng năm và tài sản gắn liền với đất tại thửa đất số: 30, tờ bản đồ số: 30 có địa chỉ: Thị trấn Ân Thi, huyện Ân Thi, tỉnh Hưng Yên, theo Giấy chứng nhận Giá trị lợi thế quyền thuê đất trả tiền hàng năm số: AI 086819, số vào sổ cấp GCN: T00924 QSDĐ/QĐ-2354/T-2007 do UBND tỉnh Hưng Yên cấp ngày 17/01/2008. Chủ sử dụng đất là Chi nhánh Công ty Cổ phần lương thực Hưng Yên tại Ân Thi (cập nhật ngày 22/5/2014)
A13: 1. | B13: Nội dung Thửa đất theo Hồ sơ pháp lý
A14: 1.1 | B14: Thửa đất:
A15: - | B15: Thửa đất số: | C15: 30 | D15: Tờ bản đồ số: | E15: 30
A16: - | B16: Địa chỉ: | C16: Thị trấn Ân Thi, huyện Ân Thi, tỉnh Hưng Yên | F16: =C16 -> Thị trấn Ân Thi, huyện Ân Thi, tỉnh Hưng Yên
A17: - | B17: Diện tích (m²): | C17: 891 | D17: Mục đích sử dụng: | E17: XD cửa hàng mua bán lương thực, nông, lâm, hải sản và VTNN
A18: - | B18: Hình thức sử dụng: | C18: Sử dụng riêng: Đất ở 30,5m², đất trồng cây lâu năm 25,6m²; Sử dụng chung: Đất trồng cây lâu năm 43,5m²
A19: - | B19: Thời hạn sử dụng: | C19: 35 năm (từ ngày 15/10/1993 đến ngày 15/10/2028)
A20: - | B20: Nguồn gốc sử dụng: | C20: Nhà nước giao đất không thu tiền sử dụng đất, chuyển sang thuê đất trả tiền hàng năm
A21: - | B21: Những thay đổi sau khi cấp GCN: | C21: Ngày 12/6/2023: Người sử dụng đất đổi địa chỉ thường trú từ tổ 18, phường Chăm Mát, thị xã Hòa Bình thành tổ 7, phường Dân Chủ, thành phố Hòa Bình. Đổi địa chỉ thửa đất từ phường Chăm Mát, thị xã Hòa Bình thành TDP số 7, phường Dân Chủ, thành phố Hòa Bình, theo hồ sơ số 033648.DT.004.
A22: - | B22: Thông tin quy hoạch: | C22: Tại thời điểm thẩm định giá, tổ thẩm định không thu thập được thông tin quy hoạch liên quan đến thửa đất
A23: 1.2 | B23: Nhà ở:
A24: - | B24: Địa chỉ: | C24: =C16 -> Thị trấn Ân Thi, huyện Ân Thi, tỉnh Hưng Yên
A25: - | B25: Diện tích xây dựng (m²): | C25: 6 | D25: Diện tích sàn (m²): | E25: 286.2
A26: - | B26: Kết cấu: | C26: Tường xây gạch, khung, sàn và mái bằng bê tông
A27: - | B27: Cấp (Hạng): | C27: III | D27: Số tầng: | E27: 3.5
A28: - | B28: Năm hoàn thành xây dựng: | C28: 2010 | D28: Thời hạn sở hữu: | E28: ./.
A29: 2. | B29: Về đất:
A30: 2.1 | B30: Vị trí; Giao thông;
A31: - | B31: Địa chỉ thực tế: | C31: =C16 -> Thị trấn Ân Thi, huyện Ân Thi, tỉnh Hưng Yên | F31: =C31 -> Thị trấn Ân Thi, huyện Ân Thi, tỉnh Hưng Yên
A32: - | B32: Vị trí tài sản theo Bảng giá đất UBND TP Hà Nội: | C32: Vị trí 1: Đường tỉnh lộ 416 từ Ngã tư Tùng Thiện đến hết địa phận thị xã Sơn Tây | F32: =C32 -> Vị trí 1: Đường tỉnh lộ 416 từ Ngã tư Tùng Thiện đến hết địa phận thị xã Sơn Tây
A33: - | B33: Đường tiếp giáp chính: | C33: QL38 | D33: Số mặt tiền: | E33: 2 mặt tiền | F33: =C31 -> Thị trấn Ân Thi, huyện Ân Thi, tỉnh Hưng Yên
A34: - | B34: Mặt cắt đường/ngõ nhỏ nhất từ đường chính dẫn đến tài sản thẩm định giá: | C34: 5m | D34: Mặt cắt đường/ngõ trước mặt tài sản thẩm định giá: | E34: 5m | F34: =E34 -> 5m
A35: - | B35: Giao thông: | C35: Tài sản tiếp giáp đường QL38
A36: - | B36: Khoảng cách đến trục chính: | C36: Tài sản cách UBND thị trấn Ân Thi khoảng 2,3km
A37: - | B37: Các hướng tiếp giáp: | C37: - Hướng Bắc: tiếp giáp đường QL38 - Các hướng khác: tiếp giáp với các thửa đất khác
A38: - | B38: Vị trí trên bản đồ vệ tinh:
A39: - | F39: https://www.google.com/maps/place/21%C2%B005'31.5%22N+105%C2%B028'17.3%22E/@21.0920782,105.4689072,1018m/data=!3m2!1e3!4b1!4m4!3m3!8m2!3d21.0920782!4d105.4714821!5m1!1e1?entry=ttu&g_ep=EgoyMDI0MDgyMy4wIKXMDSoASAFQAw%3D%3D
A40: 2.2. | B40: Diện tích; Kích thước; Hình dáng
A41: - | B41: Diện tích sử dụng riêng thực tế (m²): | C41: =C17 -> 891 | D41: Diện tích sử dụng chung thực tế (m²): | E41: -/-
A42: - | B42: KT mặt tiền (m): | C42: =14.5+0.7 -> 15.2 | D42: Chiều sâu (m): | E42: 43.4
A43: - | B43: KT mặt hậu (m): | C43: 20 | D43: Hình dáng thửa đất: | E43: Vuông vức
A44: - | B44: Hướng mặt tiền chính: | C44: Bắc
A45: 2.3. | B45: Điều kiện kinh doanh; Hạ tầng nội bộ; Hạ tầng xung quanh
A46: - | B46: Hạ tầng nội bộ: | C46: Cấp điện, cấp nước sạch, mạng internet,…hoàn thiện
A47: - | B47: Hạ tầng xung quanh: | C47: Môi trường trong lành, an ninh đảm bảo, dân trí tốt
A48: - | B48: Mật độ dân cư: | C48: Đông đúc | D48: Đời sống dân cư: | E48: Ổn định
A49: - | B49: Lợi thế kinh doanh: | C49: Có thể kinh doanh | D49: Khả năng chuyển nhượng: | E49: Tốt
A50: - | B50: Yếu tố phong thủy: | C50: ='[153]TSSS '!C39 -> Tài sản không bị lỗi phong thủy
A51: - | B51: Yếu tố tâm linh: | C51: ='[153]TSSS '!C40 -> Nhìn hướng khu dân cư
A52: 3. | B52: Tài sản gắn liền với đất:
A53: - | B53: Tại thời điểm thẩm định giá, trên đất có các công trình xây dựng là: - 01 Nhà mặt đường, Nhà cấp 4, kết cấu tường gạch, mái tôn, xây dựng năm 2021, diện tích xây dựng khoảng: 157m² - 01 Nhà cấp 4, mái bằng, kết cấu tường gạch, mái bằng, diện tích xây dựng khoảng 110m², công trình xây dựng năm 2021 - 01 Nhà kho số 1, kết cấu cột kèo thép, tường gạch, quây tôn, diện tích xây dựng khoảng 75m², xây dựng năm 2021 - 01 Nhà kho số 2, kết cấu cột kèo thép, tường gạch, quây tôn, diện tích xây dựng khoảng 75m², xây dựng năm 2021 - 03 Nhà cấp 4, kết cấu cột kèo thép, tường gạch, mái tôn, diện tích xây dựng khoảng 16m², xây dựng năm 2021 - 01 Nhà cấp 4, kết cấu cột kèo thép, tường gạch, mái tôn, diện tích xây dựng khoảng 84m², xây dựng năm 2021 - 02 Nhà cấp 4, kết cấu cột kèo thép, tường gạch, mái tôn, diện tích xây dựng khoảng 28m², xây dựng năm 2021 Các công trình xây dựng trên hiện chưa được chứng nhận trên GCN số: AI 086819
D55: =[152]KHTĐG!D37 -> Hà Nội, ngày tháng năm 20
B56: Người khảo sát | D56: Thẩm định viên
F57: =9%*65% -> 0.0585
B61: _ | D61: Doãn Thị Thùy Dung
E70: =1-(2024-2016)/35 -> 0.77142857

Sheet 10
F1: AI 086826 | G1: Thông tin cũ
F2: T00933 QSDĐ/QĐ-2352/T-2007
F3: UBND tỉnh Hưng Yên
F4: 17/01/2008
F5: Công ty Cổ phần lương thực Hưng Yên (cập nhật ngày 22/5/2014)
F6: Giấy chứng nhận Giá trị lợi thế quyền thuê đất trả tiền hàng năm
A7: PHIẾU ĐIỀU TRA, KHẢO SÁT TÀI SẢN THẨM ĐỊNH
A8: ="Thời điểm khảo sát: Ngày "&[152]TTCB!E1&" tháng "&[152]TTCB!F1&" năm 20"&[152]TTCB!G1 -> Thời điểm khảo sát: Ngày tháng năm 20
A11: I. TÀI SẢN; ĐẶC ĐIỂM CỦA TÀI SẢN THẨM ĐỊNH GIÁ
A12: Tên tài sản | B12: ="Giá trị lợi thế quyền thuê đất trả tiền hàng năm và tài sản gắn liền với đất tại thửa đất số: "&C15&", tờ bản đồ số: "&E15&" có địa chỉ: "&F16&", theo "&F6&" số: "&F1&", số vào sổ cấp GCN: "&F2&" do "&F3&" cấp ngày "&F4&". Chủ sử dụng đất là "&F5 -> Giá trị lợi thế quyền thuê đất trả tiền hàng năm và tài sản gắn liền với đất tại thửa đất số: 62, tờ bản đồ số: 4 có địa chỉ: Xã Nghĩa Dân, huyện Kim Động, tỉnh Hưng Yên, theo Giấy chứng nhận Giá trị lợi thế quyền thuê đất trả tiền hàng năm số: AI 086826, số vào sổ cấp GCN: T00933 QSDĐ/QĐ-2352/T-2007 do UBND tỉnh Hưng Yên cấp ngày 17/01/2008. Chủ sử dụng đất là Công ty Cổ phần lương thực Hưng Yên (cập nhật ngày 22/5/2014) | F12: =B12 -> Giá trị lợi thế quyền thuê đất trả tiền hàng năm và tài sản gắn liền với đất tại thửa đất số: 62, tờ bản đồ số: 4 có địa chỉ: Xã Nghĩa Dân, huyện Kim Động, tỉnh Hưng Yên, theo Giấy chứng nhận Giá trị lợi thế quyền thuê đất trả tiền hàng năm số: AI 086826, số vào sổ cấp GCN: T00933 QSDĐ/QĐ-2352/T-2007 do UBND tỉnh Hưng Yên cấp ngày 17/01/2008. Chủ sử dụng đất là Công ty Cổ phần lương thực Hưng Yên (cập nhật ngày 22/5/2014)
A13: 1. | B13: Nội dung Thửa đất theo Hồ sơ pháp lý
A14: 1.1 | B14: Thửa đất:
A15: - | B15: Thửa đất số: | C15: 62 | D15: Tờ bản đồ số: | E15: 4
A16: - | B16: Địa chỉ: | C16: Xã Nghĩa Dân, huyện Kim Động, tỉnh Hưng Yên | F16: =C16 -> Xã Nghĩa Dân, huyện Kim Động, tỉnh Hưng Yên
A17: - | B17: Diện tích (m²): | C17: 163.4 | D17: Mục đích sử dụng: | E17: XD cửa hàng mua bán lương thực, nông, lâm, hải sản và VTNN | F17: =1/37.5 -> 0.026666667
A18: - | B18: Hình thức sử dụng: | C18: Sử dụng riêng: Đất ở 30,5m², đất trồng cây lâu năm 25,6m²; Sử dụng chung: Đất trồng cây lâu năm 43,5m²
A19: - | B19: Thời hạn sử dụng: | C19: 35 năm (từ ngày 15/10/1993 đến ngày 15/10/2028)
A20: - | B20: Nguồn gốc sử dụng: | C20: Nhà nước giao đất không thu tiền sử dụng đất, chuyển sang thuê đất trả tiền hàng năm
A21: - | B21: Những thay đổi sau khi cấp GCN: | C21: Ngày 12/6/2023: Người sử dụng đất đổi địa chỉ thường trú từ tổ 18, phường Chăm Mát, thị xã Hòa Bình thành tổ 7, phường Dân Chủ, thành phố Hòa Bình. Đổi địa chỉ thửa đất từ phường Chăm Mát, thị xã Hòa Bình thành TDP số 7, phường Dân Chủ, thành phố Hòa Bình, theo hồ sơ số 033648.DT.004.
A22: - | B22: Thông tin quy hoạch: | C22: Tại thời điểm thẩm định giá, tổ thẩm định không thu thập được thông tin quy hoạch liên quan đến thửa đất | F22: =2025-1993 -> 32
A23: 1.2 | B23: Nhà ở:
A24: - | B24: Địa chỉ: | C24: =C16 -> Xã Nghĩa Dân, huyện Kim Động, tỉnh Hưng Yên
A25: - | B25: Diện tích xây dựng (m²): | C25: 6 | D25: Diện tích sàn (m²): | E25: 286.2
A26: - | B26: Kết cấu: | C26: Tường xây gạch, khung, sàn và mái bằng bê tông
A27: - | B27: Cấp (Hạng): | C27: III | D27: Số tầng: | E27: 3.5
A28: - | B28: Năm hoàn thành xây dựng: | C28: 2010 | D28: Thời hạn sở hữu: | E28: ./.
A29: 2. | B29: Về đất: | F29: =1-F17*F22 -> 0.14666667
A30: 2.1 | B30: Vị trí; Giao thông;
A31: - | B31: Địa chỉ thực tế: | C31: =C16 -> Xã Nghĩa Dân, huyện Kim Động, tỉnh Hưng Yên | F31: =C31 -> Xã Nghĩa Dân, huyện Kim Động, tỉnh Hưng Yên
A32: - | B32: Vị trí tài sản theo Bảng giá đất UBND TP Hà Nội: | C32: Vị trí 1: Đường tỉnh lộ 416 từ Ngã tư Tùng Thiện đến hết địa phận thị xã Sơn Tây | F32: =C32 -> Vị trí 1: Đường tỉnh lộ 416 từ Ngã tư Tùng Thiện đến hết địa phận thị xã Sơn Tây
A33: - | B33: Đường tiếp giáp chính: | C33: Đường QL39A | D33: Số mặt tiền: | E33: 1 mặt tiền | F33: =C31 -> Xã Nghĩa Dân, huyện Kim Động, tỉnh Hưng Yên
A34: - | B34: Mặt cắt đường/ngõ nhỏ nhất từ đường chính dẫn đến tài sản thẩm định giá: | C34: 5m | D34: Mặt cắt đường/ngõ trước mặt tài sản thẩm định giá: | E34: 5m | F34: =E34 -> 5m
A35: - | B35: Giao thông: | C35: Tài sản tiếp giáp đường QL39A
A36: - | B36: Khoảng cách đến trục chính: | C36: Tài sản cách Thị trấn Lương Bằng khoảng 5km
A37: - | B37: Các hướng tiếp giáp: | C37: - Hướng Tây: tiếp giáp đường QL39A - Các hướng khác: tiếp giáp với các thửa đất khác
A38: - | B38: Vị trí trên bản đồ vệ tinh:
A39: - | F39: https://www.google.com/maps/place/21%C2%B005'31.5%22N+105%C2%B028'17.3%22E/@21.0920782,105.4689072,1018m/data=!3m2!1e3!4b1!4m4!3m3!8m2!3d21.0920782!4d105.4714821!5m1!1e1?entry=ttu&g_ep=EgoyMDI0MDgyMy4wIKXMDSoASAFQAw%3D%3D
A40: 2.2. | B40: Diện tích; Kích thước; Hình dáng
A41: - | B41: Diện tích sử dụng riêng thực tế (m²): | C41: =C17 -> 163.4 | D41: Diện tích sử dụng chung thực tế (m²): | E41: -/-
A42: - | B42: KT mặt tiền (m): | C42: 25m (Khảo sát thực tế) | D42: Chiều sâu (m): | E42: =5.18+2.92 -> 8.1
A43: - | B43: KT mặt hậu (m): | C43: 23.78 | D43: Hình dáng thửa đất: | E43: Thóp hậu
A44: - | B44: Hướng mặt tiền chính: | C44: Tây
A45: 2.3. | B45: Điều kiện kinh doanh; Hạ tầng nội bộ; Hạ tầng xung quanh
A46: - | B46: Hạ tầng nội bộ: | C46: Cấp điện, cấp nước sạch, mạng internet,…hoàn thiện
A47: - | B47: Hạ tầng xung quanh: | C47: Môi trường trong lành, an ninh đảm bảo, dân trí tốt
A48: - | B48: Mật độ dân cư: | C48: Đông đúc | D48: Đời sống dân cư: | E48: Ổn định
A49: - | B49: Lợi thế kinh doanh: | C49: Có thể kinh doanh | D49: Khả năng chuyển nhượng: | E49: Tốt
A50: - | B50: Yếu tố phong thủy: | C50: ='[153]TSSS '!C39 -> Tài sản không bị lỗi phong thủy
A51: - | B51: Yếu tố tâm linh: | C51: ='[153]TSSS '!C40 -> Nhìn hướng khu dân cư
A52: 3. | B52: Tài sản gắn liền với đất:
A53: - | B53: Tại thời điểm thẩm định giá, trên đất có các công trình xây dựng là: - 01 Nhà cấp 4, kết cấu tường gạch, mái tôn, sàn lát gạch, diện tích xây dựng khoảng: 55m², ngoại quan đã cũ - 01 Nhà cấp 4, kết cấu tường gạch, mái tôn, sàn lát gạch, diện tích xây dựng khoảng: 336m², xây dựng năm 2021 - 01 Nhà kho, kết cấu cột kèo thép, tường gạch, mái tôn, diện tích xây dựng khoảng 163,4m² Các công trình xây dựng trên hiện chưa được chứng nhận trên GCN số: AI 086826
D55: =[152]KHTĐG!D37 -> Hà Nội, ngày tháng năm 20
B56: Người khảo sát | D56: Thẩm định viên
F57: =9%*65% -> 0.0585
B61: _ | D61: Doãn Thị Thùy Dung
E70: =1-(2024-2016)/35 -> 0.77142857

Sheet 11
F1: AI 086817 | G1: Thông tin cũ
F2: T00927 QSDĐ/QĐ-2355/T-2007
F3: UBND tỉnh Hưng Yên
F4: 17/01/2008
F5: Chi nhánh Công ty Cổ phần lương thực Hưng Yên tại Văn Giang (cập nhật ngày 22/5/2014)
F6: Giấy chứng nhận Giá trị lợi thế quyền thuê đất trả tiền hàng năm
A7: PHIẾU ĐIỀU TRA, KHẢO SÁT TÀI SẢN THẨM ĐỊNH
A8: ="Thời điểm khảo sát: Ngày "&[152]TTCB!E1&" tháng "&[152]TTCB!F1&" năm 20"&[152]TTCB!G1 -> Thời điểm khảo sát: Ngày tháng năm 20
A11: I. TÀI SẢN; ĐẶC ĐIỂM CỦA TÀI SẢN THẨM ĐỊNH GIÁ
A12: Tên tài sản | B12: ="Giá trị lợi thế quyền thuê đất trả tiền hàng năm và tài sản gắn liền với đất tại thửa đất số: "&C15&", tờ bản đồ số: "&E15&" có địa chỉ: "&F16&", theo "&F6&" số: "&F1&", số vào sổ cấp GCN: "&F2&" do "&F3&" cấp ngày "&F4&". Chủ sử dụng đất là "&F5 -> Giá trị lợi thế quyền thuê đất trả tiền hàng năm và tài sản gắn liền với đất tại thửa đất số: 27, tờ bản đồ số: 2 có địa chỉ: Thị trấn Khoái Châu, huyện Khoái Châu, tỉnh Hưng Yên, theo Giấy chứng nhận Giá trị lợi thế quyền thuê đất trả tiền hàng năm số: AI 086817, số vào sổ cấp GCN: T00927 QSDĐ/QĐ-2355/T-2007 do UBND tỉnh Hưng Yên cấp ngày 17/01/2008. Chủ sử dụng đất là Chi nhánh Công ty Cổ phần lương thực Hưng Yên tại Văn Giang (cập nhật ngày 22/5/2014) | F12: =B12 -> Giá trị lợi thế quyền thuê đất trả tiền hàng năm và tài sản gắn liền với đất tại thửa đất số: 27, tờ bản đồ số: 2 có địa chỉ: Thị trấn Khoái Châu, huyện Khoái Châu, tỉnh Hưng Yên, theo Giấy chứng nhận Giá trị lợi thế quyền thuê đất trả tiền hàng năm số: AI 086817, số vào sổ cấp GCN: T00927 QSDĐ/QĐ-2355/T-2007 do UBND tỉnh Hưng Yên cấp ngày 17/01/2008. Chủ sử dụng đất là Chi nhánh Công ty Cổ phần lương thực Hưng Yên tại Văn Giang (cập nhật ngày 22/5/2014)
A13: 1. | B13: Nội dung Thửa đất theo Hồ sơ pháp lý
A14: 1.1 | B14: Thửa đất:
A15: - | B15: Thửa đất số: | C15: 27 | D15: Tờ bản đồ số: | E15: 2
A16: - | B16: Địa chỉ: | C16: Thị trấn Khoái Châu, huyện Khoái Châu, tỉnh Hưng Yên | F16: =C16 -> Thị trấn Khoái Châu, huyện Khoái Châu, tỉnh Hưng Yên
A17: - | B17: Diện tích (m²): | C17: 2215 | D17: Mục đích sử dụng: | E17: XD cửa hàng mua bán lương thực, nông, lâm, hải sản và VTNN
A18: - | B18: Hình thức sử dụng: | C18: Sử dụng riêng: Đất ở 30,5m², đất trồng cây lâu năm 25,6m²; Sử dụng chung: Đất trồng cây lâu năm 43,5m²
A19: - | B19: Thời hạn sử dụng: | C19: 35 năm (từ ngày 15/10/1993 đến ngày 15/10/2028)
A20: - | B20: Nguồn gốc sử dụng: | C20: Nhà nước giao đất không thu tiền sử dụng đất, chuyển sang thuê đất trả tiền hàng năm
A21: - | B21: Những thay đổi sau khi cấp GCN: | C21: Ngày 12/6/2023: Người sử dụng đất đổi địa chỉ thường trú từ tổ 18, phường Chăm Mát, thị xã Hòa Bình thành tổ 7, phường Dân Chủ, thành phố Hòa Bình. Đổi địa chỉ thửa đất từ phường Chăm Mát, thị xã Hòa Bình thành TDP số 7, phường Dân Chủ, thành phố Hòa Bình, theo hồ sơ số 033648.DT.004.
A22: - | B22: Thông tin quy hoạch: | C22: Tại thời điểm thẩm định giá, tổ thẩm định không thu thập được thông tin quy hoạch liên quan đến thửa đất
A23: 1.2 | B23: Nhà ở:
A24: - | B24: Địa chỉ: | C24: =C16 -> Thị trấn Khoái Châu, huyện Khoái Châu, tỉnh Hưng Yên
A25: - | B25: Diện tích xây dựng (m²): | C25: 6 | D25: Diện tích sàn (m²): | E25: 286.2
A26: - | B26: Kết cấu: | C26: Tường xây gạch, khung, sàn và mái bằng bê tông
A27: - | B27: Cấp (Hạng): | C27: III | D27: Số tầng: | E27: 3.5
A28: - | B28: Năm hoàn thành xây dựng: | C28: 2010 | D28: Thời hạn sở hữu: | E28: ./.
A29: 2. | B29: Về đất:
A30: 2.1 | B30: Vị trí; Giao thông;
A31: - | B31: Địa chỉ thực tế: | C31: =C16 -> Thị trấn Khoái Châu, huyện Khoái Châu, tỉnh Hưng Yên | F31: =C31 -> Thị trấn Khoái Châu, huyện Khoái Châu, tỉnh Hưng Yên
A32: - | B32: Vị trí tài sản theo Bảng giá đất UBND TP Hà Nội: | C32: Vị trí 1: Đường tỉnh lộ 416 từ Ngã tư Tùng Thiện đến hết địa phận thị xã Sơn Tây | F32: =C32 -> Vị trí 1: Đường tỉnh lộ 416 từ Ngã tư Tùng Thiện đến hết địa phận thị xã Sơn Tây
A33: - | B33: Đường tiếp giáp chính: | C33: Đường 205 | D33: Số mặt tiền: | E33: 1 mặt tiền | F33: =C31 -> Thị trấn Khoái Châu, huyện Khoái Châu, tỉnh Hưng Yên
A34: - | B34: Mặt cắt đường/ngõ nhỏ nhất từ đường chính dẫn đến tài sản thẩm định giá: | C34: 5m | D34: Mặt cắt đường/ngõ trước mặt tài sản thẩm định giá: | E34: 5m | F34: =E34 -> 5m
A35: - | B35: Giao thông: | C35: Tài sản tiếp giáp đường 205
A36: - | B36: Khoảng cách đến trục chính: | C36: Tài sản cách UBND thị trấn Khoái Châu khoảng 500m
A37: - | B37: Các hướng tiếp giáp: | C37: - Hướng Đông: tiếp giáp đường 205 - Các hướng khác: tiếp giáp với các thửa đất khác
A38: - | B38: Vị trí trên bản đồ vệ tinh:
A39: - | F39: https://www.google.com/maps/place/21%C2%B005'31.5%22N+105%C2%B028'17.3%22E/@21.0920782,105.4689072,1018m/data=!3m2!1e3!4b1!4m4!3m3!8m2!3d21.0920782!4d105.4714821!5m1!1e1?entry=ttu&g_ep=EgoyMDI0MDgyMy4wIKXMDSoASAFQAw%3D%3D
A40: 2.2. | B40: Diện tích; Kích thước; Hình dáng
A41: - | B41: Diện tích sử dụng riêng thực tế (m²): | C41: =C17 -> 2215 | D41: Diện tích sử dụng chung thực tế (m²): | E41: -/-
A42: - | B42: KT mặt tiền (m): | C42: 29.7 | D42: Chiều sâu (m): | E42: =10.5+55.5 -> 66
A43: - | B43: KT mặt hậu (m): | C43: =22.9+8.8+3.1+3.2 -> 38 | D43: Hình dáng thửa đất: | E43: Đa giác
A44: - | B44: Hướng mặt tiền chính: | C44: Đông
A45: 2.3. | B45: Điều kiện kinh doanh; Hạ tầng nội bộ; Hạ tầng xung quanh
A46: - | B46: Hạ tầng nội bộ: | C46: Cấp điện, cấp nước sạch, mạng internet,…hoàn thiện
A47: - | B47: Hạ tầng xung quanh: | C47: Môi trường trong lành, an ninh đảm bảo, dân trí tốt
A48: - | B48: Mật độ dân cư: | C48: Đông đúc | D48: Đời sống dân cư: | E48: Ổn định
A49: - | B49: Lợi thế kinh doanh: | C49: Có thể kinh doanh | D49: Khả năng chuyển nhượng: | E49: Tốt
A50: - | B50: Yếu tố phong thủy: | C50: ='[153]TSSS '!C39 -> Tài sản không bị lỗi phong thủy
A51: - | B51: Yếu tố tâm linh: | C51: ='[153]TSSS '!C40 -> Nhìn hướng khu dân cư
A52: 3. | B52: Tài sản gắn liền với đất:
A53: - | B53: Tại thời điểm thẩm định giá, trên đất có các công trình xây dựng là: - 01 Nhà cổ, kết cấu tường gạch, hiện trạng sập xệ, không còn được sử dụng - 01 Nhà bế + WC, kết cấu tường gạch, mái tôn, diện tích xây dựng khoảng 133m² - 01 Nhà 2 tầng cũ, kết cấu tường gạch, diện tích xây dựng khoảng 60m², tổng diện tích sàn khoảng 120m², đã cũ, tường bong tróc - 5 Kiot liền nhau, kết cấu tường gạch, mái tôn, tổng diện tích sử dụng khoảng 117m², xây dựng năm 2015 - 01 Nhà 1 tầng, kết cấu tường gạch, sàn lát gạch, diện tích xây dựng khoảng 444m², hiện đang kinh doanh Nhà hàng Các công trình xây dựng trên hiện chưa được chứng nhận trên GCN số: AI 086817
D55: =[152]KHTĐG!D37 -> Hà Nội, ngày tháng năm 20
B56: Người khảo sát | D56: Thẩm định viên
F57: =9%*65% -> 0.0585
B61: _ | D61: Doãn Thị Thùy Dung
E70: =1-(2024-2016)/35 -> 0.77142857

Sheet 12
F1: BA 914042 | G1: Thông tin cũ
F2: CT 00019
F3: UBND tỉnh Hưng Yên
F4: 24/02/2010
F5: Chi nhánh Công ty Cổ phần Lương thực Hưng Yên tại Yên Mỹ
F6: Giấy chứng nhận Giá trị lợi thế quyền thuê đất trả tiền hàng năm quyền sở hữu nhà ở và tài sản khác gắn liền với đất
A7: PHIẾU ĐIỀU TRA, KHẢO SÁT TÀI SẢN THẨM ĐỊNH
A8: ="Thời điểm khảo sát: Ngày "&[152]TTCB!E1&" tháng "&[152]TTCB!F1&" năm 20"&[152]TTCB!G1 -> Thời điểm khảo sát: Ngày tháng năm 20
A11: I. TÀI SẢN; ĐẶC ĐIỂM CỦA TÀI SẢN THẨM ĐỊNH GIÁ
A12: Tên tài sản | B12: ="Giá trị lợi thế quyền thuê đất trả tiền hàng năm và tài sản gắn liền với đất tại thửa đất số: 2 + 11+ 18 + 34, tờ bản đồ số: "&E15&" có địa chỉ: "&F16&", theo "&F6&" số: "&F1&", số vào sổ cấp GCN: "&F2&" do "&F3&" cấp ngày "&F4&". Chủ sử dụng đất là "&F5 -> Giá trị lợi thế quyền thuê đất trả tiền hàng năm và tài sản gắn liền với đất tại thửa đất số: 2 + 11+ 18 + 34, tờ bản đồ số: 8 có địa chỉ: xã Trung Hưng, huyện Yên Mỹ, tỉnh Hưng Yên, theo Giấy chứng nhận Giá trị lợi thế quyền thuê đất trả tiền hàng năm quyền sở hữu nhà ở và tài sản khác gắn liền với đất số: BA 914042, số vào sổ cấp GCN: CT 00019 do UBND tỉnh Hưng Yên cấp ngày 24/02/2010. Chủ sử dụng đất là Chi nhánh Công ty Cổ phần Lương thực Hưng Yên tại Yên Mỹ | F12: =B12 -> Giá trị lợi thế quyền thuê đất trả tiền hàng năm và tài sản gắn liền với đất tại thửa đất số: 2 + 11+ 18 + 34, tờ bản đồ số: 8 có địa chỉ: xã Trung Hưng, huyện Yên Mỹ, tỉnh Hưng Yên, theo Giấy chứng nhận Giá trị lợi thế quyền thuê đất trả tiền hàng năm quyền sở hữu nhà ở và tài sản khác gắn liền với đất số: BA 914042, số vào sổ cấp GCN: CT 00019 do UBND tỉnh Hưng Yên cấp ngày 24/02/2010. Chủ sử dụng đất là Chi nhánh Công ty Cổ phần Lương thực Hưng Yên tại Yên Mỹ
A13: 1. | B13: Nội dung Thửa đất theo Hồ sơ pháp lý
A14: 1.1 | B14: Thửa đất số: 2
A15: - | B15: Thửa đất số: | C15: 2 | D15: Tờ bản đồ số: | E15: 8
A16: - | B16: Địa chỉ: | C16: xã Trung Hưng, huyện Yên Mỹ, tỉnh Hưng Yên | F16: =C16 -> xã Trung Hưng, huyện Yên Mỹ, tỉnh Hưng Yên
A17: - | B17: Diện tích (m²): | C17: 3664 | D17: Mục đích sử dụng: | E17: Đất cơ sở sản xuất, kinh doanh
A18: - | B18: Hình thức sử dụng: | C18: Sử dụng riêng: Đất ở 30,5m², đất trồng cây lâu năm 25,6m²; Sử dụng chung: Đất trồng cây lâu năm 43,5m²
A19: - | B19: Thời hạn sử dụng: | C19: 15/10/2028 | D19: Hình thức sử dụng: | E19: Sử dụng riêng
A20: - | B20: Nguồn gốc sử dụng: | C20: Nhà nước giao đất không thu tiền sử dụng đất chuyển sang nhà nước cho thuê đất trả tiền hàng năm
A21: - | B21: Những thay đổi sau khi cấp GCN: | C21: Ngày 12/6/2023: Người sử dụng đất đổi địa chỉ thường trú từ tổ 18, phường Chăm Mát, thị xã Hòa Bình thành tổ 7, phường Dân Chủ, thành phố Hòa Bình. Đổi địa chỉ thửa đất từ phường Chăm Mát, thị xã Hòa Bình thành TDP số 7, phường Dân Chủ, thành phố Hòa Bình, theo hồ sơ số 033648.DT.004.
A22: - | B22: Thông tin quy hoạch: | C22: Tại thời điểm thẩm định giá, tổ thẩm định không thu thập được thông tin quy hoạch liên quan đến thửa đất
A23: 1.2 | B23: Nhà ở:
A24: - | B24: Địa chỉ: | C24: =C16 -> xã Trung Hưng, huyện Yên Mỹ, tỉnh Hưng Yên
A25: - | B25: Diện tích xây dựng (m²): | C25: 6 | D25: Diện tích sàn (m²): | E25: 286.2
A26: - | B26: Kết cấu: | C26: Tường xây gạch, khung, sàn và mái bằng bê tông
A27: - | B27: Cấp (Hạng): | C27: III | D27: Số tầng: | E27: 3.5
A28: - | B28: Năm hoàn thành xây dựng: | C28: 2010 | D28: Thời hạn sở hữu: | E28: ./.
A29: 1.2 | B29: Thửa đất số: 11
A30: - | B30: Thửa đất số: | C30: 11 | D30: Tờ bản đồ số: | E30: 8
A31: - | B31: Địa chỉ: | C31: xã Trung Hưng, huyện Yên Mỹ, tỉnh Hưng Yên | F31: =C31 -> xã Trung Hưng, huyện Yên Mỹ, tỉnh Hưng Yên
A32: - | B32: Diện tích (m²): | C32: 1662 | D32: Mục đích sử dụng: | E32: Đất cơ sở sản xuất, kinh doanh
A33: - | B33: Hình thức sử dụng: | C33: Sử dụng riêng: Đất ở 30,5m², đất trồng cây lâu năm 25,6m²; Sử dụng chung: Đất trồng cây lâu năm 43,5m²
A34: - | B34: Thời hạn sử dụng: | C34: 15/10/2028 | D34: Hình thức sử dụng: | E34: Sử dụng riêng
A35: - | B35: Nguồn gốc sử dụng: | C35: Nhà nước giao đất không thu tiền sử dụng đất chuyển sang nhà nước cho thuê đất trả tiền hàng năm
A36: - | B36: Thông tin quy hoạch: | C36: Tại thời điểm thẩm định giá, tổ thẩm định không thu thập được thông tin quy hoạch liên quan đến thửa đất
A37: 1.2 | B37: Thửa đất số: 18
A38: - | B38: Thửa đất số: | C38: 18 | D38: Tờ bản đồ số: | E38: 8
A39: - | B39: Địa chỉ: | C39: xã Trung Hưng, huyện Yên Mỹ, tỉnh Hưng Yên | F39: =C39 -> xã Trung Hưng, huyện Yên Mỹ, tỉnh Hưng Yên
A40: - | B40: Diện tích (m²): | C40: 1070 | D40: Mục đích sử dụng: | E40: Đất cơ sở sản xuất, kinh doanh
A41: - | B41: Hình thức sử dụng: | C41: Sử dụng riêng: Đất ở 30,5m², đất trồng cây lâu năm 25,6m²; Sử dụng chung: Đất trồng cây lâu năm 43,5m²
A42: - | B42: Thời hạn sử dụng: | C42: 15/10/2028 | D42: Hình thức sử dụng: | E42: Sử dụng riêng
A43: - | B43: Nguồn gốc sử dụng: | C43: Nhà nước giao đất không thu tiền sử dụng đất chuyển sang nhà nước cho thuê đất trả tiền hàng năm
A44: - | B44: Thông tin quy hoạch: | C44: Tại thời điểm thẩm định giá, tổ thẩm định không thu thập được thông tin quy hoạch liên quan đến thửa đất
A45: 1.2 | B45: Thửa đất số: 34
A46: - | B46: Thửa đất số: | C46: 34 | D46: Tờ bản đồ số: | E46: 8
A47: - | B47: Địa chỉ: | C47: xã Trung Hưng, huyện Yên Mỹ, tỉnh Hưng Yên | F47: =C47 -> xã Trung Hưng, huyện Yên Mỹ, tỉnh Hưng Yên
A48: - | B48: Diện tích (m²): | C48: 1284 | D48: Mục đích sử dụng: | E48: Đất cơ sở sản xuất, kinh doanh
A49: - | B49: Hình thức sử dụng: | C49: Sử dụng riêng: Đất ở 30,5m², đất trồng cây lâu năm 25,6m²; Sử dụng chung: Đất trồng cây lâu năm 43,5m²
A50: - | B50: Thời hạn sử dụng: | C50: 15/10/2028 | D50: Hình thức sử dụng: | E50: Sử dụng riêng
A51: - | B51: Nguồn gốc sử dụng: | C51: Nhà nước giao đất không thu tiền sử dụng đất chuyển sang nhà nước cho thuê đất trả tiền hàng năm
A52: 2.1 | B52: Vị trí; Giao thông;
A53: - | B53: Địa chỉ thực tế: | C53: =C16 -> xã Trung Hưng, huyện Yên Mỹ, tỉnh Hưng Yên | F53: =C53 -> xã Trung Hưng, huyện Yên Mỹ, tỉnh Hưng Yên
A54: - | B54: Vị trí tài sản theo Bảng giá đất UBND TP Hà Nội: | C54: Vị trí 1: Đường tỉnh lộ 416 từ Ngã tư Tùng Thiện đến hết địa phận thị xã Sơn Tây | F54: =C54 -> Vị trí 1: Đường tỉnh lộ 416 từ Ngã tư Tùng Thiện đến hết địa phận thị xã Sơn Tây
A55: - | B55: Đường tiếp giáp chính: | C55: Đường DH40 | D55: Số mặt tiền: | E55: 1 mặt tiền | F55: =C53 -> xã Trung Hưng, huyện Yên Mỹ, tỉnh Hưng Yên
A56: - | B56: Mặt cắt đường/ngõ nhỏ nhất từ đường chính dẫn đến tài sản thẩm định giá: | C56: 5m | D56: Mặt cắt đường/ngõ trước mặt tài sản thẩm định giá: | E56: 5m | F56: =E56 -> 5m
A57: - | B57: Giao thông: | C57: Tài sản tiếp giáp đường DH40
A58: - | B58: Khoảng cách đến trục chính: | C58: Tài sản cách UBND xã Trung Hưng khoảng 900m
A59: - | B59: Các hướng tiếp giáp: | C59: - Hướng Đông Bắc: tiếp giáp đường DH40 - Các hướng khác: tiếp giáp với các thửa đất khác
A60: 1.3 | B60: Thông tin quy hoạch: | C60: Tại thời điểm thẩm định giá, 4 thửa đất có khoảng 821m² đất thuộc HLBV đường điện
A61: - | B61: Vị trí trên bản đồ vệ tinh:
A62: - | F62: https://www.google.com/maps/place/21%C2%B005'31.5%22N+105%C2%B028'17.3%22E/@21.0920782,105.4689072,1018m/data=!3m2!1e3!4b1!4m4!3m3!8m2!3d21.0920782!4d105.4714821!5m1!1e1?entry=ttu&g_ep=EgoyMDI0MDgyMy4wIKXMDSoASAFQAw%3D%3D
A63: 2.2. | B63: Diện tích; Kích thước; Hình dáng
A64: - | B64: Diện tích sử dụng riêng thực tế (m²): | C64: 6859 | D64: Diện tích sử dụng chung thực tế (m²): | E64: -/-
A65: - | B65: KT mặt tiền (m): | C65: 18.3 | D65: Chiều sâu (m): | E65: =9.5+13.3+37.9+45.3+38.3 -> 144.3
A66: - | B66: KT mặt hậu (m): | C66: 62.9 | D66: Hình dáng thửa đất: | E66: Đa giác
A67: - | B67: Hướng mặt tiền chính: | C67: Đông Nam
A68: 2.3. | B68: Điều kiện kinh doanh; Hạ tầng nội bộ; Hạ tầng xung quanh
A69: - | B69: Hạ tầng nội bộ: | C69: Cấp điện, cấp nước sạch, mạng internet,…hoàn thiện
A70: - | B70: Hạ tầng xung quanh: | C70: Môi trường trong lành, an ninh đảm bảo, dân trí tốt
A71: - | B71: Mật độ dân cư: | C71: Đông đúc | D71: Đời sống dân cư: | E71: Ổn định
A72: - | B72: Lợi thế kinh doanh: | C72: Có thể kinh doanh | D72: Khả năng chuyển nhượng: | E72: Tốt
A73: - | B73: Yếu tố phong thủy: | C73: ='[153]TSSS '!C39 -> Tài sản không bị lỗi phong thủy
A74: - | B74: Yếu tố tâm linh: | C74: ='[153]TSSS '!C40 -> Nhìn hướng khu dân cư
A75: 3. | B75: Tài sản gắn liền với đất: Đất trống
A76: 3.1 | B76: Thửa đất số 2
A77: - | B77: Tại thời điểm thẩm định giá, trên đất có các công trình xây dựng là: - 01 Nhà xưởng 1, kết cấu cột kèo thép, tường gạch, mái tôn, diện tích xây dựng khoảng 680m² - 01 Nhà xưởng 2, kết cấu cột kèo thép, tường gạch, mái tôn, diện tích xây dựng khoảng 750m² - 01 Nhà xưởng 3, kết cấu cột kèo thép, tường gạch, mái tôn, diện tích xây dựng khoảng 540m² - 01 Nhà xưởng 4, kết cấu cột kèo thép, tường gạch, mái tôn, diện tích xây dựng khoảng 200m² - 01 Nhà xưởng 5, kết cấu cột kèo thép, tường gạch, mái tôn, diện tích xây dựng khoảng 120m² - 01 Nhà xưởng 6, kết cấu cột kèo thép, tường gạch, mái tôn, diện tích xây dựng khoảng 380m² Các công trình xây dựng trên hiện đã được chứng nhận trên GCN số: BA 914042
A78: 3.2 | B78: Thửa đất số 11
A79: - | B79: Tại thời điểm thẩm định giá, trên đất có các công trình xây dựng là: - 01 Nhà kho, kết cấu cột kèo thép, tường gạch, mái tôn, diện tích xây dựng khoảng 546m² - 01 Nhà kho, kết cấu cột kèo thép, tường gạch, mái tôn, diện tích xây dựng khoảng 450m² Các công trình xây dựng trên hiện đã được chứng nhận trên GCN số: BA 914042
A80: 3.3 | B80: Thửa đất số 18
A81: - | B81: Tại thời điểm thẩm định giá, trên đất có các công trình xây dựng là: - 01 Nhà văn phòng, kết cấu tường gạch, mái bằng, diện tích xây dựng khoảng 150m², xây dựng năm 2019 - 01 Nhà 1 tầng cũ, hiện trạng bỏ không, không được sử dụng - 01 Nhà văn phòng, kết cấu tường gạch, mái bằng, diện tích xây dựng khoảng 91m², xây dựng năm 2019 - 01 Nhà kho, kết cấu cột kèo thép, mái tôn, xây dựng năm 2019, diện tích xây dựng khoảng 190m² Các công trình xây dựng trên hiện đã được chứng nhận trên GCN số: BA 914042
A82: 3.4 | B82: Thửa đất số 34
A83: - | B83: Tại thời điểm thẩm định giá, trên đất có các công trình xây dựng là: - 01 Nhà kho, kết cấu cột kèo thép, tường gạch, mái tôn, diện tích xây dựng khoảng 63m², ngoại quan đã cũ - 7 gian nhà kho, kết cấu tường gạch, mái vòm, diện tích xây dựng khoảng 525m², hiện trạng bỏ không Các công trình xây dựng trên hiện đã được chứng nhận trên GCN số: BA 914042
D85: =[152]KHTĐG!D37 -> Hà Nội, ngày tháng năm 20
B86: Người khảo sát | D86: Thẩm định viên
F87: =9%*65% -> 0.0585
B91: _ | D91: Doãn Thị Thùy Dung
E100: =1-(2024-2016)/35 -> 0.77142857

Sheet 13
F1: AI 086825 | G1: Thông tin cũ
F2: T00932 QSDĐ/QĐ-2352/T-2007
F3: UBND tỉnh Hưng Yên
F4: 17/01/2008
F5: Công ty Cổ phần lương thực Hưng Yên (cập nhật ngày 22/5/2014)
F6: Giấy chứng nhận Giá trị lợi thế quyền thuê đất trả tiền hàng năm
A7: PHIẾU ĐIỀU TRA, KHẢO SÁT TÀI SẢN THẨM ĐỊNH
A8: ="Thời điểm khảo sát: Ngày "&[152]TTCB!E1&" tháng "&[152]TTCB!F1&" năm 20"&[152]TTCB!G1 -> Thời điểm khảo sát: Ngày tháng năm 20
A11: I. TÀI SẢN; ĐẶC ĐIỂM CỦA TÀI SẢN THẨM ĐỊNH GIÁ
A12: Tên tài sản | B12: ="Giá trị lợi thế quyền thuê đất trả tiền hàng năm tại thửa đất số: "&C15&", tờ bản đồ số: "&E15&" có địa chỉ: "&F16&", theo "&F6&" số: "&F1&", số vào sổ cấp GCN: "&F2&" do "&F3&" cấp ngày "&F4&". Chủ sử dụng đất là "&F5 -> Giá trị lợi thế quyền thuê đất trả tiền hàng năm tại thửa đất số: 262, tờ bản đồ số: 15 có địa chỉ: Thị trấn Lương Bằng, huyện Kim Động, tỉnh Hưng Yên, theo Giấy chứng nhận Giá trị lợi thế quyền thuê đất trả tiền hàng năm số: AI 086825, số vào sổ cấp GCN: T00932 QSDĐ/QĐ-2352/T-2007 do UBND tỉnh Hưng Yên cấp ngày 17/01/2008. Chủ sử dụng đất là Công ty Cổ phần lương thực Hưng Yên (cập nhật ngày 22/5/2014) | F12: =B12 -> Giá trị lợi thế quyền thuê đất trả tiền hàng năm tại thửa đất số: 262, tờ bản đồ số: 15 có địa chỉ: Thị trấn Lương Bằng, huyện Kim Động, tỉnh Hưng Yên, theo Giấy chứng nhận Giá trị lợi thế quyền thuê đất trả tiền hàng năm số: AI 086825, số vào sổ cấp GCN: T00932 QSDĐ/QĐ-2352/T-2007 do UBND tỉnh Hưng Yên cấp ngày 17/01/2008. Chủ sử dụng đất là Công ty Cổ phần lương thực Hưng Yên (cập nhật ngày 22/5/2014)
A13: 1. | B13: Nội dung Thửa đất theo Hồ sơ pháp lý
A14: 1.1 | B14: Thửa đất:
A15: - | B15: Thửa đất số: | C15: 262 | D15: Tờ bản đồ số: | E15: 15
A16: - | B16: Địa chỉ: | C16: Thị trấn Lương Bằng, huyện Kim Động, tỉnh Hưng Yên | F16: =C16 -> Thị trấn Lương Bằng, huyện Kim Động, tỉnh Hưng Yên
A17: - | B17: Diện tích (m²): | C17: 1575.5 | D17: Mục đích sử dụng: | E17: XD cửa hàng mua bán lương thực, nông, lâm, hải sản và VTNN
A18: - | B18: Hình thức sử dụng: | C18: Sử dụng riêng: Đất ở 30,5m², đất trồng cây lâu năm 25,6m²; Sử dụng chung: Đất trồng cây lâu năm 43,5m²
A19: - | B19: Thời hạn sử dụng: | C19: 35 năm (từ ngày 15/10/1993 đến ngày 15/10/2028)
A20: - | B20: Nguồn gốc sử dụng: | C20: Nhà nước giao đất không thu tiền sử dụng đất, chuyển sang thuê đất trả tiền hàng năm
A21: - | B21: Những thay đổi sau khi cấp GCN: | C21: Ngày 12/6/2023: Người sử dụng đất đổi địa chỉ thường trú từ tổ 18, phường Chăm Mát, thị xã Hòa Bình thành tổ 7, phường Dân Chủ, thành phố Hòa Bình. Đổi địa chỉ thửa đất từ phường Chăm Mát, thị xã Hòa Bình thành TDP số 7, phường Dân Chủ, thành phố Hòa Bình, theo hồ sơ số 033648.DT.004.
A22: - | B22: Thông tin quy hoạch: | C22: Tại thời điểm thẩm định giá, tổ thẩm định không thu thập được thông tin quy hoạch liên quan đến thửa đất
A23: 1.2 | B23: Nhà ở:
A24: - | B24: Địa chỉ: | C24: =C16 -> Thị trấn Lương Bằng, huyện Kim Động, tỉnh Hưng Yên
A25: - | B25: Diện tích xây dựng (m²): | C25: 6 | D25: Diện tích sàn (m²): | E25: 286.2
A26: - | B26: Kết cấu: | C26: Tường xây gạch, khung, sàn và mái bằng bê tông
A27: - | B27: Cấp (Hạng): | C27: III | D27: Số tầng: | E27: 3.5
A28: - | B28: Năm hoàn thành xây dựng: | C28: 2010 | D28: Thời hạn sở hữu: | E28: ./.
A29: 2. | B29: Về đất:
A30: 2.1 | B30: Vị trí; Giao thông;
A31: - | B31: Địa chỉ thực tế: | C31: =C16 -> Thị trấn Lương Bằng, huyện Kim Động, tỉnh Hưng Yên | F31: =C31 -> Thị trấn Lương Bằng, huyện Kim Động, tỉnh Hưng Yên
A32: - | B32: Vị trí tài sản theo Bảng giá đất UBND TP Hà Nội: | C32: Vị trí 1: Đường tỉnh lộ 416 từ Ngã tư Tùng Thiện đến hết địa phận thị xã Sơn Tây | F32: =C32 -> Vị trí 1: Đường tỉnh lộ 416 từ Ngã tư Tùng Thiện đến hết địa phận thị xã Sơn Tây
A33: - | B33: Đường tiếp giáp chính: | C33: Đường Tô Hiệu | D33: Số mặt tiền: | E33: 2 mặt tiền | F33: =C31 -> Thị trấn Lương Bằng, huyện Kim Động, tỉnh Hưng Yên
A34: - | B34: Mặt cắt đường/ngõ nhỏ nhất từ đường chính dẫn đến tài sản thẩm định giá: | C34: 5m | D34: Mặt cắt đường/ngõ trước mặt tài sản thẩm định giá: | E34: 5m | F34: =E34 -> 5m
A35: - | B35: Giao thông: | C35: Tài sản tiếp giáp đường Tô Hiệu
A36: - | B36: Khoảng cách đến trục chính: | C36: Tài sản cách UBND thị trấn Lương Bằng khoảng 850m
A37: - | B37: Các hướng tiếp giáp: | C37: - Hướng Tây Bắc: tiếp giáp đường Tô Hiệu - Hướng Tây Nam: tiếp giáp đường nhựa rộng khoảng 8m - Các hướng khác: tiếp giáp với các thửa đất khác
A38: - | B38: Vị trí trên bản đồ vệ tinh:
A39: - | F39: https://www.google.com/maps/place/21%C2%B005'31.5%22N+105%C2%B028'17.3%22E/@21.0920782,105.4689072,1018m/data=!3m2!1e3!4b1!4m4!3m3!8m2!3d21.0920782!4d105.4714821!5m1!1e1?entry=ttu&g_ep=EgoyMDI0MDgyMy4wIKXMDSoASAFQAw%3D%3D
A40: 2.2. | B40: Diện tích; Kích thước; Hình dáng
A41: - | B41: Diện tích sử dụng riêng thực tế (m²): | C41: =C17 -> 1575.5 | D41: Diện tích sử dụng chung thực tế (m²): | E41: -/-
A42: - | B42: KT mặt tiền (m): | C42: 84.94 | D42: Chiều sâu (m): | E42: =18.49+1.87 -> 20.36
A43: - | B43: KT mặt hậu (m): | C43: =2.38+12.74+13.39+2.79+2.8+58.12+3.93+1.87+3.07 -> 101.09 | D43: Hình dáng thửa đất: | E43: Đa giác
A44: - | B44: Hướng mặt tiền chính: | C44: Tây Bắc
A45: 2.3. | B45: Điều kiện kinh doanh; Hạ tầng nội bộ; Hạ tầng xung quanh
A46: - | B46: Hạ tầng nội bộ: | C46: Cấp điện, cấp nước sạch, mạng internet,…hoàn thiện
A47: - | B47: Hạ tầng xung quanh: | C47: Môi trường trong lành, an ninh đảm bảo, dân trí tốt
A48: - | B48: Mật độ dân cư: | C48: Đông đúc | D48: Đời sống dân cư: | E48: Ổn định
A49: - | B49: Lợi thế kinh doanh: | C49: Có thể kinh doanh | D49: Khả năng chuyển nhượng: | E49: Tốt
A50: - | B50: Yếu tố phong thủy: | C50: ='[153]TSSS '!C39 -> Tài sản không bị lỗi phong thủy
A51: - | B51: Yếu tố tâm linh: | C51: ='[153]TSSS '!C40 -> Nhìn hướng khu dân cư
A52: 3. | B52: Tài sản gắn liền với đất:
A53: - | B53: Tại thời điểm thẩm định giá, trên đất có các công trình xây dựng là: - 9 Kiot, kết cấu tường gạch, mái vòm, xây dựng năm 1967, đã cũ, sập xệ, hiện trạng đang cho thuê làm cửa hàng Các công trình xây dựng trên hiện chưa được chứng nhận trên GCN số: AI 086825
D55: =[152]KHTĐG!D37 -> Hà Nội, ngày tháng năm 20
B56: Người khảo sát | D56: Thẩm định viên
F57: =9%*65% -> 0.0585
B61: _ | D61: Doãn Thị Thùy Dung
E70: =1-(2024-2016)/35 -> 0.77142857

Sheet 14
F1: BA 914040 | G1: Thông tin cũ
F2: CT 00018
F3: UBND tỉnh Hưng Yên
F4: 24/02/2010
F5: Công ty Cổ phần Lương thực Hưng Yên
F6: Giấy chứng nhận Giá trị lợi thế quyền thuê đất trả tiền hàng năm quyền sở hữu nhà ở và tài sản khác gắn liền với đất
A7: PHIẾU ĐIỀU TRA, KHẢO SÁT TÀI SẢN THẨM ĐỊNH
A8: ="Thời điểm khảo sát: Ngày "&[152]TTCB!E1&" tháng "&[152]TTCB!F1&" năm 20"&[152]TTCB!G1 -> Thời điểm khảo sát: Ngày tháng năm 20
A11: I. TÀI SẢN; ĐẶC ĐIỂM CỦA TÀI SẢN THẨM ĐỊNH GIÁ
A12: Tên tài sản | B12: ="Giá trị lợi thế quyền thuê đất trả tiền hàng năm và tài sản gắn liền với đất tại thửa đất số: "&C15&", tờ bản đồ số: "&E15&" có địa chỉ: "&F16&", theo "&F6&" số: "&F1&", số vào sổ cấp GCN: "&F2&" do "&F3&" cấp ngày "&F4&". Chủ sử dụng đất là "&F5 -> Giá trị lợi thế quyền thuê đất trả tiền hàng năm và tài sản gắn liền với đất tại thửa đất số: 7, tờ bản đồ số: 49 có địa chỉ: Phường An Tảo, thành phố Hưng Yên, tỉnh Hưng Yên, theo Giấy chứng nhận Giá trị lợi thế quyền thuê đất trả tiền hàng năm quyền sở hữu nhà ở và tài sản khác gắn liền với đất số: BA 914040, số vào sổ cấp GCN: CT 00018 do UBND tỉnh Hưng Yên cấp ngày 24/02/2010. Chủ sử dụng đất là Công ty Cổ phần Lương thực Hưng Yên | F12: =B12 -> Giá trị lợi thế quyền thuê đất trả tiền hàng năm và tài sản gắn liền với đất tại thửa đất số: 7, tờ bản đồ số: 49 có địa chỉ: Phường An Tảo, thành phố Hưng Yên, tỉnh Hưng Yên, theo Giấy chứng nhận Giá trị lợi thế quyền thuê đất trả tiền hàng năm quyền sở hữu nhà ở và tài sản khác gắn liền với đất số: BA 914040, số vào sổ cấp GCN: CT 00018 do UBND tỉnh Hưng Yên cấp ngày 24/02/2010. Chủ sử dụng đất là Công ty Cổ phần Lương thực Hưng Yên
A13: 1. | B13: Nội dung Thửa đất theo Hồ sơ pháp lý
A14: 1.1 | B14: Thửa đất:
A15: - | B15: Thửa đất số: | C15: 7 | D15: Tờ bản đồ số: | E15: 49
A16: - | B16: Địa chỉ: | C16: Phường An Tảo, thành phố Hưng Yên, tỉnh Hưng Yên | F16: =C16 -> Phường An Tảo, thành phố Hưng Yên, tỉnh Hưng Yên
A17: - | B17: Diện tích (m²): | C17: 3888 | D17: Mục đích sử dụng: | E17: Đất cơ sở sản xuất, kinh doanh
A18: - | B18: Hình thức sử dụng: | C18: Sử dụng riêng: Đất ở 30,5m², đất trồng cây lâu năm 25,6m²; Sử dụng chung: Đất trồng cây lâu năm 43,5m²
A19: - | B19: Thời hạn sử dụng: | C19: 15/10/2028 | D19: Hình thức sử dụng: | E19: Sử dụng riêng
A20: - | B20: Nguồn gốc sử dụng: | C20: Nhà nước giao đất không thu tiền sử dụng đất chuyển sang Nhà nước cho thuê đất, trả tiền hàng năm
A21: - | B21: Những thay đổi sau khi cấp GCN: | C21: Ngày 12/6/2023: Người sử dụng đất đổi địa chỉ thường trú từ tổ 18, phường Chăm Mát, thị xã Hòa Bình thành tổ 7, phường Dân Chủ, thành phố Hòa Bình. Đổi địa chỉ thửa đất từ phường Chăm Mát, thị xã Hòa Bình thành TDP số 7, phường Dân Chủ, thành phố Hòa Bình, theo hồ sơ số 033648.DT.004.
A22: - | B22: Thông tin quy hoạch: | C22: Tại thời điểm thẩm định giá, tổ thẩm định không thu thập được thông tin quy hoạch liên quan đến thửa đất
A23: 1.2 | B23: Nhà ở:
A24: - | B24: Địa chỉ: | C24: =C16 -> Phường An Tảo, thành phố Hưng Yên, tỉnh Hưng Yên
A25: - | B25: Diện tích xây dựng (m²): | C25: 6 | D25: Diện tích sàn (m²): | E25: 286.2
A26: - | B26: Kết cấu: | C26: Tường xây gạch, khung, sàn và mái bằng bê tông
A27: - | B27: Cấp (Hạng): | C27: III | D27: Số tầng: | E27: 3.5
A28: - | B28: Năm hoàn thành xây dựng: | C28: 2010 | D28: Thời hạn sở hữu: | E28: ./.
A29: 2. | B29: Về đất:
A30: 2.1 | B30: Vị trí; Giao thông;
A31: - | B31: Địa chỉ thực tế: | C31: =C16 -> Phường An Tảo, thành phố Hưng Yên, tỉnh Hưng Yên | F31: =C31 -> Phường An Tảo, thành phố Hưng Yên, tỉnh Hưng Yên
A32: - | B32: Vị trí tài sản theo Bảng giá đất UBND TP Hà Nội: | C32: Vị trí 1: Đường tỉnh lộ 416 từ Ngã tư Tùng Thiện đến hết địa phận thị xã Sơn Tây | F32: =C32 -> Vị trí 1: Đường tỉnh lộ 416 từ Ngã tư Tùng Thiện đến hết địa phận thị xã Sơn Tây
A33: - | B33: Đường tiếp giáp chính: | C33: Đường QL39A | D33: Số mặt tiền: | E33: 1 mặt tiền | F33: =C31 -> Phường An Tảo, thành phố Hưng Yên, tỉnh Hưng Yên
A34: - | B34: Mặt cắt đường/ngõ nhỏ nhất từ đường chính dẫn đến tài sản thẩm định giá: | C34: 5m | D34: Mặt cắt đường/ngõ trước mặt tài sản thẩm định giá: | E34: 5m | F34: =E34 -> 5m
A35: - | B35: Giao thông: | C35: Tài sản tiếp giáp đường QL39A
A36: - | B36: Khoảng cách đến trục chính: | C36: Tài sản cách UBND phường An Tảo khoảng 270m
A37: - | B37: Các hướng tiếp giáp: | C37: - Hướng Tây: tiếp giáp đường QL39A - Các hướng khác: tiếp giáp với các thửa đất khác
A38: - | B38: Vị trí trên bản đồ vệ tinh:
A39: - | F39: https://www.google.com/maps/place/21%C2%B005'31.5%22N+105%C2%B028'17.3%22E/@21.0920782,105.4689072,1018m/data=!3m2!1e3!4b1!4m4!3m3!8m2!3d21.0920782!4d105.4714821!5m1!1e1?entry=ttu&g_ep=EgoyMDI0MDgyMy4wIKXMDSoASAFQAw%3D%3D
A40: 2.2. | B40: Diện tích; Kích thước; Hình dáng
A41: - | B41: Diện tích sử dụng riêng thực tế (m²): | C41: =C17 -> 3888 | D41: Diện tích sử dụng chung thực tế (m²): | E41: -/-
A42: - | B42: KT mặt tiền (m): | C42: 11.9 | D42: Chiều sâu (m): | E42: =23.5+6.2+0.3+43.2+8.2 -> 81.4
A43: - | B43: KT mặt hậu (m): | C43: 52.2 | D43: Hình dáng thửa đất: | E43: Đa giác
A44: - | B44: Hướng mặt tiền chính: | C44: Tây
A45: 2.3. | B45: Điều kiện kinh doanh; Hạ tầng nội bộ; Hạ tầng xung quanh
A46: - | B46: Hạ tầng nội bộ: | C46: Cấp điện, cấp nước sạch, mạng internet,…hoàn thiện
A47: - | B47: Hạ tầng xung quanh: | C47: Môi trường trong lành, an ninh đảm bảo, dân trí tốt
A48: - | B48: Mật độ dân cư: | C48: Đông đúc | D48: Đời sống dân cư: | E48: Ổn định
A49: - | B49: Lợi thế kinh doanh: | C49: Có thể kinh doanh | D49: Khả năng chuyển nhượng: | E49: Tốt
A50: - | B50: Yếu tố phong thủy: | C50: ='[153]TSSS '!C39 -> Tài sản không bị lỗi phong thủy
A51: - | B51: Yếu tố tâm linh: | C51: ='[153]TSSS '!C40 -> Nhìn hướng khu dân cư
A52: 3. | B52: Tài sản gắn liền với đất: Đất trống
A53: - | B53: Tại thời điểm thẩm định giá, trên đất có các công trình xây dựng là: - 01 Nhà kho, kết cấu cột kèo thép, tường gạch, mái tôn, diện tích xây dựng khoảng 2250m², xây dựng năm 2019 - 01 Nhà bảo vệ, kết cấu tường gạch, mái tôn, xây dựng năm 2019, diện tích xây dựng khoảng 75m² - 01 Nhà cấp 4, kết cấu tường gạch, mái tôn, diện tích xây dựng khoảng 30m², xây dựng năm 2024 Các công trình xây dựng trên hiện đã được chứng nhận trên GCN số: BA 914040
D55: =[152]KHTĐG!D37 -> Hà Nội, ngày tháng năm 20
B56: Người khảo sát | D56: Thẩm định viên
F57: =9%*65% -> 0.0585
B61: _ | D61: Doãn Thị Thùy Dung
E70: =1-(2024-2016)/35 -> 0.77142857

Sheet Nhà vệ sinh, bảo vệ
A1: TT | B1: Địa điểm | C1: Hạng mục | D1: ĐVT | E1: Diện tích sử dụng | F1: Đơn giá xây mới bao gồm thuế GTGT (đồng) | G1: Hệ số vùng | H1: Thuế suất thuế GTGT | I1: Chi phí thay thế (đồng) | J1: Thời điểm đưa vào sử dụng | K1: Thời điểm thẩm định giá | L1: Tỷ lệ CLCL theo PP chuyên gia (%) | M1: Tỷ lệ CLCL theo PP tuổi đời | P1: Hao mòn trung bình (%) | Q1: Tỷ lệ CLCL năm 2023 | R1: Tỷ lệ chất lượng còn lại (%) | S1: Giá trị thẩm định (đồng) | T1: Giá trị thẩm định (đồng)
M2: Tuổi đời kinh tế (năm) | N2: Tuổi đời hiệu quả (năm) | O2: Hao mòn theo tuổi đời (%)
A3: 1 | B3: Thị trấn Văn Giang, huyện Văn Giang, tỉnh Hưng Yên | S3: =SUM(S4:S9) -> 0
B4: Thị trấn Văn Giang, huyện Văn Giang, tỉnh Hưng Yên | C4: Nhà văn phòng | D4: m² | E4: 399 | F4: 5184000 | G4: 0.948 | H4: 0.1 | I4: =E4*F4*G4/(1+H4) -> 1.7825985e+09 | J4: Năm 2016 | K4: Tháng 12/2024 | L4: 0.4 | M4: 25 | N4: 8 | O4: =N4/M4 -> 0.32 | P4: =AVERAGE(L4,O4) -> 0.36 | Q4: 0.8 | R4: 0 | S4: =I4*R4 -> 0
C5: Nhà bán hàng mặt đường | D5: m² | E5: 122 | F5: 5184000 | G5: 0.948 | H5: =H4 -> 0.1 | I5: =E5*F5*G5/(1+H5) -> 5.4505519e+08 | J5: =J4 -> Năm 2016 | K5: =K4 -> Tháng 12/2024 | L5: =L4 -> 0.4 | M5: 25 | N5: =N4 -> 8 | O5: =N5/M5 -> 0.32 | P5: =AVERAGE(L5,O5) -> 0.36 | Q5: 0.8 | R5: 0 | S5: =I5*R5 -> 0
C6: Nhà kho 3 | D6: m² | E6: 360 | F6: 2853000 | G6: 0.931 | H6: =H5 -> 0.1 | I6: =E6*F6*G6/(1+H6) -> 8.6928316e+08 | J6: =J5 -> Năm 2016 | K6: =K5 -> Tháng 12/2024 | L6: =L5 -> 0.4 | M6: 25 | N6: =N5 -> 8 | O6: =N6/M6 -> 0.32 | P6: =AVERAGE(L6,O6) -> 0.36 | Q6: 0.7 | R6: 0 | S6: =I6*R6 -> 0
C7: Nhà kho 4 | D7: m² | E7: 660 | F7: 2853000 | G7: 0.931 | H7: =H6 -> 0.1 | I7: =E7*F7*G7/(1+H7) -> 1.5936858e+09 | J7: =J6 -> Năm 2016 | K7: =K6 -> Tháng 12/2024 | L7: =L6 -> 0.4 | M7: 25 | N7: =N6 -> 8 | O7: =N7/M7 -> 0.32 | P7: =AVERAGE(L7,O7) -> 0.36 | Q7: 0.7 | R7: 0 | S7: =I7*R7 -> 0
C8: Nhà kho 5 | D8: m³ | E8: 945 | F8: 2853000 | G8: 0.931 | H8: =H7 -> 0.1 | I8: =E8*F8*G8/(1+H8) -> 2.2818683e+09 | J8: =J7 -> Năm 2016 | K8: =K7 -> Tháng 12/2024 | L8: 0.5 | M8: 20 | N8: =N7 -> 8 | O8: =N8/M8 -> 0.4 | P8: =AVERAGE(L8,O8) -> 0.45 | Q8: 0.7 | R8: 0 | S8: =I8*R8 -> 0
C9: Nhà kho 6 | E9: 30 | F9: 2853000 | G9: 0.931 | H9: =H8 -> 0.1 | I9: =E9*F9*G9/(1+H9) -> 72440264 | Q9: 0.7 | R9: 0 | S9: =I9*R9 -> 0
A10: 2 | B10: Xã Trưng Trắc, Huyện Văn Lâm, tỉnh Hưng Yên | S10: =SUM(S11:S15) -> 0
B11: Xã Trưng Trắc, Huyện Văn Lâm, tỉnh Hưng Yên | C11: Nhà cửa hàng cấp 4 | D11: m² | E11: =6*13 -> 78 | F11: =F9 -> 2853000 | G11: =G9 -> 0.931 | H11: =H9 -> 0.1 | I11: =E11*F11*G11/(1+H11) -> 1.8834469e+08 | R11: 0 | S11: =I11*R11 -> 0
C12: Cửa hàng bán tokbokki | D12: m² | E12: =3.5*8.7 -> 30.45 | F12: =F11 -> 2853000 | G12: =G11 -> 0.931 | H12: =H11 -> 0.1 | I12: =E12*F12*G12/(1+H12) -> 73526868 | R12: 0 | S12: =I12*R12 -> 0
C13: Kho gạo | D13: m² | E13: 20 | F13: =F12 -> 2853000 | G13: =G12 -> 0.931 | H13: =H12 -> 0.1 | I13: =E13*F13*G13/(1+H13) -> 48293509 | R13: 0 | S13: =I13*R13 -> 0
C14: Cửa hàng cầm đồ | D14: m² | E14: =2.5*5.5 -> 13.75 | F14: =F13 -> 2853000 | G14: =G13 -> 0.931 | H14: =H13 -> 0.1 | I14: =E14*F14*G14/(1+H14) -> 33201787 | R14: 0 | S14: =I14*R14 -> 0
C15: Nhà cấp 4 | D15: m² | E15: =2.8*5.8*3 -> 48.72 | F15: =F14 -> 2853000 | G15: =G14 -> 0.931 | H15: =H14 -> 0.1 | I15: =E15*F15*G15/(1+H15) -> 1.1764299e+08 | R15: 0 | S15: =I15*R15 -> 0
A16: 3 | B16: Xã Phùng Chí Kiên, huyện Mỹ Hào, tỉnh Hưng Yên | S16: =S17 -> 0
B17: Xã Phùng Chí Kiên, huyện Mỹ Hào, tỉnh Hưng Yên | C17: Nhà xưởng, kết cấu tường gạch, mái tôn | D17: m² | E17: 100 | F17: 2853000 | G17: 0.931 | H17: =H15 -> 0.1 | I17: =E17*F17*G17/(1+H17) -> 2.4146755e+08 | Q17: 0.7 | R17: 0 | S17: =I17*R17 -> 0
A18: 4 + 5 | B18: Xã Tiên Tiến, huyện Phù Cừ, tỉnh Hưng Yên | S18: =S19 -> 0
B19: Xã Tiên Tiến, huyện Phù Cừ, tỉnh Hưng Yên | C19: Nhà điều hành | D19: m² | E19: 84.3 | F19: 5184000 | G19: 0.948 | H19: =H17 -> 0.1 | I19: =E19*F19*G19/(1+H19) -> 3.766242e+08 | Q19: 0.7 | R19: 0 | S19: =I19*R19 -> 0 | T19: =100-8*2 -> 84
A20: 6 | B20: =B21 -> Thị trấn Vương, huyện Tiên Lữ, tỉnh Hưng Yên | S20: =S21 -> 0
B21: =Đất!D7 -> Thị trấn Vương, huyện Tiên Lữ, tỉnh Hưng Yên | C21: Dãy trọ liền nhau (Hết khấu hao) | D21: m² | H21: =H19 -> 0.1 | I21: =E21*F21*G21/(1+H21) -> 0 | S21: =I21*R21 -> 0
A22: 7 | B22: =B23 -> Phường Minh Khai, Thị xã Hưng Yên, tỉnh Hưng Yên (1190m²) | S22: =SUM(S23:S25) -> 0
B23: Phường Minh Khai, Thị xã Hưng Yên, tỉnh Hưng Yên (1190m²) | C23: Nhà 2 tầng | D23: m² | E23: =36*8*2 -> 576 | F23: =8225000 -> 8225000 | G23: 0.948 | H23: =H21 -> 0.1 | I23: =E23*F23*G23/(1+H23) -> 4.0829498e+09 | R23: 0 | S23: =I23*R23 -> 0 | T23: =100-(2025-1997)*2 -> 44
C24: Dãy trọ 3 phòng | D24: m² | E24: =7.5*11 -> 82.5 | F24: 5184000 | G24: 0.948 | H24: =H23 -> 0.1 | I24: =E24*F24*G24/(1+H24) -> 368582400 | R24: 0 | S24: =I24*R24 -> 0
C25: Dãy trọ 2 phòng | D25: m² | E25: =7*7.5 -> 52.5 | F25: 5184000 | G25: 0.948 | H25: =H24 -> 0.1 | I25: =E25*F25*G25/(1+H25) -> 2.3455244e+08 | R25: 0 | S25: =I25*R25 -> 0
A26: 8 | B26: =B27 -> Phường Minh Khai, Thị xã Hưng Yên, tỉnh Hưng Yên (1027m²) | S26: =SUM(S27:S29) -> 0
B27: Phường Minh Khai, Thị xã Hưng Yên, tỉnh Hưng Yên (1027m²) | C27: Nhà cấp 4 (sập xệ, không còn được đưa vào sử dụng) | D27: m² | H27: =H25 -> 0.1 | I27: =E27*F27*G27/(1+H27) -> 0 | S27: =I27*R27 -> 0
D28: m² | H28: =H27 -> 0.1 | I28: =E28*F28*G28/(1+H28) -> 0 | S28: =I28*R28 -> 0
D29: m² | H29: =H28 -> 0.1 | I29: =E29*F29*G29/(1+H29) -> 0 | S29: =I29*R29 -> 0
A30: 9 | B30: =B31 -> Thị trấn Ân Thi, huyện Ân Thi, tỉnh Hưng Yên (các công trình xây dựng năm 2021) | S30: =SUM(S31:S40) -> 0
B31: Thị trấn Ân Thi, huyện Ân Thi, tỉnh Hưng Yên (các công trình xây dựng năm 2021) | C31: Nhà mặt đường | D31: m² | E31: 157 | F31: =F24 -> 5184000 | G31: 0.948 | H31: =H29 -> 0.1 | I31: =E31*F31*G31/(1+H31) -> 7.0142348e+08 | Q31: 0.9 | R31: 0 | S31: =I31*R31 -> 0 | T31: =100-(2025-2021)*4 -> 84
C32: Nhà mái bằng | D32: m² | E32: 110 | F32: =F31 -> 5184000 | G32: 0.948 | H32: =H31 -> 0.1 | I32: =E32*F32*G32/(1+H32) -> 4.914432e+08 | Q32: 0.9 | R32: 0 | S32: =I32*R32 -> 0
C33: Nhà kho | D33: m² | E33: 75 | F33: 2853000 | G33: 0.931 | H33: =H32 -> 0.1 | I33: =E33*F33*G33/(1+H33) -> 1.8110066e+08 | Q33: 0.85 | R33: 0 | S33: =I33*R33 -> 0
C34: Nhà kho | D34: =D33 -> m² | E34: 75 | F34: 2853000 | G34: 0.931 | H34: =H33 -> 0.1 | I34: =E34*F34*G34/(1+H34) -> 1.8110066e+08 | Q34: 0.85 | R34: 0 | S34: =I34*R34 -> 0
C35: Nhà cấp 4 | D35: =D34 -> m² | E35: 16 | F35: =F32 -> 5184000 | G35: 0.948 | H35: =H34 -> 0.1 | I35: =E35*F35*G35/(1+H35) -> 71482647 | Q35: 0.85 | R35: 0 | S35: =I35*R35 -> 0
C36: Nhà cấp 4 | D36: =D35 -> m² | E36: 16 | F36: =F35 -> 5184000 | G36: 0.948 | H36: =H35 -> 0.1 | I36: =E36*F36*G36/(1+H36) -> 71482647 | Q36: 0.85 | R36: 0 | S36: =I36*R36 -> 0
C37: Nhà cấp 4 | D37: =D36 -> m² | E37: 16 | F37: =F36 -> 5184000 | G37: 0.948 | H37: =H36 -> 0.1 | I37: =E37*F37*G37/(1+H37) -> 71482647 | Q37: 0.85 | R37: 0 | S37: =I37*R37 -> 0
C38: Nhà cấp 4 | D38: =D37 -> m² | E38: 84 | F38: =F37 -> 5184000 | G38: 0.948 | H38: =H37 -> 0.1 | I38: =E38*F38*G38/(1+H38) -> 3.752839e+08 | Q38: 0.85 | R38: 0 | S38: =I38*R38 -> 0
C39: Nhà cấp 4 | D39: =D38 -> m² | E39: 28 | F39: =F38 -> 5184000 | G39: 0.948 | H39: =H38 -> 0.1 | I39: =E39*F39*G39/(1+H39) -> 1.2509463e+08 | Q39: 0.85 | R39: 0 | S39: =I39*R39 -> 0
C40: Nhà cấp 4 | D40: =D39 -> m² | E40: 28 | F40: =F39 -> 5184000 | G40: 0.948 | H40: =H39 -> 0.1 | I40: =E40*F40*G40/(1+H40) -> 1.2509463e+08 | Q40: 0.85 | R40: 0 | S40: =I40*R40 -> 0
A41: 10 | B41: =B42 -> Xã Nghĩa Dân, huyện Kim Động, tỉnh Hưng Yên | S41: =SUM(S42:S44) -> 0
B42: =Đất!D11 -> Xã Nghĩa Dân, huyện Kim Động, tỉnh Hưng Yên | C42: Nhà cấp 4 cũ | D42: =D40 -> m² | E42: =5*11 -> 55 | F42: =F40 -> 5184000 | G42: 0.948 | H42: =H40 -> 0.1 | I42: =E42*F42*G42/(1+H42) -> 2.457216e+08 | R42: 0 | S42: =I42*R42 -> 0
C43: Nhà cấp 4 (xây 2021) | D43: =D42 -> m² | E43: =12*28 -> 336 | F43: 5184000 | G43: 0.948 | H43: =H42 -> 0.1 | I43: =E43*F43*G43/(1+H43) -> 1.5011356e+09 | R43: 0 | S43: =I43*R43 -> 0 | T43: =100-(2025-2021)*4 -> 84
C44: Nhà kho | D44: =D43 -> m² | E44: 163.4 | F44: 2853000 | G44: 0.931 | H44: =H43 -> 0.1 | I44: =E44*F44 -> 466180200 | R44: 0 | S44: =I44*R44 -> 0
A45: 11 | B45: =B46 -> Thị trấn Khoái Châu, huyện Khoái Châu, tỉnh Hưng Yên | S45: =SUM(S46:S50) -> 206841600
B46: =Đất!D12 -> Thị trấn Khoái Châu, huyện Khoái Châu, tỉnh Hưng Yên | C46: Nhà cổ (không còn sử dụng) | D46: =D44 -> m² | H46: =H44 -> 0.1 | I46: =E46*F46 -> 0 | Q46: 0.35 | R46: 0 | S46: =I46*R46 -> 0
C47: Nhà bếp + WC | D47: =D46 -> m² | E47: 133 | F47: 5184000 | G47: 0.948 | H47: =H46 -> 0.1 | I47: =E47*F47 -> 689472000 | Q47: 0.35 | R47: 0.3 | S47: =I47*R47 -> 206841600
C48: Nhà 2 tầng cũ (sập xệ) | D48: =D47 -> m² | E48: 120 | F48: 8225000 | G48: 0.948 | H48: =H47 -> 0.1 | I48: =E48*F48 -> 987000000 | Q48: 0.3 | R48: 0 | S48: =I48*R48 -> 0
C49: 5 Kiot liền nhau (XD 2015) | D49: =D48 -> m² | E49: 117 | F49: 5184000 | G49: 0.948 | H49: =H48 -> 0.1 | I49: =E49*F49 -> 606528000 | Q49: 0.5 | R49: 0 | S49: =I49*R49 -> 0
C50: Nhà hàng (XD 2015) | D50: =D49 -> m² | E50: 444 | F50: 5184000 | G50: 0.948 | H50: =H49 -> 0.1 | I50: =E50*F50 -> 2301696000 | Q50: 0.6 | R50: 0 | S50: =I50*R50 -> 0
A51: 12 | B51: Xã Trung Hưng, huyện Yên Mỹ, tỉnh Hưng Yên | S51: =SUM(S52:S65) -> 0
B52: Xã Trung Hưng, huyện Yên Mỹ, tỉnh Hưng Yên (thửa 18) | C52: Nhà văn phòng (XD 2010) | D52: =D50 -> m² | E52: 150 | F52: 5184000 | G52: 0.948 | H52: =H50 -> 0.1 | I52: =E52*F52 -> 777600000 | Q52: 0.6 | R52: 0 | S52: =I52*R52 -> 0 | T52: =100-(2025-2010)*4 -> 40
C53: Nhà 1 tầng cũ, không còn sử dụng | D53: =D52 -> m² | E53: 60 | F53: 0 | H53: =H52 -> 0.1 | I53: =E53*F53 -> 0 | R53: 0 | S53: =I53*R53 -> 0
C54: Nhà văn phòng 1 tầng (XD 2019) | D54: =D53 -> m² | E54: 91 | F54: 5184000 | G54: 0.948 | H54: =H53 -> 0.1 | I54: =E54*F54 -> 471744000 | Q54: 0.85 | R54: 0 | S54: =I54*R54 -> 0 | T54: =100-(2025-2019)*4 -> 76
C55: Nhà kho xưởng (XD 2019) | D55: =D54 -> m² | E55: 190 | F55: 2853000 | G55: 0.931 | H55: =H54 -> 0.1 | I55: =E55*F55 -> 542070000 | Q55: 0.6 | R55: 0 | S55: =I55*R55 -> 0
B56: Xã Trung Hưng, huyện Yên Mỹ, tỉnh Hưng Yên (thửa 11) | C56: Nhà kho xưởng | D56: =D55 -> m² | E56: 546 | F56: 2853000 | G56: 0.931 | H56: =H55 -> 0.1 | I56: =E56*F56 -> 1557738000 | Q56: 0.8 | R56: 0 | S56: =I56*R56 -> 0
C57: Nhà kho xưởng | D57: =D56 -> m² | E57: 450 | F57: 2853000 | G57: 0.931 | H57: =H56 -> 0.1 | I57: =E57*F57 -> 1283850000 | Q57: 0.85 | R57: 0 | S57: =I57*R57 -> 0
B58: Xã Trung Hưng, huyện Yên Mỹ, tỉnh Hưng Yên (thửa 34) | C58: Nhà kho | D58: =D57 -> m² | E58: 63 | F58: 2853000 | G58: 0.931 | H58: =H57 -> 0.1 | I58: =E58*F58 -> 179739000 | Q58: 0.76 | R58: 0 | S58: =I58*R58 -> 0
C59: 7 gian nhà kho (không còn sử dụng) | D59: =D58 -> m² | E59: 525 | F59: 0 | H59: =H58 -> 0.1 | I59: =E59*F59 -> 0 | S59: =I59*R59 -> 0
B60: Xã Trung Hưng, huyện Yên Mỹ, tỉnh Hưng Yên (thửa 2) | C60: Nhà xưởng 1 | D60: =D59 -> m² | E60: =(19*20+15*20) -> 680 | F60: =2853000 -> 2853000 | G60: 0.931 | H60: =H59 -> 0.1 | I60: =E60*F60 -> 1940040000 | Q60: 0.7 | R60: 0 | S60: =I60*R60 -> 0
C61: Nhà xưởng 2 | D61: =D60 -> m² | E61: =25*30 -> 750 | F61: =2853000 -> 2853000 | G61: 0.931 | H61: =H60 -> 0.1 | I61: =E61*F61 -> 2139750000 | Q61: 0.7 | R61: 0 | S61: =I61*R61 -> 0
C62: Nhà xưởng 3 | D62: =D61 -> m² | E62: =30*18 -> 540 | F62: =2853000 -> 2853000 | G62: 0.931 | H62: =H61 -> 0.1 | I62: =E62*F62 -> 1540620000 | Q62: 0.7 | R62: 0 | S62: =I62*R62 -> 0
C63: Nhà xưởng 4 | D63: =D62 -> m² | E63: =200 -> 200 | F63: =2853000 -> 2853000 | G63: 0.931 | H63: =H62 -> 0.1 | I63: =E63*F63 -> 570600000 | Q63: 0.7 | R63: 0 | S63: =I63*R63 -> 0
C64: Nhà xưởng 5 | D64: =D63 -> m² | E64: 120 | F64: =2853000 -> 2853000 | G64: 0.931 | H64: =H63 -> 0.1 | I64: =E64*F64 -> 342360000 | Q64: 0.7 | R64: 0 | S64: =I64*R64 -> 0
C65: Nhà xưởng 6 | D65: =D64 -> m² | E65: 380 | F65: =2835000 -> 2835000 | G65: 0.931 | H65: =H64 -> 0.1 | I65: =E65*F65 -> 1077300000 | Q65: 0.7 | R65: 0 | S65: =I65*R65 -> 0
A66: 13 | B66: =B67 -> Thị trấn Lương Bằng, huyện Kim Động, tỉnh Hưng Yên | S66: =S67 -> 0
B67: =Đất!D15 -> Thị trấn Lương Bằng, huyện Kim Động, tỉnh Hưng Yên | C67: 9 Kiot xây dựng 1967, không định giá | D67: =D65 -> m² | E67: =75*9 -> 675 | H67: =H65 -> 0.1 | I67: =E67*F67 -> 0 | S67: =I67*R67 -> 0
A68: 14 | B68: =B69 -> An Tảo, thành phố Hưng Yên, tỉnh Hưng Yên | S68: =SUM(S69:S72) -> 169753500
B69: =Đất!D16 -> An Tảo, thành phố Hưng Yên, tỉnh Hưng Yên | C69: Nhà kho (XD 2019) | D69: =D67 -> m² | E69: =50*45 -> 2250 | F69: =2853000 -> 2853000 | G69: 0.931 | H69: =H67 -> 0.1 | I69: =E69*F69 -> 6419250000 | Q69: 0.8 | R69: 0 | S69: =I69*R69 -> 0 | T69: =100-(2025-2019)*4 -> 76
C70: Nhà vệ sinh (xây dựng 2019) | D70: =D69 -> m² | E70: 10 | F70: =2853000 -> 2853000 | G70: 0.931 | H70: =H69 -> 0.1 | I70: =E70*F70 -> 28530000 | Q70: 0.5 | R70: 0.7 | S70: =I70*R70 -> 19971000
C71: Nhà cấp 4 | D71: =D70 -> m² | E71: 30 | F71: =2853000 -> 2853000 | G71: 0.931 | H71: =H70 -> 0.1 | I71: =E71*F71 -> 85590000 | R71: 0 | S71: =I71*R71 -> 0
C72: Nhà bảo vệ (xây dựng 2019) | D72: =D71 -> m² | E72: 75 | F72: =2853000 -> 2853000 | G72: 0.931 | H72: =H71 -> 0.1 | I72: =E72*F72 -> 213975000 | Q72: 0.7 | R72: 0.7 | S72: =I72*R72 -> 149782500
A73: Tổng cộng | S73: =SUM(S3:S72)/2 -> 376595100
J77: =2024-2016 -> 8

Sheet Sân đường nội bộ
A1: STT | B1: Số tờ | C1: Số thửa | D1: Địa chỉ | E1: Định vị | F1: Vị trí đất thương mại, dịch vụ theo QĐ-UBND tỉnh Hưng Yên | G1: Đường tiếp giáp | H1: Diện tích đất | I1: Đơn giá đường nội bộ | J1: Đơn giá đất thẩm định giá (đồng/m²) | K1: Giá trị thẩm định giá (đồng)
A2: 1 | B2: 67 | C2: 3 | D2: Thị trấn Văn Giang, huyện Văn Giang, tỉnh Hưng Yên | E2: https://www.google.com/maps/place/20%C2%B056'43.8%22N+105%C2%B056'03.2%22E/@20.9450083,105.9350626,542m/data=!3m1!1e3!4m4!3m3!8m2!3d20.9455108!4d105.9342076!5m1!1e2?entry=ttu&g_ep=EgoyMDI1MDUyOC4wIKXMDSoASAFQAw%3D%3D | F2: Thị trấn Văn Giang, huyện Văn Giang: Các trục đường có mặt cắt ≥ 15m | G2: Đường tỉnh 179 | H2: 2947.3 | I2: =1301000*0.907 -> 1180007 | J2: =O4 -> 0.14666667 | K2: =H2*I2*J2 -> 5.1008241e+08 | O2: =2025-1993 -> 32
A3: 2 | B3: 449 | C3: 21 | D3: Xã Trưng Trắc, huyện Văn Lâm, tỉnh Hưng Yên | E3: https://www.google.com/maps?q=20.95751392584018,105.9989818026151&z=14&t=m&mapclient=embed | F3: Xã Trưng Trắc, huyện Văn Lâm, tỉnh Hưng Yên: Các vị trí còn lại | G3: Đường nhựa rộng khoảng 6,77m | H3: 363 | I3: =I2 -> 1180007 | J3: =J2 -> 0.14666667 | K3: =H3*I3*J3 -> 62823573 | O3: =1/37.5 -> 0.026666667
A4: 3 | B4: 18 | C4: 19 | D4: Xã Phùng Chí Kiên, huyện Mỹ Hào, tỉnh Hưng Yên (nay là phường Phù Chí Kiên, Thị xã Mỹ Hào) | E4: https://www.google.com/maps/place/20%C2%B055'04.4%22N+106%C2%B006'03.3%22E/@20.9209034,106.0415759,6132m/data=!3m1!1e3!4m4!3m3!8m2!3d20.9178956!4d106.1009212!5m1!1e2?entry=ttu&g_ep=EgoyMDI1MDUyOC4wIKXMDSoASAFQAw%3D%3D | F4: Xã Phùng Chí Kiên, Thị xã Mỹ Hào: Đường Nguyễn Văn Linh (QL5) | G4: Quốc lộ 5A | H4: 447 | I4: =I3 -> 1180007 | J4: =J3 -> 0.14666667 | K4: =H4*I4*J4 -> 77361259 | O4: =1-O3*O2 -> 0.14666667
A5: 4 | B5: 190 | C5: 1 | D5: xã Tiên Tiến, huyện Phù Cừ, tỉnh Hưng Yên | E5: https://www.google.com/maps?q=20.702213043804495,106.20842672811806&z=14&t=m&mapclient=embed | F5: Xã Tiên Tiến, huyện Phù Cừ: Đường tỉnh 386 (đường 202 cũ) | G5: Đường tỉnh 386 | H5: 250 | I5: =I4 -> 1180007 | J5: =J4 -> 0.14666667 | K5: =H5*I5*J5 -> 43266923
A6: 5 | B6: 191 | C6: 1 | D6: =D5 -> xã Tiên Tiến, huyện Phù Cừ, tỉnh Hưng Yên | E6: https://www.google.com/maps?q=20.702213043804495,106.20842672811806&z=14&t=m&mapclient=embed | F6: Xã Tiên Tiến, huyện Phù Cừ: Đường tỉnh 386 (đường 202 cũ) | G6: Đường tỉnh 386 | H6: 5325 | I6: =I5 -> 1180007 | J6: =J5 -> 0.14666667 | K6: =H6*I6*J6 -> 9.2158547e+08
A7: 6 | B7: 447 | C7: 12 | D7: Thị trấn Vương, huyện Tiên Lữ, tỉnh Hưng Yên | E7: https://www.google.com/maps/place/20%C2%B041'57.1%22N+106%C2%B007'03.3%22E/@20.699314,106.11507,790m/data=!3m1!1e3!4m4!3m3!8m2!3d20.6991936!4d106.1175806!5m1!1e2?entry=ttu&g_ep=EgoyMDI1MDUyOC4wIKXMDSoASAFQAw%3D%3D | F7: Thị trấn Vương, huyện Tiên Lữ: Quốc lộ 38B: Giao đường huyện 90 - Trung tâm Y tế huyện | G7: Quốc lộ 39B cũ (QL38B) | H7: 1279 | I7: =I6 -> 1180007 | J7: =J6 -> 0.14666667 | K7: =H7*I7*J7 -> 2.2135358e+08
A8: 7 | B8: 30 | C8: 9 | D8: Phường Minh Khai, thị xã Hưng Yên, tỉnh Hưng Yên | E8: https://www.google.com/maps?q=20.645401713911337,106.04883236938197&z=14&t=m&mapclient=embed | F8: Thành phố Hưng Yên: Đường Bách Đằng | G8: Đường Bạch Đằng, Tân Nhân | H8: 1190 | I8: =I7 -> 1180007 | J8: =J7 -> 0.14666667 | K8: =H8*I8*J8 -> 2.0595056e+08
A9: 8 | B9: 189 | C9: 6 | D9: =D8 -> Phường Minh Khai, thị xã Hưng Yên, tỉnh Hưng Yên | E9: https://www.google.com/maps/place/20%C2%B038'46.9%22N+106%C2%B002'56.1%22E/@20.6463611,106.0489167,790m/data=!3m2!1e3!4b1!4m4!3m3!8m2!3d20.6463611!4d106.0489167!5m1!1e2?entry=ttu&g_ep=EgoyMDI1MDUyOC4wIKXMDSoASAFQAw%3D%3D | F9: Thành phố Hưng Yên: Phố Tân Nhân | G9: Phố Tân Nhân | H9: 1027 | I9: =I8 -> 1180007 | J9: =J8 -> 0.14666667 | K9: =H9*I9*J9 -> 1.7774052e+08
A10: 9 | B10: 30 | C10: 30 | D10: Thị trấn Ân Thi, huyện Ân Thi, tỉnh Hưng Yên | E10: https://www.google.com/maps?q=20.79926406966237,106.07295135977311&z=14&t=m&mapclient=embed | F10: Thị trấn Ân Thi, huyện Ân Thi: Quốc lộ 38 | G10: Quốc lộ 38B | H10: 891 | I10: =I9 -> 1180007 | J10: =J9 -> 0.14666667 | K10: =H10*I10*J10 -> 1.5420331e+08
A11: 10 | B11: 62 | C11: 4 | D11: Xã Nghĩa Dân, huyện Kim Động, tỉnh Hưng Yên | E11: https://www.google.com/maps?q=20.788316309359573,106.04753893962653&z=14&t=m&mapclient=embed | F11: Xã Nghĩa Dân, huyện Kim Động: Quốc lộ 39A | G11: Quốc lộ 39A | H11: 163.4 | I11: =I10 -> 1180007 | J11: =J10 -> 0.14666667 | K11: =H11*I11*J11 -> 28279261
A12: 11 | B12: 27 | C12: 2 | D12: Thị trấn Khoái Châu, huyện Khoái Châu, tỉnh Hưng Yên | E12: https://www.google.com/maps?q=20.83896364920382,105.97812316086414&z=14&t=m&mapclient=embed | F12: Thị trấn Khoái Châu, huyện Khoái Châu: Đường có mặt cắt từ 7m đến dưới 15m | G12: Đường 205 | H12: 2215 | I12: =I11 -> 1180007 | J12: =J11 -> 0.14666667 | K12: =H12*I12*J12 -> 3.8334494e+08
A13: 12 | B13: 2 + 11 + 18 + 34 | C13: 8 | D13: xã Trung Hưng, huyện Yên Mỹ, tỉnh Hưng Yên | E13: https://www.google.com/maps?q=20.877983168049933,106.03055000656886&z=14&t=m&mapclient=embed | F13: Xã Trung Hưng, huyện Yên Mỹ: Các trục đường có mặt cắt từ 7m đến dưới 15m | G13: Đường DH40 | H13: =6859 -> 6859 | I13: =I12 -> 1180007 | J13: =J12 -> 0.14666667 | K13: =H13*I13*J13 -> 1.1870713e+09
A14: 13 | B14: 2 + 11 + 18 + 34 | C14: 8 | D14: xã Trung Hưng, huyện Yên Mỹ, tỉnh Hưng Yên | G14: Đường DH 40 (trong QH) | H14: 0 | I14: =I13 -> 1180007 | J14: =J13 -> 0.14666667 | K14: =H14*I14*J14 -> 0
A15: 13 | B15: 262 | C15: 15 | D15: Thị trấn Lương Bằng, huyện Kim Động, tỉnh Hưng Yên | E15: https://www.google.com/maps/place/20%C2%B044'33.1%22N+106%C2%B003'37.5%22E/@20.7431889,106.0608668,235m/data=!3m1!1e3!4m4!3m3!8m2!3d20.7425396!4d106.0604227!5m1!1e2?entry=ttu&g_ep=EgoyMDI1MDUyOC4wIKXMDSoASAFQAw%3D%3D | F15: Thị trấn Lương Bằng, huyện Kim Động: Tô Hiệu (đường huyện 60 cũ) | G15: Đường Tô Hiệu | H15: 1575.5 | I15: =I14 -> 1180007 | J15: =J14 -> 0.14666667 | K15: =H15*I15*J15 -> 2.7266815e+08
A16: 14 | B16: 7 | C16: 49 | D16: An Tảo, thành phố Hưng Yên, tỉnh Hưng Yên | E16: https://www.google.com/maps?q=20.67656390370864,106.0600323324148&z=14&t=m&mapclient=embed | F16: Thành phố Hưng Yên: Đường Nguyễn Văn Linh: Lê Văn Lương - Trường Trung cấp dậy nghề GTVT | G16: QL39A | H16: 3888 | I16: =I15 -> 1180007 | J16: =J15 -> 0.14666667 | K16: =H16*I16*J16 -> 6.7288719e+08
A17: Tổng cộng | K17: =SUM(K2:K16) -> 4.9186185e+09

Sheet Đất
A1: STT | B1: Số tờ | C1: Số thửa | D1: Địa chỉ | E1: Định vị | F1: Vị trí đất thương mại, dịch vụ theo QĐ-UBND tỉnh Hưng Yên | G1: Đường tiếp giáp | H1: Diện tích đất | I1: Đơn giá đất theo QĐ-UBND tỉnh Hưng Yên | J1: Thời điểm thẩm định giá | K1: Ngày hết hạn QSDĐ | L1: Thời gian sử dụng đất còn lại (năm ) | M1: Thời hạn sử dụng đất TMDV (năm) | N1: Đơn giá đất thẩm định giá (đồng/m²) | O1: Giá trị thẩm định giá (đồng)
A2: 1 | B2: 67 | C2: 3 | D2: Thị trấn Văn Giang, huyện Văn Giang, tỉnh Hưng Yên | E2: https://www.google.com/maps/place/20%C2%B056'43.8%22N+105%C2%B056'03.2%22E/@20.9450083,105.9350626,542m/data=!3m1!1e3!4m4!3m3!8m2!3d20.9455108!4d105.9342076!5m1!1e2?entry=ttu&g_ep=EgoyMDI1MDUyOC4wIKXMDSoASAFQAw%3D%3D | F2: Thị trấn Văn Giang, huyện Văn Giang: Các trục đường có mặt cắt ≥ 15m | G2: Đường tỉnh 179 | H2: 2947.3 | I2: 2500000 | J2: 45783 | K2: 47041 | L2: =(K2-J2)/365 -> 3.4465753 | M2: 70 | N2: =I2*L2/M2 -> 123091.98 | O2: =N2*H2 -> 3.6278898e+08
A3: 2 | B3: 449 | C3: 21 | D3: Xã Trưng Trắc, huyện Văn Lâm, tỉnh Hưng Yên | E3: https://www.google.com/maps?q=20.95751392584018,105.9989818026151&z=14&t=m&mapclient=embed | F3: Xã Trưng Trắc, huyện Văn Lâm, tỉnh Hưng Yên: Các vị trí còn lại | G3: Đường nhựa rộng khoảng 6,77m | H3: 363 | I3: 1200000 | J3: =J2 -> 45783 | K3: =K2 -> 47041 | L3: =(K3-J3)/365 -> 3.4465753 | M3: =M2 -> 70 | N3: =I3*L3/M3 -> 59084.149 | O3: =N3*H3 -> 21447546
A4: 3 | B4: 18 | C4: 19 | D4: Xã Phùng Chí Kiên, huyện Mỹ Hào, tỉnh Hưng Yên (nay là phường Phù Chí Kiên, Thị xã Mỹ Hào) | E4: https://www.google.com/maps/place/20%C2%B055'04.4%22N+106%C2%B006'03.3%22E/@20.9209034,106.0415759,6132m/data=!3m1!1e3!4m4!3m3!8m2!3d20.9178956!4d106.1009212!5m1!1e2?entry=ttu&g_ep=EgoyMDI1MDUyOC4wIKXMDSoASAFQAw%3D%3D | F4: Xã Phùng Chí Kiên, Thị xã Mỹ Hào: Đường Nguyễn Văn Linh (QL5) | G4: Quốc lộ 5A | H4: 447 | I4: 1800000 | J4: =J3 -> 45783 | K4: =K3 -> 47041 | L4: =(K4-J4)/365 -> 3.4465753 | M4: =M3 -> 70 | N4: =I4*L4/M4 -> 88626.223 | O4: =N4*H4 -> 39615922
A5: 4 | B5: 190 | C5: 1 | D5: xã Tiên Tiến, huyện Phù Cừ, tỉnh Hưng Yên | E5: https://www.google.com/maps?q=20.702213043804495,106.20842672811806&z=14&t=m&mapclient=embed | F5: Xã Tiên Tiến, huyện Phù Cừ: Đường tỉnh 386 (đường 202 cũ) | G5: Đường tỉnh 386 | H5: 250 | I5: 1200000 | J5: =J4 -> 45783 | K5: =K4 -> 47041 | L5: =(K5-J5)/365 -> 3.4465753 | M5: =M4 -> 70 | N5: =I5*L5/M5 -> 59084.149 | O5: =N5*H5 -> 14771037
A6: 5 | B6: 191 | C6: 1 | D6: =D5 -> xã Tiên Tiến, huyện Phù Cừ, tỉnh Hưng Yên | E6: https://www.google.com/maps?q=20.702213043804495,106.20842672811806&z=14&t=m&mapclient=embed | F6: Xã Tiên Tiến, huyện Phù Cừ: Đường tỉnh 386 (đường 202 cũ) | G6: Đường tỉnh 386 | H6: 5325 | I6: 1200000 | J6: =J5 -> 45783 | K6: =K5 -> 47041 | L6: =(K6-J6)/365 -> 3.4465753 | M6: =M5 -> 70 | N6: =I6*L6/M6 -> 59084.149 | O6: =N6*H6 -> 3.1462309e+08
A7: 6 | B7: 447 | C7: 12 | D7: Thị trấn Vương, huyện Tiên Lữ, tỉnh Hưng Yên | E7: https://www.google.com/maps/place/20%C2%B041'57.1%22N+106%C2%B007'03.3%22E/@20.699314,106.11507,790m/data=!3m1!1e3!4m4!3m3!8m2!3d20.6991936!4d106.1175806!5m1!1e2?entry=ttu&g_ep=EgoyMDI1MDUyOC4wIKXMDSoASAFQAw%3D%3D | F7: Thị trấn Vương, huyện Tiên Lữ: Quốc lộ 38B: Giao đường huyện 90 - Trung tâm Y tế huyện | G7: Quốc lộ 39B cũ (QL38B) | H7: 1279 | I7: 2300000 | J7: =J6 -> 45783 | K7: =K6 -> 47041 | L7: =(K7-J7)/365 -> 3.4465753 | M7: =M6 -> 70 | N7: =I7*L7/M7 -> 113244.62 | O7: =N7*H7 -> 1.4483987e+08
A8: 7 | B8: 30 | C8: 9 | D8: Phường Minh Khai, thị xã Hưng Yên, tỉnh Hưng Yên | E8: https://www.google.com/maps?q=20.645401713911337,106.04883236938197&z=14&t=m&mapclient=embed | F8: Thành phố Hưng Yên: Đường Bách Đằng | G8: Đường Bạch Đằng, Tân Nhân | H8: 1190 | I8: 1500000 | J8: =J7 -> 45783 | K8: =K7 -> 47041 | L8: =(K8-J8)/365 -> 3.4465753 | M8: =M7 -> 70 | N8: =I8*L8/M8 -> 73855.186 | O8: =N8*H8 -> 87887671
A9: 8 | B9: 189 | C9: 6 | D9: =D8 -> Phường Minh Khai, thị xã Hưng Yên, tỉnh Hưng Yên | E9: https://www.google.com/maps/place/20%C2%B038'46.9%22N+106%C2%B002'56.1%22E/@20.6463611,106.0489167,790m/data=!3m2!1e3!4b1!4m4!3m3!8m2!3d20.6463611!4d106.0489167!5m1!1e2?entry=ttu&g_ep=EgoyMDI1MDUyOC4wIKXMDSoASAFQAw%3D%3D | F9: Thành phố Hưng Yên: Phố Tân Nhân | G9: Phố Tân Nhân | H9: 1027 | I9: 1500000 | J9: =J8 -> 45783 | K9: =K8 -> 47041 | L9: =(K9-J9)/365 -> 3.4465753 | M9: =M8 -> 70 | N9: =I9*L9/M9 -> 73855.186 | O9: =N9*H9 -> 75849276
A10: 9 | B10: 30 | C10: 30 | D10: Thị trấn Ân Thi, huyện Ân Thi, tỉnh Hưng Yên | E10: https://www.google.com/maps?q=20.79926406966237,106.07295135977311&z=14&t=m&mapclient=embed | F10: Thị trấn Ân Thi, huyện Ân Thi: Quốc lộ 38 | G10: Quốc lộ 38B | H10: 891 | I10: 1900000 | J10: =J9 -> 45783 | K10: =K9 -> 47041 | L10: =(K10-J10)/365 -> 3.4465753 | M10: =M9 -> 70 | N10: =I10*L10/M10 -> 93549.902 | O10: =N10*H10 -> 83352963
A11: 10 | B11: 62 | C11: 4 | D11: Xã Nghĩa Dân, huyện Kim Động, tỉnh Hưng Yên | E11: https://www.google.com/maps?q=20.788316309359573,106.04753893962653&z=14&t=m&mapclient=embed | F11: Xã Nghĩa Dân, huyện Kim Động: Quốc lộ 39A | G11: Quốc lộ 39A | H11: 163.4 | I11: 2200000 | J11: =J10 -> 45783 | K11: =K10 -> 47041 | L11: =(K11-J11)/365 -> 3.4465753 | M11: =M10 -> 70 | N11: =I11*L11/M11 -> 108320.94 | O11: =N11*H11 -> 17699641
A12: 11 | B12: 27 | C12: 2 | D12: Thị trấn Khoái Châu, huyện Khoái Châu, tỉnh Hưng Yên | E12: https://www.google.com/maps?q=20.83896364920382,105.97812316086414&z=14&t=m&mapclient=embed | F12: Thị trấn Khoái Châu, huyện Khoái Châu: Đường có mặt cắt từ 7m đến dưới 15m | G12: Đường 205 | H12: 2215 | I12: 1800000 | J12: =J11 -> 45783 | K12: =K11 -> 47041 | L12: =(K12-J12)/365 -> 3.4465753 | M12: =M11 -> 70 | N12: =I12*L12/M12 -> 88626.223 | O12: =N12*H12 -> 1.9630708e+08
A13: 12 | B13: 2 + 11 + 18 + 34 | C13: 8 | D13: xã Trung Hưng, huyện Yên Mỹ, tỉnh Hưng Yên | E13: https://www.google.com/maps?q=20.877983168049933,106.03055000656886&z=14&t=m&mapclient=embed | F13: Xã Trung Hưng, huyện Yên Mỹ: Các trục đường có mặt cắt từ 7m đến dưới 15m | G13: Đường DH40 | H13: =6859 -> 6859 | I13: 1200000 | J13: =J12 -> 45783 | K13: =K12 -> 47041 | L13: =(K13-J13)/365 -> 3.4465753 | M13: =M12 -> 70 | N13: =I13*L13/M13 -> 59084.149 | O13: =N13*H13 -> 4.0525818e+08
A14: 13 | B14: 2 + 11 + 18 + 34 | C14: 8 | D14: xã Trung Hưng, huyện Yên Mỹ, tỉnh Hưng Yên | G14: Đường DH 40 (trong QH) | H14: 0 | L14: =(K14-J14)/365 -> 0 | N14: =I14*L14/M14 -> #DIV/0! | O14: =H14*I14 -> 0
A15: 13 | B15: 262 | C15: 15 | D15: Thị trấn Lương Bằng, huyện Kim Động, tỉnh Hưng Yên | E15: https://www.google.com/maps/place/20%C2%B044'33.1%22N+106%C2%B003'37.5%22E/@20.7431889,106.0608668,235m/data=!3m1!1e3!4m4!3m3!8m2!3d20.7425396!4d106.0604227!5m1!1e2?entry=ttu&g_ep=EgoyMDI1MDUyOC4wIKXMDSoASAFQAw%3D%3D | F15: Thị trấn Lương Bằng, huyện Kim Động: Tô Hiệu (đường huyện 60 cũ) | G15: Đường Tô Hiệu | H15: 1575.5 | I15: 1200000 | J15: =J13 -> 45783 | K15: =K13 -> 47041 | L15: =(K15-J15)/365 -> 3.4465753 | M15: =M13 -> 70 | N15: =I15*L15/M15 -> 59084.149 | O15: =N15*H15 -> 93087076
A16: 14 | B16: 7 | C16: 49 | D16: An Tảo, thành phố Hưng Yên, tỉnh Hưng Yên | E16: https://www.google.com/maps?q=20.67656390370864,106.0600323324148&z=14&t=m&mapclient=embed | F16: Thành phố Hưng Yên: Đường Nguyễn Văn Linh: Lê Văn Lương - Trường Trung cấp dậy nghề GTVT | G16: QL39A | H16: 3888 | I16: 6000000 | J16: =J15 -> 45783 | K16: =K15 -> 47041 | L16: =(K16-J16)/365 -> 3.4465753 | M16: =M15 -> 70 | N16: =I16*L16/M16 -> 295420.74 | O16: =N16*H16 -> 1.1485959e+09
A17: Tổng cộng | O17: =SUM(O2:O16) -> 3.0061242e+09

Sheet Tổng hợp giá trị
A1: TT | B1: Tài sản | C1: Diện tích (m²) | D1: Đơn giá (đồng/m²) | E1: Hệ số/ CLCL (%) | F1: Thành tiền (đồng)
A2: 1 | B2: ='1'!B12:E12 -> Giá trị lợi thế quyền thuê đất và tài sản gắn liền với đất tại thửa đất số: 67, tờ bản đồ số: 3 có địa chỉ: Thị trấn Văn Giang, huyện Văn Giang, tỉnh Hưng Yên, theo Giấy chứng nhận quyền sử dụng đất số: AI 086818, số vào sổ cấp GCN: T00926 QSDĐ/QĐ-2355/T-2007 do UBND tỉnh Hưng Yên cấp ngày 17/01/2008. Chủ sử dụng đất là Chi nhánh Công ty Cổ phần lương thực Hưng Yên tại Văn Giang (cập nhật ngày 22/5/2014) | F2: =SUM(F3:F4) -> 3.6278898e+08 | I2: =2025-2008 -> 17
A3: - | B3: Lợi thế quyền thuê đất trả tiền hàng năm | F3: =Đất!O2 -> 3.6278898e+08
A4: - | B4: Giá trị công trình gắn liền trên đất | E4: 1 | F4: ='Nhà vệ sinh, bảo vệ'!S3 -> 0 | G4: =F4*0.85 -> 0 | H4: =46*90*0.85 -> 3519 | I4: =100-2*I2 -> 66
A5: 2 | B5: ='2'!B12:E12 -> Giá trị lợi thế quyền thuê đất trả tiền hàng năm và tài sản gắn liền với đất tại thửa đất số: 449, tờ bản đồ số: 21 có địa chỉ: Xã Trưng Trắc, huyện Văn Lâm, tinh Hưng Yên, theo Giấy chứng nhận Giá trị Giá trị lợi thế quyền thuê đất trả tiền hàng năm số: AI 086822, số vào sổ cấp GCN: T00928 QSDĐ/QĐ-2353/T-2007 do UBND tỉnh Hưng Yên cấp ngày 17/01/2008. Chủ sử dụng đất là Chi nhánh Công ty Cổ phần lương thực Hưng Yên tại Yên Mỹ (cập nhật ngày 22/5/2014) | F5: =SUM(F6:F7) -> 21447546
A6: - | B6: Lợi thế quyền thuê đất trả tiền hàng năm | F6: =Đất!O3 -> 21447546
A7: - | B7: Giá trị công trình gắn liền trên đất | E7: 1 | F7: ='Nhà vệ sinh, bảo vệ'!S10 -> 0 | G7: =F7*0.5 -> 0
A8: 3 | B8: ='3'!B12:E12 -> Giá trị lợi thế quyền thuê đất trả tiền hàng năm và tài sản gắn liền với đất tại thửa đất số: 18, tờ bản đồ số: 19 có địa chỉ: Xã Phùng Chí Kiên, huyện Mỹ Hào, tỉnh Hưng Yên (nay là phường Phùng Chí Kiên, Thị xã Mỹ Hào, tỉnh Hưng Yên), theo Giấy chứng nhận Giá trị lợi thế quyền thuê đất trả tiền hàng năm số: AI 086824, số vào sổ cấp GCN: T00934 QSDĐ/QĐ-2352/T-2007 do UBND tỉnh Hưng Yên cấp ngày 17/01/2008. Chủ sử dụng đất là Công ty Cổ phần lương thực Hưng Yên (cập nhật ngày 22/5/2014) | F8: =SUM(F9:F10) -> 39615922
A9: - | B9: Lợi thế quyền thuê đất trả tiền hàng năm | F9: =Đất!O4 -> 39615922
A10: - | B10: Giá trị công trình gắn liền trên đất | F10: ='Nhà vệ sinh, bảo vệ'!S16 -> 0
A11: 4 | B11: ='4'!B12:E12 -> Giá trị lợi thế quyền thuê đất trả tiền hàng năm tại thửa đất số: 190, tờ bản đồ số: 01 có địa chỉ: xã Tiên Tiến, huyện Phù Cừ, tỉnh Hưng Yên, theo Giấy chứng nhận Giá trị lợi thế quyền thuê đất trả tiền hàng năm quyền sở hữu nhà ở và tài sản khác gắn liền với đất số: CH 344899, số vào sổ cấp GCN: CT 00750 do Sở Tài nguyên và Môi trường tỉnh Hưng Yên cấp ngày 31/5/2018. Chủ sử dụng đất là Công ty Cổ phần Lương thực Hưng Yên | F11: =SUM(F12:F13) -> 14771037
A12: - | B12: Lợi thế quyền thuê đất trả tiền hàng năm | F12: =Đất!O5 -> 14771037
A13: - | B13: Giá trị công trình gắn liền trên đất
A14: 5 | B14: ='5'!B12:E12 -> Giá trị lợi thế quyền thuê đất trả tiền hàng năm và tài sản gắn liền với đất tại thửa đất số: 191, tờ bản đồ số: 01 có địa chỉ: xã Tiên Tiến, huyện Phù Cừ, tỉnh Hưng Yên, theo Giấy chứng nhận Giá trị lợi thế quyền thuê đất trả tiền hàng năm quyền sở hữu nhà ở và tài sản khác gắn liền với đất số: CH 344900, số vào sổ cấp GCN: CT 00751 do Sở Tài nguyên và Môi trường tỉnh Hưng Yên cấp ngày 31/5/2018. Chủ sử dụng đất là Công ty Cổ phần Lương thực Hưng Yên | F14: =SUM(F15:F16) -> 3.1462309e+08
A15: - | B15: Lợi thế quyền thuê đất trả tiền hàng năm | F15: =Đất!O6 -> 3.1462309e+08
A16: - | B16: Giá trị công trình gắn liền trên đất | F16: ='Nhà vệ sinh, bảo vệ'!S18 -> 0
A17: 6 | B17: ='6'!B12:E12 -> Giá trị lợi thế quyền thuê đất trả tiền hàng năm tại thửa đất số: 447, tờ bản đồ số: 12 có địa chỉ: Thị trấn Vương, huyện Tiên Lữ, tỉnh Hưng Yên, theo Giấy chứng nhận Giá trị lợi thế quyền thuê đất trả tiền hàng năm số: AI 086820, số vào sổ cấp GCN: T00925 QSDĐ/QĐ-2354/T-2007 do UBND tỉnh Hưng Yên cấp ngày 17/01/2008. Chủ sử dụng đất là Chi nhánh Công ty Cổ phần lương thực Hưng Yên tại Ân Thi (cập nhật ngày 22/5/2014) | F17: =SUM(F18:F19) -> 1.4483987e+08
A18: - | B18: Lợi thế quyền thuê đất trả tiền hàng năm | F18: =Đất!O7 -> 1.4483987e+08
A19: - | B19: Giá trị công trình gắn liền trên đất | F19: ='Nhà vệ sinh, bảo vệ'!S20 -> 0
A20: 7 | B20: ='7'!B12:E12 -> Giá trị lợi thế quyền thuê đất trả tiền hàng năm tại thửa đất số: 30, tờ bản đồ số: 9 có địa chỉ: Phường Minh Khai, thị xã Hưng Yên, tỉnh Hưng Yên (nay là thành phố Hưng Yên, tỉnh Hưng Yên), theo Giấy chứng nhận Giá trị lợi thế quyền thuê đất trả tiền hàng năm số: AI 086828, số vào sổ cấp GCN: T00931 QSDĐ/QĐ-2352/T-2007 do UBND tỉnh Hưng Yên cấp ngày 17/01/2008. Chủ sử dụng đất là Công ty Cổ phần Lương thực Hưng Yên (cập nhật ngày 22/5/2014) | F20: =SUM(F21:F22) -> 87887671
A21: - | B21: Lợi thế quyền thuê đất trả tiền hàng năm | F21: =Đất!O8 -> 87887671
A22: - | B22: Giá trị công trình gắn liền trên đất | F22: ='Nhà vệ sinh, bảo vệ'!S22 -> 0
A23: 8 | B23: ='8'!B12:E12 -> Giá trị lợi thế quyền thuê đất trả tiền hàng năm tại thửa đất số: 189, tờ bản đồ số: 6 có địa chỉ: Phường Minh Khai, thị xã Hưng Yên, tỉnh Hưng Yên (nay là thành phố Hưng Yên, tỉnh Hưng Yên), theo Giấy chứng nhận Giá trị lợi thế quyền thuê đất trả tiền hàng năm số: AI 086827, số vào sổ cấp GCN: T00930 QSDĐ/QĐ-2352/T-2007 do UBND tỉnh Hưng Yên cấp ngày 17/01/2008. Chủ sử dụng đất là Công ty Cổ phần Lương thực Hưng Yên (cập nhật ngày 22/5/2014) | F23: =SUM(F24:F25) -> 75849276
A24: - | B24: Lợi thế quyền thuê đất trả tiền hàng năm | F24: =Đất!O9 -> 75849276
A25: - | B25: Giá trị công trình gắn liền trên đất | F25: ='Nhà vệ sinh, bảo vệ'!S26 -> 0
A26: 9 | B26: ='9'!B12:E12 -> Giá trị lợi thế quyền thuê đất trả tiền hàng năm và tài sản gắn liền với đất tại thửa đất số: 30, tờ bản đồ số: 30 có địa chỉ: Thị trấn Ân Thi, huyện Ân Thi, tỉnh Hưng Yên, theo Giấy chứng nhận Giá trị lợi thế quyền thuê đất trả tiền hàng năm số: AI 086819, số vào sổ cấp GCN: T00924 QSDĐ/QĐ-2354/T-2007 do UBND tỉnh Hưng Yên cấp ngày 17/01/2008. Chủ sử dụng đất là Chi nhánh Công ty Cổ phần lương thực Hưng Yên tại Ân Thi (cập nhật ngày 22/5/2014) | F26: =SUM(F27:F28) -> 83352963
A27: - | B27: Lợi thế quyền thuê đất trả tiền hàng năm | F27: =Đất!O10 -> 83352963
A28: - | B28: Giá trị công trình gắn liền trên đất | F28: ='Nhà vệ sinh, bảo vệ'!S30 -> 0
A29: 10 | B29: ='10'!B12:E12 -> Giá trị lợi thế quyền thuê đất trả tiền hàng năm và tài sản gắn liền với đất tại thửa đất số: 62, tờ bản đồ số: 4 có địa chỉ: Xã Nghĩa Dân, huyện Kim Động, tỉnh Hưng Yên, theo Giấy chứng nhận Giá trị lợi thế quyền thuê đất trả tiền hàng năm số: AI 086826, số vào sổ cấp GCN: T00933 QSDĐ/QĐ-2352/T-2007 do UBND tỉnh Hưng Yên cấp ngày 17/01/2008. Chủ sử dụng đất là Công ty Cổ phần lương thực Hưng Yên (cập nhật ngày 22/5/2014) | F29: =SUM(F30:F31) -> 17699641
A30: - | B30: Lợi thế quyền thuê đất trả tiền hàng năm | F30: =Đất!O11 -> 17699641
A31: - | B31: Giá trị công trình gắn liền trên đất | F31: ='Nhà vệ sinh, bảo vệ'!S41 -> 0
A32: 11 | B32: ='11'!B12:E12 -> Giá trị lợi thế quyền thuê đất trả tiền hàng năm và tài sản gắn liền với đất tại thửa đất số: 27, tờ bản đồ số: 2 có địa chỉ: Thị trấn Khoái Châu, huyện Khoái Châu, tỉnh Hưng Yên, theo Giấy chứng nhận Giá trị lợi thế quyền thuê đất trả tiền hàng năm số: AI 086817, số vào sổ cấp GCN: T00927 QSDĐ/QĐ-2355/T-2007 do UBND tỉnh Hưng Yên cấp ngày 17/01/2008. Chủ sử dụng đất là Chi nhánh Công ty Cổ phần lương thực Hưng Yên tại Văn Giang (cập nhật ngày 22/5/2014) | F32: =SUM(F33:F34) -> 4.0314868e+08
A33: - | B33: Lợi thế quyền thuê đất trả tiền hàng năm | F33: =Đất!O12 -> 1.9630708e+08
A34: - | B34: Giá trị công trình gắn liền trên đất | F34: ='Nhà vệ sinh, bảo vệ'!S45 -> 206841600
A35: 12 | B35: ='12'!B12:E12 -> Giá trị lợi thế quyền thuê đất trả tiền hàng năm và tài sản gắn liền với đất tại thửa đất số: 2 + 11+ 18 + 34, tờ bản đồ số: 8 có địa chỉ: xã Trung Hưng, huyện Yên Mỹ, tỉnh Hưng Yên, theo Giấy chứng nhận Giá trị lợi thế quyền thuê đất trả tiền hàng năm quyền sở hữu nhà ở và tài sản khác gắn liền với đất số: BA 914042, số vào sổ cấp GCN: CT 00019 do UBND tỉnh Hưng Yên cấp ngày 24/02/2010. Chủ sử dụng đất là Chi nhánh Công ty Cổ phần Lương thực Hưng Yên tại Yên Mỹ | F35: =SUM(F36:F37) -> 4.0525818e+08
A36: - | B36: Lợi thế quyền thuê đất trả tiền hàng năm | F36: =Đất!O13 -> 4.0525818e+08
A37: - | B37: Giá trị công trình gắn liền trên đất | F37: ='Nhà vệ sinh, bảo vệ'!S51 -> 0
A38: 13 | B38: ='13'!B12:E12 -> Giá trị lợi thế quyền thuê đất trả tiền hàng năm tại thửa đất số: 262, tờ bản đồ số: 15 có địa chỉ: Thị trấn Lương Bằng, huyện Kim Động, tỉnh Hưng Yên, theo Giấy chứng nhận Giá trị lợi thế quyền thuê đất trả tiền hàng năm số: AI 086825, số vào sổ cấp GCN: T00932 QSDĐ/QĐ-2352/T-2007 do UBND tỉnh Hưng Yên cấp ngày 17/01/2008. Chủ sử dụng đất là Công ty Cổ phần lương thực Hưng Yên (cập nhật ngày 22/5/2014) | F38: =SUM(F39:F40) -> 93087076
A39: - | B39: Lợi thế quyền thuê đất trả tiền hàng năm | F39: =Đất!O15 -> 93087076
A40: - | B40: Giá trị công trình gắn liền trên đất | F40: ='Nhà vệ sinh, bảo vệ'!S66 -> 0
A41: 14 | B41: ='14'!B12:E12 -> Giá trị lợi thế quyền thuê đất trả tiền hàng năm và tài sản gắn liền với đất tại thửa đất số: 7, tờ bản đồ số: 49 có địa chỉ: Phường An Tảo, thành phố Hưng Yên, tỉnh Hưng Yên, theo Giấy chứng nhận Giá trị lợi thế quyền thuê đất trả tiền hàng năm quyền sở hữu nhà ở và tài sản khác gắn liền với đất số: BA 914040, số vào sổ cấp GCN: CT 00018 do UBND tỉnh Hưng Yên cấp ngày 24/02/2010. Chủ sử dụng đất là Công ty Cổ phần Lương thực Hưng Yên | F41: =SUM(F42:F43) -> 1.3183494e+09
A42: - | B42: Lợi thế quyền thuê đất trả tiền hàng năm | F42: =Đất!O16 -> 1.1485959e+09
A43: - | B43: Giá trị công trình gắn liền trên đất | F43: ='Nhà vệ sinh, bảo vệ'!S68 -> 169753500
B44: Tổng cộng | F44: =SUM(F2:F43)/2 -> 3.3827193e+09 | G44: =G4+G7 -> 0
B45: Làm tròn | F45: =ROUND(F44,-6) -> 3383000000 | G45: =60*92 -> 5520
B46: ="(Bằng chữ: "&Sheet18!B13&" đồng chẵn ./.)" -> (Bằng chữ: Ba tỷ ba trăm tám mươi ba triệu đồng chẵn ./.) | G46: =300000000/C4 -> #DIV/0!
D50: =5000000*C4 -> 0

Sheet Sheet1

Sheet Sheet18
A1: Số cần đọc là: | B1: ='Tổng hợp giá trị'!F45 -> 3383000000
A2: Bằng chữ: | B2: =B13 -> Ba tỷ ba trăm tám mươi ba triệu
A3: Đọc thành tiền: | B3: =B13&" đồng./." -> Ba tỷ ba trăm tám mươi ba triệu đồng./.
A7: Bảng dưới đây có thể copy sang 1 sheet để ẩn:
A8: =B1 -> 3383000000 | B8: =RIGHT("000000000000"&ROUND(A8,0),12) -> 003383000000 | C8: 1 | D8: 2 | E8: 3 | F8: 4 | G8: 5 | H8: 6 | I8: 7 | J8: 8 | K8: 9 | L8: 10 | M8: 11 | N8: 12
C9: =VALUE(MID(B8,C8,1)) -> 0 | D9: =VALUE(MID(B8,D8,1)) -> 0 | E9: =VALUE(MID(B8,E8,1)) -> 3 | F9: =VALUE(MID(B8,F8,1)) -> 3 | G9: =VALUE(MID(B8,G8,1)) -> 8 | H9: =VALUE(MID(B8,H8,1)) -> 3 | I9: =VALUE(MID(B8,I8,1)) -> 0 | J9: =VALUE(MID(B8,J8,1)) -> 0 | K9: =VALUE(MID(B8,K8,1)) -> 0 | L9: =VALUE(MID(B8,L8,1)) -> 0 | M9: =VALUE(MID(B8,M8,1)) -> 0 | N9: =VALUE(MID(B8,N8,1)) -> 0
C10: =SUM(C9:C9) -> 0 | D10: =SUM(C9:D9) -> 0 | E10: =SUM(C9:E9) -> 3 | F10: =SUM(F9:F9) -> 3 | G10: =SUM(F9:G9) -> 11 | H10: =SUM(F9:H9) -> 14 | I10: =SUM(I9:I9) -> 0 | J10: =SUM(I9:J9) -> 0 | K10: =SUM(I9:K9) -> 0 | L10: =SUM(L9:L9) -> 0 | M10: =SUM(L9:M9) -> 0 | N10: =SUM(L9:N9) -> 0
C11: =IF(C9=0,"",CHOOSE(C9,"một","hai","ba","bốn","năm","sáu","bảy","tám","chín")) | D11: =IF(D9=0,IF(AND(C9<>0,E9<>0),"lẻ",""),CHOOSE(D9,"mười","hai","ba","bốn","năm","sáu","bảy","tám","chín")) | E11: =IF(E9=0,"",CHOOSE(E9,IF(D9>1,"mốt","một"),"hai","ba","bốn",IF(D9=0,"năm","lăm"),"sáu","bảy","tám","chín")) -> ba | F11: =IF(F9=0,"",CHOOSE(F9,"một","hai","ba","bốn","năm","sáu","bảy","tám","chín")) -> ba | G11: =IF(G9=0,IF(AND(F9<>0,H9<>0),"linh",""),CHOOSE(G9,"mười","hai","ba","bốn","năm","sáu","bảy","tám","chín")) -> tám | H11: =IF(H9=0,"",CHOOSE(H9,IF(G9>1,"mốt","một"),"hai","ba","bốn",IF(G9=0,"năm","lăm"),"sáu","bảy","tám","chín")) -> ba | I11: =IF(I9=0,"",CHOOSE(I9,"một","hai","ba","bốn","năm","sáu","bảy","tám","chín")) | J11: =IF(J9=0,IF(AND(I9<>0,K9<>0),"lẻ",""),CHOOSE(J9,"mười","hai","ba","bốn","năm","sáu","bảy","tám","chín")) | K11: =IF(K9=0,"",CHOOSE(K9,IF(J9>1,"mốt","một"),"hai","ba","bốn",IF(J9=0,"năm","lăm"),"sáu","bảy","tám","chín")) | L11: =IF(L9=0,"",CHOOSE(L9,"một","hai","ba","bốn","năm","sáu","bảy","tám","chín")) | M11: =IF(M9=0,IF(AND(L9<>0,N9<>0),"lẻ",""),CHOOSE(M9,"mười","hai","ba","bốn","năm","sáu","bảy","tám","chín")) | N11: =IF(N9=0,"",CHOOSE(N9,IF(M9>1,"mốt","một"),"hai","ba","bốn",IF(M9=0,"năm","lăm"),"sáu","bảy","tám","chín"))
C12: =IF(C9=0,"","trăm") | D12: =IF(D9=0,"",IF(D9=1,"","mươi")) | E12: =IF(AND(E9=0,E10=0),"","tỷ") -> tỷ | F12: =IF(F9=0,"","trăm") -> trăm | G12: =IF(G9=0,"",IF(G9=1,"","mươi")) -> mươi | H12: =IF(AND(H9=0,H10=0),"","triệu") -> triệu | I12: =IF(I9=0,"","trăm") | J12: =IF(J9=0,"",IF(J9=1,"","mươi")) | K12: =IF(AND(K9=0,K10=0),"","ngàn") | L12: =IF(L9=0,"","trăm") | M12: =IF(M9=0,"",IF(M9=1,"","mươi"))
B13: =UPPER(LEFT(TRIM(IF(A8=0,"không đồng.",C11&" "&C12&" "&D11&" "&D12&" "&E11&" "&E12&" "&F11&" "&F12&" "&G11&" "&G12&" "&H11&" "&H12&" "&I11&" "&I12&" "&J11&" "&J12&" "&K11&" "&K12&" "&L11&" "&L12&" "&M11&" "&M12&" "&N11&" "&N12)),1))&RIGHT(TRIM(IF(A8=0,"không đồng.",C11&" "&C12&" "&D11&" "&D12&" "&E11&" "&E12&" "&F11&" "&F12&" "&G11&" "&G12&" "&H11&" "&H12&" "&I11&" "&I12&" "&J11&" "&J12&" "&K11&" "&K12&" "&L11&" "&L12&" "&M11&" "&M12&" "&N11&" "&N12)),LEN(TRIM(IF(A8=0,"không đồng.",C11&" "&C12&" "&D11&" "&D12&" "&E11&" "&E12&" "&F11&" "&F12&" "&G11&" "&G12&" "&H11&" "&H12&" "&I11&" "&I12&" "&J11&" "&J12&" "&K11&" "&K12&" "&L11&" "&L12&" "&M11&" "&M12&" "&N11&" "&N12)))-1) -> Ba tỷ ba trăm tám mươi ba triệu
